BEGIN:VCALENDAR
VERSION:2.0
PRODID:-//The Environmental Center - ECPv6.15.20//NONSGML v1.0//EN
CALSCALE:GREGORIAN
METHOD:PUBLISH
X-ORIGINAL-URL:https://envirocenter.org
X-WR-CALDESC:Events for The Environmental Center
REFRESH-INTERVAL;VALUE=DURATION:PT1H
X-Robots-Tag:noindex
X-PUBLISHED-TTL:PT1H
BEGIN:VTIMEZONE
TZID:America/Los_Angeles
BEGIN:DAYLIGHT
TZOFFSETFROM:-0800
TZOFFSETTO:-0700
TZNAME:PDT
DTSTART:20230312T100000
END:DAYLIGHT
BEGIN:STANDARD
TZOFFSETFROM:-0700
TZOFFSETTO:-0800
TZNAME:PST
DTSTART:20231105T090000
END:STANDARD
BEGIN:DAYLIGHT
TZOFFSETFROM:-0800
TZOFFSETTO:-0700
TZNAME:PDT
DTSTART:20240310T100000
END:DAYLIGHT
BEGIN:STANDARD
TZOFFSETFROM:-0700
TZOFFSETTO:-0800
TZNAME:PST
DTSTART:20241103T090000
END:STANDARD
BEGIN:DAYLIGHT
TZOFFSETFROM:-0800
TZOFFSETTO:-0700
TZNAME:PDT
DTSTART:20250309T100000
END:DAYLIGHT
BEGIN:STANDARD
TZOFFSETFROM:-0700
TZOFFSETTO:-0800
TZNAME:PST
DTSTART:20251102T090000
END:STANDARD
END:VTIMEZONE
BEGIN:VEVENT
DTSTART;TZID=America/Los_Angeles:20240904T170000
DTEND;TZID=America/Los_Angeles:20240904T180000
DTSTAMP:20260424T150803
CREATED:20240821T164150Z
LAST-MODIFIED:20240821T164150Z
UID:10004490-1725469200-1725472800@envirocenter.org
SUMMARY:Energize Bend Happy Hour
DESCRIPTION:Let’s build a cleaner\, safer Bend! \nGrab a refreshment and hear from Energize Bend and Solarize Deschutes on how we can help decarbonize Bend.
URL:https://envirocenter.org/event/energize-bend-happy-hour/
LOCATION:Broken Top Bottle Shop\, 1740 NW Pence Ln #1\, Bend\, OR\, 97701\, United States
CATEGORIES:Advocacy,Climate,Energy
ATTACH;FMTTYPE=image/jpeg:https://envirocenter.org/wp-content/uploads/2024/08/3.jpg
ORGANIZER;CN="Energize Bend":MAILTO:kristi@energizebend.org
GEO:44.0633684;-121.3389538
X-APPLE-STRUCTURED-LOCATION;VALUE=URI;X-ADDRESS=Broken Top Bottle Shop 1740 NW Pence Ln #1 Bend OR 97701 United States;X-APPLE-RADIUS=500;X-TITLE=1740 NW Pence Ln #1:geo:-121.3389538,44.0633684
END:VEVENT
BEGIN:VEVENT
DTSTART;TZID=America/Los_Angeles:20240917T113000
DTEND;TZID=America/Los_Angeles:20240917T123000
DTSTAMP:20260424T150803
CREATED:20240823T201555Z
LAST-MODIFIED:20240823T201555Z
UID:10004495-1726572600-1726576200@envirocenter.org
SUMMARY:The Power Of Food Sovereignty: Diane Wilson And Spring Alaska In Conversation
DESCRIPTION:Renowned author of The Seed Keeper\, Diane Wilson (Dakota)\, and founder/CEO of Sakari Farms\, Upingaksraq Spring Alaska Schreiner\, will discuss the transformative power of literature and food sovereignty work in creating positive change. This event is free and open to the public. Space is limited so registration is required. \nREGISTER HERE
URL:https://envirocenter.org/event/the-power-of-food-sovereignty-diane-wilson-and-spring-alaska-in-conversation/
LOCATION:Pine Meadow Ranch Center for Arts & Agriculture\, 68467 Three Creeks Rd\, Sisters\, OR\, 97759\, United States
CATEGORIES:Climate,Food,Garden
ATTACH;FMTTYPE=image/jpeg:https://envirocenter.org/wp-content/uploads/2024/08/social_media_post_diane_wilson.jpg
GEO:44.2782178;-121.5550827
X-APPLE-STRUCTURED-LOCATION;VALUE=URI;X-ADDRESS=Pine Meadow Ranch Center for Arts & Agriculture 68467 Three Creeks Rd Sisters OR 97759 United States;X-APPLE-RADIUS=500;X-TITLE=68467 Three Creeks Rd:geo:-121.5550827,44.2782178
END:VEVENT
BEGIN:VEVENT
DTSTART;TZID=America/Los_Angeles:20240919T180000
DTEND;TZID=America/Los_Angeles:20240919T200000
DTSTAMP:20260424T150803
CREATED:20240827T202909Z
LAST-MODIFIED:20240827T202909Z
UID:10004498-1726768800-1726776000@envirocenter.org
SUMMARY:Bend Celebration: 50 years of keeping Oregon wild
DESCRIPTION:This year\, Oregon Wild celebrates 50 years of protecting wildlands\, wildlife\, and waters and we are planning events all over the state to invite our members\, supporters\, partners\, and lovers of the wild in all corners of the state to join us for gatherings of celebration and community. \nJoin us in Worthy Brewing’s Hop Mahal room in Bend\, where we’ll provide drinks and some appetizers and celebrate successes protecting local public lands and look to the future of what comes next. We invite you to reconnect with old friends\, meet new ones\, and plug in to Oregon Wild’s current campaigns at this event as we look to a future of protected forests\, thriving native wildlife\, and reconnected ecosystems. \nPlease RSVP by September 6 for this event.
URL:https://envirocenter.org/event/bend-celebration-50-years-of-keeping-oregon-wild/
LOCATION:Worthy Brewing\, 495 Northeast Bellevue Drive\, Bend\, OR\, 97701\, United States
CATEGORIES:Climate,Public Lands
ATTACH;FMTTYPE=image/jpeg:https://envirocenter.org/wp-content/uploads/2024/08/WizardFalls.DanielWhite-scaled-1.jpg
ORGANIZER;CN="Oregon Wild":MAILTO:ph@oregonwild.org
GEO:44.0553359;-121.2604571
X-APPLE-STRUCTURED-LOCATION;VALUE=URI;X-ADDRESS=Worthy Brewing 495 Northeast Bellevue Drive Bend OR 97701 United States;X-APPLE-RADIUS=500;X-TITLE=495 Northeast Bellevue Drive:geo:-121.2604571,44.0553359
END:VEVENT
BEGIN:VEVENT
DTSTART;TZID=America/Los_Angeles:20240928T090000
DTEND;TZID=America/Los_Angeles:20240928T180000
DTSTAMP:20260424T150803
CREATED:20240731T204541Z
LAST-MODIFIED:20240828T231503Z
UID:10004467-1727514000-1727546400@envirocenter.org
SUMMARY:Green Building Tour 2024
DESCRIPTION:REGISTER HERE! \nThe Green Building Tour is a showcase for real-world solutions that address the climate impact of buildings in Central Oregon. From architects and contractors to DIYers\, the tour’s sites illuminate how high performance structures can be healthy\, cost effective\, and impactful options for all. Green buildings’ benefits are often invisible to both consumers in addition to building sector professionals. The Green Building Tour addresses this by connecting attendees with the tools and know-how that break down barriers to building more sustainably. This highly anticipated event brings building better enthusiasts into conversation with one another about paths to climate-resilient living. \nFor the 22nd year of the Green Building Tour we are excited to try a slightly different structure. Themes include Building Dense Livable Cities\, Electrification\, Water Resiliency in the High Desert\, and Healthy Materials Life Cycle Analysis (LCA). The Environmental Center will host participants for a full day of theme-based activities on September 28th. Part I: Summit – From 9:00 to 1:00 community members gather at OSU Cascades\, Tykeson Hall for featured speakers\, community workshops\, and educational booths. Part II: Tour – From 1:00-5:00 pm\, we’ll see themes demonstrated in the field with a tour of four community sites that highlight local energy-saving solutions that connect to our themes. The Green Building Tour will inspire attendees to take action wherever they are on their journey to living more sustainably. \n \nREGISTER HERE
URL:https://envirocenter.org/event/green-building-tour-2024/
LOCATION:OSU Cascades\, 2600 Northwest College Way\, Bend\, OR\, 97701\, United States
CATEGORIES:Climate,Energy,Sustainability
ATTACH;FMTTYPE=image/png:https://envirocenter.org/wp-content/uploads/2024/07/GBT-2024-banner-1-1.png
ORGANIZER;CN="The Environmental Center":MAILTO:info@envirocenter.org
GEO:44.0713603;-121.3485532
X-APPLE-STRUCTURED-LOCATION;VALUE=URI;X-ADDRESS=OSU Cascades 2600 Northwest College Way Bend OR 97701 United States;X-APPLE-RADIUS=500;X-TITLE=2600 Northwest College Way:geo:-121.3485532,44.0713603
END:VEVENT
END:VCALENDAR