BEGIN:VCALENDAR
VERSION:2.0
PRODID:-//The Environmental Center - ECPv6.15.20//NONSGML v1.0//EN
CALSCALE:GREGORIAN
METHOD:PUBLISH
X-WR-CALNAME:The Environmental Center
X-ORIGINAL-URL:https://envirocenter.org
X-WR-CALDESC:Events for The Environmental Center
REFRESH-INTERVAL;VALUE=DURATION:PT1H
X-Robots-Tag:noindex
X-PUBLISHED-TTL:PT1H
BEGIN:VTIMEZONE
TZID:America/Los_Angeles
BEGIN:DAYLIGHT
TZOFFSETFROM:-0800
TZOFFSETTO:-0700
TZNAME:PDT
DTSTART:20230312T100000
END:DAYLIGHT
BEGIN:STANDARD
TZOFFSETFROM:-0700
TZOFFSETTO:-0800
TZNAME:PST
DTSTART:20231105T090000
END:STANDARD
BEGIN:DAYLIGHT
TZOFFSETFROM:-0800
TZOFFSETTO:-0700
TZNAME:PDT
DTSTART:20240310T100000
END:DAYLIGHT
BEGIN:STANDARD
TZOFFSETFROM:-0700
TZOFFSETTO:-0800
TZNAME:PST
DTSTART:20241103T090000
END:STANDARD
BEGIN:DAYLIGHT
TZOFFSETFROM:-0800
TZOFFSETTO:-0700
TZNAME:PDT
DTSTART:20250309T100000
END:DAYLIGHT
BEGIN:STANDARD
TZOFFSETFROM:-0700
TZOFFSETTO:-0800
TZNAME:PST
DTSTART:20251102T090000
END:STANDARD
END:VTIMEZONE
BEGIN:VEVENT
DTSTART;TZID=America/Los_Angeles:20240601T090000
DTEND;TZID=America/Los_Angeles:20240601T110000
DTSTAMP:20260424T072649
CREATED:20240516T211750Z
LAST-MODIFIED:20240516T211750Z
UID:10004425-1717232400-1717239600@envirocenter.org
SUMMARY:Vision Roadshow: Drake-to-Juniper Event
DESCRIPTION:Since the release of the five-year Vision Action Plan\, Envision Bend has been working with vision lead partners to align efforts\, spark action\, and track collective progress. In the coming months\, Envision Bend will be hosting a Summer Vision Roadshow at various coffee shops and breweries around town for the community to learn more about various strategies. The first event on June 1st focuses on the ‘Drake to Juniper Pedestrian Corridor’ vision strategy. \nMeet outside the Commons Cafe at 9:00am for a 2.25-mile group bike ride in partnership with Bend Bikes to Juniper Park via the Midtown Crossings at Franklin and Greenwood. We will reconvene at 10am on the patio of the Commons Cafe to hear from the City transportation planning staff and Bend Bikes with updates on improvements to our Midtown Crossings\, the Hawthorne Bridge\, and the community’s shared vision to connect Drake Park to Juniper Park as outlined in the Vision Action Plan. \nStay tuned for additional Vision-themed events throughout the summer\, such as ‘Railroad Safety and Redevelopment’ on June 27th at Bevel Brewing; a strategy that was created from public input to move the railroad and address safety concerns. There will also be events focused on ‘Expanding Access to Childcare’ in July\, ‘Outdoors for Everyone’ in August\, and ‘City of Belonging’ in September. \nTo register\, visit envisionbend.org and sign up for the Envision Bend newsletter to stay up-to-date. Join Envision Bend on June 1st to learn more about the Vision Action Plan\, meet someone new\, and bring your questions to ask organizations that are taking the Lead on these vision strategies. \nEnvision Bend is a nonpartisan\, community nonprofit organization. Its mission is to bring diverse stakeholders together to educate\, engage\, and empower all members of the Bend community to have a voice in our community’s future. In 2021\, as the successor organization to Bend 2030\, it reorganized and rebranded itself as Envision Bend. For more\, please visit envisionbend.org or facebook.com/EnvisionBend.
URL:https://envirocenter.org/event/vision-roadshow-drake-to-juniper-event/
LOCATION:The Commons Cafe and Taproom\, 875 NW BROOKS ST.\, Bend\, OR\, 97703\, United States
CATEGORIES:Climate,Sustainability,Transportation
ATTACH;FMTTYPE=image/jpeg:https://envirocenter.org/wp-content/uploads/2024/05/https___cdn.evbuc_.com_images_766439709_1711345121853_1_original.jpg
GEO:44.0593966;-121.3150062
X-APPLE-STRUCTURED-LOCATION;VALUE=URI;X-ADDRESS=The Commons Cafe and Taproom 875 NW BROOKS ST. Bend OR 97703 United States;X-APPLE-RADIUS=500;X-TITLE=875 NW BROOKS ST.:geo:-121.3150062,44.0593966
END:VEVENT
BEGIN:VEVENT
DTSTART;TZID=America/Los_Angeles:20240605T173000
DTEND;TZID=America/Los_Angeles:20240605T183000
DTSTAMP:20260424T072649
CREATED:20240517T194657Z
LAST-MODIFIED:20240517T194657Z
UID:10004429-1717608600-1717612200@envirocenter.org
SUMMARY:Free Home Energy Assessment Community Info Session
DESCRIPTION:RSVP HERE! \nFind out if you qualify for discounts that may cover the full cost of energy efficiency home upgrades! Homeowners and renters are welcome. \nPlease join us on June 5th\, from 5:30pm to 6:30pm to learn about The Environmental Center’s brand new Free Home Energy Assessment Program! This new program could help you access free or low cost energy upgrades. Home upgrades like insulation\, efficient heating systems\, hybrid water heaters\, and new windows\, can increase the comfort of your home and save you money on your energy bills. This information session is a great opportunity to see if you qualify*\, ask questions\, chat with our program manager\, and sign up to participate. \nQualification criteria: \nYou identify as a person of color\, a person living with disabilities\, a rural resident\, or a person with low to moderate income \nAND \nYou are a homeowner or renter in a single-family home\, manufactured home\, or multifamily residence that is an attached side-by-side unit \nAND \nYou live in Oregon and heat your home with electricity or natural gas provided by Pacific Power or Cascade Natural Gas.
URL:https://envirocenter.org/event/free-home-energy-assessment-community-info-session/
LOCATION:The Environmental Center\, 16 NW Kansas Avenue\, Bend\, OR\, 97703
CATEGORIES:Climate,Energy
ATTACH;FMTTYPE=image/jpeg:https://envirocenter.org/wp-content/uploads/2023/05/Energy-Efficiency-Lives-Here.jpg
ORGANIZER;CN="The Environmental Center":MAILTO:info@envirocenter.org
GEO:44.055562;-121.3143083
X-APPLE-STRUCTURED-LOCATION;VALUE=URI;X-ADDRESS=The Environmental Center 16 NW Kansas Avenue Bend OR 97703;X-APPLE-RADIUS=500;X-TITLE=16 NW Kansas Avenue:geo:-121.3143083,44.055562
END:VEVENT
BEGIN:VEVENT
DTSTART;TZID=America/Los_Angeles:20240605T180000
DTEND;TZID=America/Los_Angeles:20240605T201500
DTSTAMP:20260424T072649
CREATED:20240521T013543Z
LAST-MODIFIED:20240521T013543Z
UID:10004439-1717610400-1717618500@envirocenter.org
SUMMARY:Line 3 Documentary: Stop New Gas Infrastructure in Central Oregon
DESCRIPTION:Join 350 Deschutes – We’re organizing to Stop the GTN Pipeline Gas Expansion. RSVP Now! \nSpeakers: \nRiccardo Waites: Executive\, Central Oregon Black Leaders Assembly will discuss the effects of gas expansion on vulnerable communities. Will your neighborhood be affected? \nNora Harren\, 350 Deschutes\, will discuss the health and environmental impacts of the compressor stations in SunRiver\, and elsewhere. How can you protect yourself and your family? \nWatch the award winning documentary:  “LN3: Seven Teachings of the Ashinaabe Resistance\,” a powerful documentary that delves into the resilience and teachings of the Ashinaabe people in the face of pipeline development in their region. \nFollowing the screening\, we will engage in a panel discussion focusing on the impacts of the GTN Xpress pipeline project on Central Oregon communities and the environment. Our panelists will explore the environmental\, social\, and economic implications of the project and discuss Steps we  can take to stop the pipeline in our backyard. \nThis is more than just an event—it’s a call to action. Don’t miss your chance to be part of this vital conversation! \nRSVP Now: https://actionnetwork.org/events/line-3-documentary-stop-new-gas-infrastructure-in-central-oregon  \n$5 donation per family appreciated\, but not required.
URL:https://envirocenter.org/event/line-3-documentary-stop-new-gas-infrastructure-in-central-oregon/
LOCATION:OR
CATEGORIES:Advocacy,Climate,Energy,Equity,Film,Public Lands,Racial Justice,Social Justice
ATTACH;FMTTYPE=image/jpeg:https://envirocenter.org/wp-content/uploads/2024/05/Stop_line3_red.jpg
ORGANIZER;CN="350 Deschutes":MAILTO:info@350deschutes.org
END:VEVENT
BEGIN:VEVENT
DTSTART;TZID=America/Los_Angeles:20240606T140000
DTEND;TZID=America/Los_Angeles:20240606T160000
DTSTAMP:20260424T072649
CREATED:20240603T231328Z
LAST-MODIFIED:20240603T231328Z
UID:10004443-1717682400-1717689600@envirocenter.org
SUMMARY:Discover Fish Migration and Conservation Efforts: A Guided Tour of Pelton Round Butte
DESCRIPTION:Come tour the Pelton Round Butte Fish Passage and Hatchery Facilities On this tour you’ll get to see juvenile steelhead making their way downstream to the ocean\, and adult Chinook that have recently returned to the hatchery. Come learn about collaborative efforts to reintroduce anadromous fish to the upper basin and restore the habitat that their survival depends upon. \nTour Leaders:\n– Bobby Brunoe\, CEO & Secretary/Treasurer of the Confederated Tribes of Warm Springs and the DRC Board Chair\n– Megan Hill\, Hydro Environmental Manager\, Portland General Electric \nSpace is limited to 50 tickets \nGET TICKETS
URL:https://envirocenter.org/event/discover-fish-migration-and-conservation-efforts-a-guided-tour-of-pelton-round-butte/
LOCATION:Round Butte Overlook Park\, From Madras:  Jct. of Belmont Lane & Hwy. 97\, travel west on Belmont Lane for 6.8 miles to Mountain View Drive\, turn south onto Mountain View Drive for 1.7 miles to access road and sign to Round Butte Overlook Park.  Turn west onto signed access road for 0.8 mile to Round Butte Overlook Park.\, OR\, United States
CATEGORIES:Climate,Science,Water
ATTACH;FMTTYPE=image/jpeg:https://envirocenter.org/wp-content/uploads/2024/06/unnamed-1.jpg
ORGANIZER;CN="Deschutes River Conservancy":MAILTO:marisa@deschutesriver.org
GEO:13.0826802;80.2707184
X-APPLE-STRUCTURED-LOCATION;VALUE=URI;X-ADDRESS=Round Butte Overlook Park From Madras:  Jct. of Belmont Lane & Hwy. 97 travel west on Belmont Lane for 6.8 miles to Mountain View Drive turn south onto Mountain View Drive for 1.7 miles to access road and sign to Round Butte Overlook Park.  Turn west onto signed access road for 0.8 mile to Round Butte Overlook Park. OR United States;X-APPLE-RADIUS=500;X-TITLE=From Madras:  Jct. of Belmont Lane & Hwy. 97\, travel west on Belmont Lane for 6.8 miles to Mountain View Drive\, turn south onto Mountain View Drive for 1.7 miles to access road and sign to Round Butte Overlook Park.  Turn west onto signed access road for 0.8 mile to Round Butte Overlook Park.:geo:80.2707184,13.0826802
END:VEVENT
BEGIN:VEVENT
DTSTART;TZID=America/Los_Angeles:20240620T113000
DTEND;TZID=America/Los_Angeles:20240620T130000
DTSTAMP:20260424T072649
CREATED:20240520T210824Z
LAST-MODIFIED:20240520T210824Z
UID:10004437-1718883000-1718888400@envirocenter.org
SUMMARY:City Club: How Wildfire Decisions are Made
DESCRIPTION:The focus of this forum is to discuss how decisions are made to fight a wildfire when they start. Particularly\, how decisions differ based on the area and/or type of land where they start: wilderness\, urban interface\, grasslands and tribal lands. \n\nWhat agencies are involved and how do they coordinate?\nWhat are decision-making points for fire managers?\nWhere does funding come from?\nWhy do some fires receive massive resources and others do not?\n\nSpeakers: \n\nKevin Moriarty\,  Deschutes County Forester\nShawn Jaca\, Central Oregon Fire Management\, US Forest Service\nTrey Leonard\, Confederated Tribes of Warm Springs\nJames Osborne\, Central Oregon Fire Management\, BLM\n\nModerated by: Jessica Neujahr\, Oregon Dept of Forestry \nA feature story on the topic will appear in the June 16 issue of The Bulletin. \nREGISTER HERE
URL:https://envirocenter.org/event/city-club-how-wildfire-decisions-are-made/
LOCATION:Unitarian Universalist Fellowship\, 61980 Skyline Ranch Road\, Bend\, OR\, United States
CATEGORIES:Climate,Public Lands,Water
ATTACH;FMTTYPE=image/jpeg:https://envirocenter.org/wp-content/uploads/2024/05/June-20.jpg
ORGANIZER;CN="City Club of Central Oregon":MAILTO:info@cityclubco.com
GEO:44.0521916;-121.3621946
X-APPLE-STRUCTURED-LOCATION;VALUE=URI;X-ADDRESS=Unitarian Universalist Fellowship 61980 Skyline Ranch Road Bend OR United States;X-APPLE-RADIUS=500;X-TITLE=61980 Skyline Ranch Road:geo:-121.3621946,44.0521916
END:VEVENT
BEGIN:VEVENT
DTSTART;TZID=America/Los_Angeles:20240622T150000
DTEND;TZID=America/Los_Angeles:20240622T163000
DTSTAMP:20260424T072649
CREATED:20240521T013101Z
LAST-MODIFIED:20240521T013101Z
UID:10004438-1719068400-1719073800@envirocenter.org
SUMMARY:Youth Climate Action Meet-Up
DESCRIPTION:Join the Fridays for Future Bend and Deschutes Youth Climate Coalition on Saturday\, June 22 in Drake Park. We want to have a conversation with any young people in town interested in climate action and getting involved!
URL:https://envirocenter.org/event/youth-climate-action-meet-up/
LOCATION:Drake Park\, 777 NW Riverside Blvd\, Bend\, OR\, 97701\, United States
CATEGORIES:Advocacy,Climate,Youth Education
ATTACH;FMTTYPE=image/jpeg:https://envirocenter.org/wp-content/uploads/2024/05/378277579_624453806536407_5882586906725251312_n.jpg
GEO:44.059492;-121.320464
X-APPLE-STRUCTURED-LOCATION;VALUE=URI;X-ADDRESS=Drake Park 777 NW Riverside Blvd Bend OR 97701 United States;X-APPLE-RADIUS=500;X-TITLE=777 NW Riverside Blvd:geo:-121.320464,44.059492
END:VEVENT
END:VCALENDAR