BEGIN:VCALENDAR
VERSION:2.0
PRODID:-//The Environmental Center - ECPv6.15.20//NONSGML v1.0//EN
CALSCALE:GREGORIAN
METHOD:PUBLISH
X-WR-CALNAME:The Environmental Center
X-ORIGINAL-URL:https://envirocenter.org
X-WR-CALDESC:Events for The Environmental Center
REFRESH-INTERVAL;VALUE=DURATION:PT1H
X-Robots-Tag:noindex
X-PUBLISHED-TTL:PT1H
BEGIN:VTIMEZONE
TZID:America/Los_Angeles
BEGIN:DAYLIGHT
TZOFFSETFROM:-0800
TZOFFSETTO:-0700
TZNAME:PDT
DTSTART:20190310T100000
END:DAYLIGHT
BEGIN:STANDARD
TZOFFSETFROM:-0700
TZOFFSETTO:-0800
TZNAME:PST
DTSTART:20191103T090000
END:STANDARD
BEGIN:DAYLIGHT
TZOFFSETFROM:-0800
TZOFFSETTO:-0700
TZNAME:PDT
DTSTART:20200308T100000
END:DAYLIGHT
BEGIN:STANDARD
TZOFFSETFROM:-0700
TZOFFSETTO:-0800
TZNAME:PST
DTSTART:20201101T090000
END:STANDARD
BEGIN:DAYLIGHT
TZOFFSETFROM:-0800
TZOFFSETTO:-0700
TZNAME:PDT
DTSTART:20210314T100000
END:DAYLIGHT
BEGIN:STANDARD
TZOFFSETFROM:-0700
TZOFFSETTO:-0800
TZNAME:PST
DTSTART:20211107T090000
END:STANDARD
END:VTIMEZONE
BEGIN:VEVENT
DTSTART;VALUE=DATE:20201013
DTEND;VALUE=DATE:20201014
DTSTAMP:20260420T035041
CREATED:20201009T024717Z
LAST-MODIFIED:20230503T201108Z
UID:10003434-1602590400-1602594000@envirocenter.org
SUMMARY:Solving Bend’s Transportation Needs
DESCRIPTION:Measure 9-135 is focused on improving traffic flow\, strengthening east/west connections\, increasing safety and creating jobs. \nJoin us for an inside look on which projects are included\, what to expect and how it will be funded. This webinar is free to attend. \nPanelists:\n· Katy Brooks – Bend Chamber CEO (moderator)\n· Mike Riley – The Environmental Center Executive Director\n· Ruth Williamson – Consultant\n· Eric King – City of Bend City Manager
URL:https://envirocenter.org/event/solving-bends-transportation-needs/
LOCATION:Deschutes Brewery Public House\, 1044 NW Bond St\, Bend\, OR\, 97701\, United States
CATEGORIES:Advocacy|Online event|Transportation
GEO:44.0593984;-121.3113079
X-APPLE-STRUCTURED-LOCATION;VALUE=URI;X-ADDRESS=Deschutes Brewery Public House 1044 NW Bond St Bend OR 97701 United States;X-APPLE-RADIUS=500;X-TITLE=1044 NW Bond St:geo:-121.3113079,44.0593984
END:VEVENT
BEGIN:VEVENT
DTSTART;VALUE=DATE:20201029
DTEND;VALUE=DATE:20201030
DTSTAMP:20260420T035041
CREATED:20201020T063733Z
LAST-MODIFIED:20230503T201114Z
UID:10003444-1603972800-1603978200@envirocenter.org
SUMMARY:State of the City
DESCRIPTION:You’re invited to join the Bend Chamber\, in partnership with Cascade Insurance Center and Mid Oregon Credit Union\, for annual updates on the State of the County and State of the City.\n\nYou’ll gain critical insights into how Deschutes County and the City of Bend are tackling the tough challenges facing Central Oregon. Discussions include: updates on each agency’s COVID response\, economic vitality\, burgeoning growth and its impacts on transportation\, housing and other vital services.\nWith Bend Mayor Sally Russell & City Manager Eric King
URL:https://envirocenter.org/event/state-of-the-city/
LOCATION:Deschutes Brewery Public House\, 1044 NW Bond St\, Bend\, OR\, 97701\, United States
CATEGORIES:Advocacy|Online event|Transportation
GEO:44.0593984;-121.3113079
X-APPLE-STRUCTURED-LOCATION;VALUE=URI;X-ADDRESS=Deschutes Brewery Public House 1044 NW Bond St Bend OR 97701 United States;X-APPLE-RADIUS=500;X-TITLE=1044 NW Bond St:geo:-121.3113079,44.0593984
END:VEVENT
END:VCALENDAR