BEGIN:VCALENDAR
VERSION:2.0
PRODID:-//The Environmental Center - ECPv6.15.20//NONSGML v1.0//EN
CALSCALE:GREGORIAN
METHOD:PUBLISH
X-WR-CALNAME:The Environmental Center
X-ORIGINAL-URL:https://envirocenter.org
X-WR-CALDESC:Events for The Environmental Center
REFRESH-INTERVAL;VALUE=DURATION:PT1H
X-Robots-Tag:noindex
X-PUBLISHED-TTL:PT1H
BEGIN:VTIMEZONE
TZID:America/Los_Angeles
BEGIN:DAYLIGHT
TZOFFSETFROM:-0800
TZOFFSETTO:-0700
TZNAME:PDT
DTSTART:20200308T100000
END:DAYLIGHT
BEGIN:STANDARD
TZOFFSETFROM:-0700
TZOFFSETTO:-0800
TZNAME:PST
DTSTART:20201101T090000
END:STANDARD
BEGIN:DAYLIGHT
TZOFFSETFROM:-0800
TZOFFSETTO:-0700
TZNAME:PDT
DTSTART:20210314T100000
END:DAYLIGHT
BEGIN:STANDARD
TZOFFSETFROM:-0700
TZOFFSETTO:-0800
TZNAME:PST
DTSTART:20211107T090000
END:STANDARD
BEGIN:DAYLIGHT
TZOFFSETFROM:-0800
TZOFFSETTO:-0700
TZNAME:PDT
DTSTART:20220313T100000
END:DAYLIGHT
BEGIN:STANDARD
TZOFFSETFROM:-0700
TZOFFSETTO:-0800
TZNAME:PST
DTSTART:20221106T090000
END:STANDARD
END:VTIMEZONE
BEGIN:VEVENT
DTSTART;VALUE=DATE:20211019
DTEND;VALUE=DATE:20211020
DTSTAMP:20260421T084323
CREATED:20211016T023214Z
LAST-MODIFIED:20230503T201337Z
UID:10003690-1634669100-1634673600@envirocenter.org
SUMMARY:Pandemic Politics: A COINversation
DESCRIPTION:Join Embrace Bend for a discussion of how communities across Oregon are responding to and affected by the pandemic. Panelists include State Rep. Dr. Maxine Dexter\, Bend-LaPine School Board Director Marcus LeGrand\, Salem City Counciler Dr. Trevor Phillips\, Wasco County Commissioner Kathryn Schwartz\, RN\, and former Jackson County Commissioner Dr. David Gilmour. \nThe event will start promptly at 7 p.m. Please join the meeting by 6:45pm\,
URL:https://envirocenter.org/event/pandemic-politics-a-coinversation/
LOCATION:Deschutes Brewery Public House\, 1044 NW Bond St\, Bend\, OR\, 97701\, United States
CATEGORIES:Advocacy|Inclusion|Online event
GEO:44.0593984;-121.3113079
X-APPLE-STRUCTURED-LOCATION;VALUE=URI;X-ADDRESS=Deschutes Brewery Public House 1044 NW Bond St Bend OR 97701 United States;X-APPLE-RADIUS=500;X-TITLE=1044 NW Bond St:geo:-121.3113079,44.0593984
END:VEVENT
END:VCALENDAR