BEGIN:VCALENDAR
VERSION:2.0
PRODID:-//The Environmental Center - ECPv6.15.20//NONSGML v1.0//EN
CALSCALE:GREGORIAN
METHOD:PUBLISH
X-WR-CALNAME:The Environmental Center
X-ORIGINAL-URL:https://envirocenter.org
X-WR-CALDESC:Events for The Environmental Center
REFRESH-INTERVAL;VALUE=DURATION:PT1H
X-Robots-Tag:noindex
X-PUBLISHED-TTL:PT1H
BEGIN:VTIMEZONE
TZID:America/Los_Angeles
BEGIN:DAYLIGHT
TZOFFSETFROM:-0800
TZOFFSETTO:-0700
TZNAME:PDT
DTSTART:20200308T100000
END:DAYLIGHT
BEGIN:STANDARD
TZOFFSETFROM:-0700
TZOFFSETTO:-0800
TZNAME:PST
DTSTART:20201101T090000
END:STANDARD
BEGIN:DAYLIGHT
TZOFFSETFROM:-0800
TZOFFSETTO:-0700
TZNAME:PDT
DTSTART:20210314T100000
END:DAYLIGHT
BEGIN:STANDARD
TZOFFSETFROM:-0700
TZOFFSETTO:-0800
TZNAME:PST
DTSTART:20211107T090000
END:STANDARD
BEGIN:DAYLIGHT
TZOFFSETFROM:-0800
TZOFFSETTO:-0700
TZNAME:PDT
DTSTART:20220313T100000
END:DAYLIGHT
BEGIN:STANDARD
TZOFFSETFROM:-0700
TZOFFSETTO:-0800
TZNAME:PST
DTSTART:20221106T090000
END:STANDARD
END:VTIMEZONE
BEGIN:VEVENT
DTSTART;VALUE=DATE:20211028
DTEND;VALUE=DATE:20211029
DTSTAMP:20260425T212742
CREATED:20211007T023230Z
LAST-MODIFIED:20230503T201333Z
UID:10001832-1635424200-1635429600@envirocenter.org
SUMMARY:Justice for Black Farmers: A Conversation to Uproot Racist Policy and Plant Seeds of Redress
DESCRIPTION:The introduction of the Justice for Black Farmers Act in 2020 and the Emergency Relief for Farmers of Color Act of 2021 was the first time many Americans learned about the historical and ongoing discrimination against farmers of African descent by local farm service agencies and private entities like banks. Yet\, it was only the latest chapter in the long saga of anti-Black racism in American farming. Join a panel of legacy farmers\, critical race scholars\, and a civil rights lawyer to learn about the grave injustices of the 1999 Pigford v. Glickman class action racial discrimination lawsuit\, recent actions by the Biden Administration and Congress to rectify these wrongs\, and what you can do to support a more fair and democratic farming system in the United States.
URL:https://envirocenter.org/event/justice-for-black-farmers-a-conversation-to-uproot-racist-policy-and-plant-seeds-of-redress/
LOCATION:Deschutes Brewery Public House\, 1044 NW Bond St\, Bend\, OR\, 97701\, United States
CATEGORIES:Advocacy|Food|Online event|Racial Justice|Social Justice
GEO:44.0593984;-121.3113079
X-APPLE-STRUCTURED-LOCATION;VALUE=URI;X-ADDRESS=Deschutes Brewery Public House 1044 NW Bond St Bend OR 97701 United States;X-APPLE-RADIUS=500;X-TITLE=1044 NW Bond St:geo:-121.3113079,44.0593984
END:VEVENT
END:VCALENDAR