BEGIN:VCALENDAR
VERSION:2.0
PRODID:-//The Environmental Center - ECPv6.15.20//NONSGML v1.0//EN
CALSCALE:GREGORIAN
METHOD:PUBLISH
X-WR-CALNAME:The Environmental Center
X-ORIGINAL-URL:https://envirocenter.org
X-WR-CALDESC:Events for The Environmental Center
REFRESH-INTERVAL;VALUE=DURATION:PT1H
X-Robots-Tag:noindex
X-PUBLISHED-TTL:PT1H
BEGIN:VTIMEZONE
TZID:America/Los_Angeles
BEGIN:DAYLIGHT
TZOFFSETFROM:-0800
TZOFFSETTO:-0700
TZNAME:PDT
DTSTART:20190310T100000
END:DAYLIGHT
BEGIN:STANDARD
TZOFFSETFROM:-0700
TZOFFSETTO:-0800
TZNAME:PST
DTSTART:20191103T090000
END:STANDARD
BEGIN:DAYLIGHT
TZOFFSETFROM:-0800
TZOFFSETTO:-0700
TZNAME:PDT
DTSTART:20200308T100000
END:DAYLIGHT
BEGIN:STANDARD
TZOFFSETFROM:-0700
TZOFFSETTO:-0800
TZNAME:PST
DTSTART:20201101T090000
END:STANDARD
BEGIN:DAYLIGHT
TZOFFSETFROM:-0800
TZOFFSETTO:-0700
TZNAME:PDT
DTSTART:20210314T100000
END:DAYLIGHT
BEGIN:STANDARD
TZOFFSETFROM:-0700
TZOFFSETTO:-0800
TZNAME:PST
DTSTART:20211107T090000
END:STANDARD
END:VTIMEZONE
BEGIN:VEVENT
DTSTART;VALUE=DATE:20200928
DTEND;VALUE=DATE:20200929
DTSTAMP:20260422T123046
CREATED:20200826T101027Z
LAST-MODIFIED:20230503T201046Z
UID:10001551-1601305200-1601312400@envirocenter.org
SUMMARY:Benefits of Efficient\, Energy-Wise Homes: for Builders\, Buyers\, Homeowners
DESCRIPTION:Benefits of Efficient Energy Wise Homes for\nBuilders\, buyers\, Homeowners\nFinancing\, Appraising\, Why Home Energy Score Programs Make it Happen \nSandra K Adomatis\, SRA\, LEED Green Associate\, NAR GREEN\nSandra is a national speaker on valuing high-performance features. Her background as an active real estate appraiser\, realtor\, instructor\, and course developer brings insightful dialogue to share with builders\, retrofit contractors\, lenders\, and real estate professionals. You might even say she wrote the book because she did author\, “Residential Green Valuation Tools.” She is powered by her desire to see people living in healthier buildings that cost them less. In this session she will discuss the benefits to builders\, and others. \nGreen Choice Mortgages\nDennis Smith\, Freddie Mac Single Family\nLooking for a way to update your home with energy and efficiency improvements during financing? Doing so often reduces your energy payments. Dennis will discuss how you can secure this financing and the options it can pay for.
URL:https://envirocenter.org/event/benefits-of-efficient-energy-wise-homes-for-builders-buyers-homeowners/
LOCATION:Deschutes Brewery Public House\, 1044 NW Bond St\, Bend\, OR\, 97701\, United States
CATEGORIES:Advocacy|Energy|Online event
GEO:44.0593984;-121.3113079
X-APPLE-STRUCTURED-LOCATION;VALUE=URI;X-ADDRESS=Deschutes Brewery Public House 1044 NW Bond St Bend OR 97701 United States;X-APPLE-RADIUS=500;X-TITLE=1044 NW Bond St:geo:-121.3113079,44.0593984
END:VEVENT
END:VCALENDAR