BEGIN:VCALENDAR
VERSION:2.0
PRODID:-//The Environmental Center - ECPv6.15.20//NONSGML v1.0//EN
CALSCALE:GREGORIAN
METHOD:PUBLISH
X-WR-CALNAME:The Environmental Center
X-ORIGINAL-URL:https://envirocenter.org
X-WR-CALDESC:Events for The Environmental Center
REFRESH-INTERVAL;VALUE=DURATION:PT1H
X-Robots-Tag:noindex
X-PUBLISHED-TTL:PT1H
BEGIN:VTIMEZONE
TZID:America/Los_Angeles
BEGIN:DAYLIGHT
TZOFFSETFROM:-0800
TZOFFSETTO:-0700
TZNAME:PDT
DTSTART:20190310T100000
END:DAYLIGHT
BEGIN:STANDARD
TZOFFSETFROM:-0700
TZOFFSETTO:-0800
TZNAME:PST
DTSTART:20191103T090000
END:STANDARD
BEGIN:DAYLIGHT
TZOFFSETFROM:-0800
TZOFFSETTO:-0700
TZNAME:PDT
DTSTART:20200308T100000
END:DAYLIGHT
BEGIN:STANDARD
TZOFFSETFROM:-0700
TZOFFSETTO:-0800
TZNAME:PST
DTSTART:20201101T090000
END:STANDARD
BEGIN:DAYLIGHT
TZOFFSETFROM:-0800
TZOFFSETTO:-0700
TZNAME:PDT
DTSTART:20210314T100000
END:DAYLIGHT
BEGIN:STANDARD
TZOFFSETFROM:-0700
TZOFFSETTO:-0800
TZNAME:PST
DTSTART:20211107T090000
END:STANDARD
END:VTIMEZONE
BEGIN:VEVENT
DTSTART;VALUE=DATE:20201118
DTEND;VALUE=DATE:20201119
DTSTAMP:20260420T090136
CREATED:20201027T030120Z
LAST-MODIFIED:20230503T201119Z
UID:10001616-1605700800-1605704400@envirocenter.org
SUMMARY:Heat Pump Water Heaters - Cost effective carbon action
DESCRIPTION:Join Electrify Now\, Community Energy Project\, Solar Oregon\, Passive House Northwest\, New Buildings Institute\, Zero Energy Project\, Renewable Hydrogen Alliance and The Environmental Center as we explore why Heat Pump Water Heaters are becoming the new standard and how to take advantage of these amazing devices in your home. \nWater heaters are the second biggest energy users in most homes and will account for 1.5 – 2.5 Tons of carbon emissions each year. Heat Pump Water Heaters use a fraction of the energy required by standard electric or gas powered models. In most homes this translates to hundreds of dollars of savings on utility bills each year. Our panel will discuss why these products are so efficient\, why they avoid carbon emissions\, what to know about installing one in your home\, and how to take advantage of the money saving promotions that are available now.
URL:https://envirocenter.org/event/heat-pump-water-heaters-cost-effective-carbon-action/
LOCATION:Deschutes Brewery Public House\, 1044 NW Bond St\, Bend\, OR\, 97701\, United States
CATEGORIES:Advocacy|Climate|Energy|Online event
GEO:44.0593984;-121.3113079
X-APPLE-STRUCTURED-LOCATION;VALUE=URI;X-ADDRESS=Deschutes Brewery Public House 1044 NW Bond St Bend OR 97701 United States;X-APPLE-RADIUS=500;X-TITLE=1044 NW Bond St:geo:-121.3113079,44.0593984
END:VEVENT
END:VCALENDAR