BEGIN:VCALENDAR
VERSION:2.0
PRODID:-//The Environmental Center - ECPv6.15.20//NONSGML v1.0//EN
CALSCALE:GREGORIAN
METHOD:PUBLISH
X-ORIGINAL-URL:https://envirocenter.org
X-WR-CALDESC:Events for The Environmental Center
REFRESH-INTERVAL;VALUE=DURATION:PT1H
X-Robots-Tag:noindex
X-PUBLISHED-TTL:PT1H
BEGIN:VTIMEZONE
TZID:America/Los_Angeles
BEGIN:DAYLIGHT
TZOFFSETFROM:-0800
TZOFFSETTO:-0700
TZNAME:PDT
DTSTART:20180311T100000
END:DAYLIGHT
BEGIN:STANDARD
TZOFFSETFROM:-0700
TZOFFSETTO:-0800
TZNAME:PST
DTSTART:20181104T090000
END:STANDARD
BEGIN:DAYLIGHT
TZOFFSETFROM:-0800
TZOFFSETTO:-0700
TZNAME:PDT
DTSTART:20190310T100000
END:DAYLIGHT
BEGIN:STANDARD
TZOFFSETFROM:-0700
TZOFFSETTO:-0800
TZNAME:PST
DTSTART:20191103T090000
END:STANDARD
BEGIN:DAYLIGHT
TZOFFSETFROM:-0800
TZOFFSETTO:-0700
TZNAME:PDT
DTSTART:20200308T100000
END:DAYLIGHT
BEGIN:STANDARD
TZOFFSETFROM:-0700
TZOFFSETTO:-0800
TZNAME:PST
DTSTART:20201101T090000
END:STANDARD
BEGIN:DAYLIGHT
TZOFFSETFROM:-0800
TZOFFSETTO:-0700
TZNAME:PDT
DTSTART:20210314T100000
END:DAYLIGHT
BEGIN:STANDARD
TZOFFSETFROM:-0700
TZOFFSETTO:-0800
TZNAME:PST
DTSTART:20211107T090000
END:STANDARD
BEGIN:DAYLIGHT
TZOFFSETFROM:-0800
TZOFFSETTO:-0700
TZNAME:PDT
DTSTART:20220313T100000
END:DAYLIGHT
BEGIN:STANDARD
TZOFFSETFROM:-0700
TZOFFSETTO:-0800
TZNAME:PST
DTSTART:20221106T090000
END:STANDARD
BEGIN:DAYLIGHT
TZOFFSETFROM:-0800
TZOFFSETTO:-0700
TZNAME:PDT
DTSTART:20230312T100000
END:DAYLIGHT
BEGIN:STANDARD
TZOFFSETFROM:-0700
TZOFFSETTO:-0800
TZNAME:PST
DTSTART:20231105T090000
END:STANDARD
BEGIN:DAYLIGHT
TZOFFSETFROM:-0800
TZOFFSETTO:-0700
TZNAME:PDT
DTSTART:20240310T100000
END:DAYLIGHT
BEGIN:STANDARD
TZOFFSETFROM:-0700
TZOFFSETTO:-0800
TZNAME:PST
DTSTART:20241103T090000
END:STANDARD
END:VTIMEZONE
BEGIN:VEVENT
DTSTART;TZID=America/Los_Angeles:20231026T113000
DTEND;TZID=America/Los_Angeles:20231026T130000
DTSTAMP:20260423T092629
CREATED:20231003T004325Z
LAST-MODIFIED:20231003T004325Z
UID:10004092-1698319800-1698325200@envirocenter.org
SUMMARY:On the Ground in Greater Bend: Moving Together from Vision to Action
DESCRIPTION:On the Ground in Greater Bend: Moving Together from Vision to Action \nWorking with thousands of community members\, Envision Bend has created the 2023 Bend Vision Plan (will be released next week!). Now\, we want to build on our momentum and catalyze our community’s vision into being. Moderated by former state senator Neil Bryant\, this forum will provide an overview of the four key plan focus areas – Building an Economy for Everyone\, Guiding Our Growth & Development\, Cultivating an Inclusive Community\, and Ensuring a Safe\, Healthy Environment – and then put YOU in the driver’s seat. In small groups at your tables\, you will drill down on the Building a Better Economy focus area to consider how best to advance the strategies\, activate the stakeholders\, and achieve the vision for us all. Please join this highly interactive City Club and learn more about the future we can accomplish\, together. \nSpeakers: \nNeil Bryant\, Retired Attorney and Past State Senator \nMatt Muchna\, Executive Director at Envision Bend \nEmily Tompkins\, Vice Chair at Envision Bend and CEO at Forest Futures \nNEW for this month! You have the option of registering with or without lunch included. \nFor more information or to register: https://members.cityclubco.org/ap/Events/Register/YmHa1OwuWtzCK?sourceTypeId=EmailInvitation
URL:https://envirocenter.org/event/on-the-ground-in-greater-bend-moving-together-from-vision-to-action/
LOCATION:Unitarian Universalist Fellowship\, 61980 Skyline Ranch Road\, Bend\, OR\, United States
CATEGORIES:Advocacy,Equity,Sustainability
ATTACH;FMTTYPE=image/webp:https://envirocenter.org/wp-content/uploads/2023/10/Oct-with-Sponsor.webp
ORGANIZER;CN="City Club of Central Oregon":MAILTO:info@cityclubco.com
GEO:44.0521916;-121.3621946
X-APPLE-STRUCTURED-LOCATION;VALUE=URI;X-ADDRESS=Unitarian Universalist Fellowship 61980 Skyline Ranch Road Bend OR United States;X-APPLE-RADIUS=500;X-TITLE=61980 Skyline Ranch Road:geo:-121.3621946,44.0521916
END:VEVENT
BEGIN:VEVENT
DTSTART;TZID=America/Los_Angeles:20230915T170000
DTEND;TZID=America/Los_Angeles:20230915T200000
DTSTAMP:20260423T092629
CREATED:20230907T225430Z
LAST-MODIFIED:20230911T164659Z
UID:10004064-1694797200-1694808000@envirocenter.org
SUMMARY:Global Climate Strike Bend
DESCRIPTION:Join the Deschutes Youth Climate Coalition and Fridays for Future Bend\, along with other local partners\, for the Global Climate Strike at Bend City Hall on September 15th\, starting at 5pm. \n“This is a family-friendly\, peaceful strike put on by Fridays for Future Bend\, Deschutes Youth Climate Coalition\, and many other organizations. Anyone who loves the Earth and wants to fight for it is welcome!”
URL:https://envirocenter.org/event/global-climate-strike-bend/
LOCATION:Bend City Hall\, 710 NW Wall St\, Bend\, 97701\, United States
CATEGORIES:Advocacy,Climate,Youth Education
ATTACH;FMTTYPE=image/jpeg:https://envirocenter.org/wp-content/uploads/2023/09/IMG_5479.jpg
GEO:44.0575157;-121.3154226
X-APPLE-STRUCTURED-LOCATION;VALUE=URI;X-ADDRESS=Bend City Hall 710 NW Wall St Bend 97701 United States;X-APPLE-RADIUS=500;X-TITLE=710 NW Wall St:geo:-121.3154226,44.0575157
END:VEVENT
BEGIN:VEVENT
DTSTART;VALUE=DATE:20230112
DTEND;VALUE=DATE:20230113
DTSTAMP:20260423T092629
CREATED:20221210T070308Z
LAST-MODIFIED:20230503T210541Z
UID:10002040-1673542800-1673551800@envirocenter.org
SUMMARY:What’s Brewing: Solving the Workforce Housing Shortage—Tools & Options for Employers
DESCRIPTION:Join the Bend Chamber and they explore the progress being made in Central Oregon regarding increasing the inventory of workforce housing and how the Chamber is engaging other community partners to make meaningful changes in our region via our Workforce Housing Initiative.
URL:https://envirocenter.org/event/whats-brewing-solving-the-workforce-housing-shortage-tools-options-for-employers/
LOCATION:Deschutes Brewery Public House\, 1044 NW Bond St\, Bend\, OR\, 97701\, United States
CATEGORIES:Advocacy
GEO:44.0593984;-121.3113079
X-APPLE-STRUCTURED-LOCATION;VALUE=URI;X-ADDRESS=Deschutes Brewery Public House 1044 NW Bond St Bend OR 97701 United States;X-APPLE-RADIUS=500;X-TITLE=1044 NW Bond St:geo:-121.3113079,44.0593984
END:VEVENT
BEGIN:VEVENT
DTSTART;TZID=America/Los_Angeles:20221209T173000
DTEND;TZID=America/Los_Angeles:20221209T203000
DTSTAMP:20260423T092629
CREATED:20221115T010856Z
LAST-MODIFIED:20221212T220110Z
UID:10003913-1670607000-1670617800@envirocenter.org
SUMMARY:High Desert Hootenanny: Bend
DESCRIPTION:Join Oregon Natural Desert Association board\, staff\, and supporters in celebrating the many high desert conservation successes you achieved in 2022! Come to Aspen Hall in Bend on Friday\, December 9 to hear highlights from this year’s habitat restoration\, advocacy and community-building initiatives and learn about what’s to come in the year ahead. \nAspen Hall\n18920 NW Shevlin Park Rd\nBend\, OR 97701 \nThis event is free and open to the public\, so invite a friend and join the Hootenanny!\nNo registration necessary.
URL:https://envirocenter.org/event/high-desert-hootenanny-bend-2/
LOCATION:Aspen Hall\, 18920 NW Shevlin Park\, Bend\, OR\, 97701\, United States
CATEGORIES:Advocacy
ATTACH;FMTTYPE=image/jpeg:https://envirocenter.org/wp-content/uploads/2022/11/HD-hootenanny.jpg
ORGANIZER;CN="Oregon Natural Desert Association":MAILTO:corie@onda.org
GEO:44.0826294;-121.3783612
X-APPLE-STRUCTURED-LOCATION;VALUE=URI;X-ADDRESS=Aspen Hall 18920 NW Shevlin Park Bend OR 97701 United States;X-APPLE-RADIUS=500;X-TITLE=18920 NW Shevlin Park:geo:-121.3783612,44.0826294
END:VEVENT
BEGIN:VEVENT
DTSTART;TZID=America/Los_Angeles:20221027T080000
DTEND;TZID=America/Los_Angeles:20221029T170000
DTSTAMP:20260423T092629
CREATED:20220322T033018Z
LAST-MODIFIED:20220322T033018Z
UID:10001918-1666857600-1667062800@envirocenter.org
SUMMARY:Oregon Outdoor Recreation Summit
DESCRIPTION:​The 2022 Oregon Outdoor Recreation Summit (in partnership with the Oregon Trails Summit) combines fun and high impact\, in-person networking opportunities with conference programming on the important issues of the day\, educational content\, trails stewardship work parties\, and in-field tours and workshops. \nThe summit will convene Oregon’s diverse outdoor community to learn\, build relationships\, and find solutions to the challenges in developing and elevating outdoor recreation opportunities for all.
URL:https://envirocenter.org/event/oregon-outdoor-recreation-summit-2/
LOCATION:375 SW Powerhouse Dr Suite 100\, Bend\, OR\, 97701\, United States
CATEGORIES:Advocacy,Diversity,Environmental Justice
ATTACH;FMTTYPE=image/jpeg:https://envirocenter.org/wp-content/uploads/2022/03/Outdoor-rec-summit-2022.jpg
END:VEVENT
BEGIN:VEVENT
DTSTART;VALUE=DATE:20220711
DTEND;VALUE=DATE:20220712
DTSTAMP:20260423T092629
CREATED:20220702T033050Z
LAST-MODIFIED:20230503T210456Z
UID:10003860-1657566000-1657571400@envirocenter.org
SUMMARY:Coastal Oregon Conservation and the Land-Sea Connection
DESCRIPTION:Worthy Garden Club welcomes Paul Engelmeyer from Portland Audubon to talk about Coastal Oregon conservation and the land-sea connection. Drawing upon his years of service for Oregon’s Ocean Policy Advisory Council as well as his experience managing multiple coastal lands\, Paul will cover a range of coastal Oregon conservation issues and strategies as well as updates on Oregon’s five marine reserves\, the Cape Perpetua Marine Reserve and Seabird Protected Area.
URL:https://envirocenter.org/event/coastal-oregon-conservation-and-the-land-sea-connection/
LOCATION:Deschutes Brewery Public House\, 1044 NW Bond St\, Bend\, OR\, 97701\, United States
CATEGORIES:Advocacy
GEO:44.0593984;-121.3113079
X-APPLE-STRUCTURED-LOCATION;VALUE=URI;X-ADDRESS=Deschutes Brewery Public House 1044 NW Bond St Bend OR 97701 United States;X-APPLE-RADIUS=500;X-TITLE=1044 NW Bond St:geo:-121.3113079,44.0593984
END:VEVENT
BEGIN:VEVENT
DTSTART;VALUE=DATE:20220329
DTEND;VALUE=DATE:20220330
DTSTAMP:20260423T092629
CREATED:20220310T062816Z
LAST-MODIFIED:20230503T201425Z
UID:10001912-1648575000-1648582200@envirocenter.org
SUMMARY:WHAT'S BREWING: Legislative Update with Sen. Knopp and Rep. Kropf
DESCRIPTION:Curious about how the 2022 legislative session ended — what legislation passed and what failed? \nJoin the Bend Chamber for a post-session wrap-up with two of our Central Oregon legislators\, Senator Tim Knopp and Representative Jason Kropf. Both will share highlights of the 35-day short session and take questions about what’s on the agenda in the future. \nThe event will be hosted in-person at Open Space Event Studios. Food and beverages will be provided. \nSpecial Guests: Senator Tim Knopp and Representative Jason Kropf \nModerators: Sara Odendahl\, Government Affairs Consultant\, and Katy Brooks\, CEO\, Bend Chamber
URL:https://envirocenter.org/event/whats-brewing-legislative-update-with-sen-knopp-and-rep-kropf/
LOCATION:Deschutes Brewery Public House\, 1044 NW Bond St\, Bend\, OR\, 97701\, United States
CATEGORIES:Advocacy
GEO:44.0593984;-121.3113079
X-APPLE-STRUCTURED-LOCATION;VALUE=URI;X-ADDRESS=Deschutes Brewery Public House 1044 NW Bond St Bend OR 97701 United States;X-APPLE-RADIUS=500;X-TITLE=1044 NW Bond St:geo:-121.3113079,44.0593984
END:VEVENT
BEGIN:VEVENT
DTSTART;VALUE=DATE:20220320
DTEND;VALUE=DATE:20220321
DTSTAMP:20260423T092629
CREATED:20220310T035516Z
LAST-MODIFIED:20230503T201425Z
UID:10001913-1647783000-1647792000@envirocenter.org
SUMMARY:Spring forward to save Worrell Wayside
DESCRIPTION:Celebrate the 1st Day of Spring\nSpring forward to save Worrell Wayside \nJoin to save Worrell Wayside Park on March 20\, 1st day of spring 1:30 – 4:00 at the Gazebo in the Park. Come and see how Worrell is showing signs of spring\, how and why this little park needs to stay in our environment and help spread the word about its potential demise. \nWorrell Celebrate the 1st Day of Spring \n 
URL:https://envirocenter.org/event/spring-forward-to-save-worrell-wayside/
LOCATION:Deschutes Brewery Public House\, 1044 NW Bond St\, Bend\, OR\, 97701\, United States
CATEGORIES:Advocacy
GEO:44.0593984;-121.3113079
X-APPLE-STRUCTURED-LOCATION;VALUE=URI;X-ADDRESS=Deschutes Brewery Public House 1044 NW Bond St Bend OR 97701 United States;X-APPLE-RADIUS=500;X-TITLE=1044 NW Bond St:geo:-121.3113079,44.0593984
END:VEVENT
BEGIN:VEVENT
DTSTART;TZID=America/Los_Angeles:20211110T180000
DTEND;TZID=America/Los_Angeles:20211110T193000
DTSTAMP:20260423T092629
CREATED:20211105T193309Z
LAST-MODIFIED:20211105T193309Z
UID:10001851-1636567200-1636572600@envirocenter.org
SUMMARY:
DESCRIPTION:Want more info on the food system groups in this year’s Give!Guide? Join FoFF for the Food System Jam! FoFF will be joined by the Black Food Sovereignty Coalition\, Growing Gardens\, Zenger Farm\, Rogue Farm Corps\, and the Farmers Market Fund for this virtual event to talk about how their work complements and helps FoFF achieve our shared goal of a more just\, accessible and resilient food system\, and enjoy a DJ set from Black Food Sovereignty Coalition’s own Eddie Hill! Come celebrate the food system with us!
URL:https://envirocenter.org/event/31241/
LOCATION:375 SW Powerhouse Dr Suite 100\, Bend\, OR\, 97701\, United States
CATEGORIES:Advocacy,Food,Online event
ATTACH;FMTTYPE=image/jpeg:https://envirocenter.org/wp-content/uploads/2021/11/unnamed-29.jpg
ORGANIZER;CN="Friends of Family Farmers":MAILTO:info@friendsoffamilyfarmers.org
END:VEVENT
BEGIN:VEVENT
DTSTART;VALUE=DATE:20211021
DTEND;VALUE=DATE:20211022
DTSTAMP:20260423T092629
CREATED:20211015T035521Z
LAST-MODIFIED:20230503T201337Z
UID:10003689-1634842800-1634848200@envirocenter.org
SUMMARY:Pints & Politics Scorecard Release Party
DESCRIPTION:Pints & Politics is back – virtually! OLCV is excited to announce their first Pints & Politics event in over a year. \nThis will be a fun night of guest speakers\, including State Representative Jason Kropf and OLCV’s Coalition Director Julia DeGraw. They’ll dive into the 2021 Scorecard and take a look at what was accomplished during the 2021 legislative session–including major climate victories!–and what was left as unfinished business. We hope you can join OLCV!
URL:https://envirocenter.org/event/pints-politics-scorecard-release-party/
LOCATION:Deschutes Brewery Public House\, 1044 NW Bond St\, Bend\, OR\, 97701\, United States
CATEGORIES:Advocacy
GEO:44.0593984;-121.3113079
X-APPLE-STRUCTURED-LOCATION;VALUE=URI;X-ADDRESS=Deschutes Brewery Public House 1044 NW Bond St Bend OR 97701 United States;X-APPLE-RADIUS=500;X-TITLE=1044 NW Bond St:geo:-121.3113079,44.0593984
END:VEVENT
BEGIN:VEVENT
DTSTART;VALUE=DATE:20211020
DTEND;VALUE=DATE:20211021
DTSTAMP:20260423T092629
CREATED:20210527T052420Z
LAST-MODIFIED:20230503T201254Z
UID:10001773-1634752800-1634756400@envirocenter.org
SUMMARY:From the Ground Up: Planning for Complete Communities
DESCRIPTION:Cities and towns don’t happen by accident. They are shaped through years of policy and planning that lay the foundation for everything from commute time to the cost of housing. If you’ve ever wondered why some neighborhoods have parks and bike paths while others lack sidewalks\, this event is for you. \n*The format of this event (virtual or in-person) is to be determined. Register here and COLW will keep you up to date on the format. \n 
URL:https://envirocenter.org/event/from-the-ground-up-planning-for-complete-communities/
LOCATION:Deschutes Brewery Public House\, 1044 NW Bond St\, Bend\, OR\, 97701\, United States
CATEGORIES:Advocacy
GEO:44.0593984;-121.3113079
X-APPLE-STRUCTURED-LOCATION;VALUE=URI;X-ADDRESS=Deschutes Brewery Public House 1044 NW Bond St Bend OR 97701 United States;X-APPLE-RADIUS=500;X-TITLE=1044 NW Bond St:geo:-121.3113079,44.0593984
END:VEVENT
BEGIN:VEVENT
DTSTART;VALUE=DATE:20210427
DTEND;VALUE=DATE:20210501
DTSTAMP:20260423T092629
CREATED:20210330T155425Z
LAST-MODIFIED:20210330T155425Z
UID:10003547-1619481600-1619827199@envirocenter.org
SUMMARY:Oregon Active Transportation Summit
DESCRIPTION:During the summit you will examine how our transportation investments\, programs and plans can leave us all with clean\, equitable solutions for the future of our planet and community. \nThe summit will highlight the kinds of transportation decisions being made in the face of the climate crisis. The summit will highlight the change-makers and thought-leaders who can guide us into a sustainable future.
URL:https://envirocenter.org/event/oregon-active-transportation-summit-2/
LOCATION:375 SW Powerhouse Dr Suite 100\, Bend\, OR\, 97701\, United States
CATEGORIES:Advocacy,Climate,Online event,Online Networking
ATTACH;FMTTYPE=image/jpeg:https://envirocenter.org/wp-content/uploads/2021/03/OATS.jpg
END:VEVENT
BEGIN:VEVENT
DTSTART;VALUE=DATE:20210112
DTEND;VALUE=DATE:20210113
DTSTAMP:20260423T092629
CREATED:20210112T031756Z
LAST-MODIFIED:20230503T201138Z
UID:10001649-1610452800-1610456400@envirocenter.org
SUMMARY:Webinar Series: Legislative Preview
DESCRIPTION:What’s on the agenda in Salem in 2021?\nHear from Central Oregon legislators about their priorities and what to expect when the Legislature convenes for its annual session. Senator Tim Knopp\, Representative Jack Zika and Representative Jason Kropf will share their perspectives. \nThe session will be followed by a community Q&A where attendees can ask questions and gain valuable insight about policy issues as we head into 2021.
URL:https://envirocenter.org/event/webinar-series-legislative-preview/
LOCATION:Deschutes Brewery Public House\, 1044 NW Bond St\, Bend\, OR\, 97701\, United States
CATEGORIES:Advocacy
GEO:44.0593984;-121.3113079
X-APPLE-STRUCTURED-LOCATION;VALUE=URI;X-ADDRESS=Deschutes Brewery Public House 1044 NW Bond St Bend OR 97701 United States;X-APPLE-RADIUS=500;X-TITLE=1044 NW Bond St:geo:-121.3113079,44.0593984
END:VEVENT
BEGIN:VEVENT
DTSTART;TZID=America/Los_Angeles:20201002T180000
DTEND;TZID=America/Los_Angeles:20201002T210000
DTSTAMP:20260423T092629
CREATED:20200818T033110Z
LAST-MODIFIED:20200818T033110Z
UID:10001547-1601661600-1601672400@envirocenter.org
SUMMARY:Wild & Scenic Film Festival
DESCRIPTION:Oregon Natural Desert Association presents the Wild & Scenic Film Festival! Join for an evening of short films showcasing our earth’s natural wonders and the amazing stories of activists working to conserve the environment. \nThe event is fully virtual this year. Enjoy the Wild & Scenic Film Festival\, screened in HD\, from the comfort of your home. The virtual waiting room will open at 5:30PM\, and the livestream will start at 6:00PM. Only one person per household needs to register.
URL:https://envirocenter.org/event/wild-scenic-film-festival-7/
LOCATION:375 SW Powerhouse Dr Suite 100\, Bend\, OR\, 97701\, United States
CATEGORIES:Advocacy,Energy,Film,Online event
ATTACH;FMTTYPE=image/jpeg:https://envirocenter.org/wp-content/uploads/2020/08/Wild-and-scenic-film-festival.jpg
ORGANIZER;CN="Oregon Natural Desert Association":MAILTO:corie@onda.org
END:VEVENT
BEGIN:VEVENT
DTSTART;TZID=America/Los_Angeles:20200827T080000
DTEND;TZID=America/Los_Angeles:20200827T100000
DTSTAMP:20260423T092629
CREATED:20200826T040147Z
LAST-MODIFIED:20200826T040147Z
UID:10003393-1598515200-1598522400@envirocenter.org
SUMMARY:
DESCRIPTION:Chlorpyrifos is an insecticide that damages the brains of infants and children\, and can cause neurological harm\, cancer and other serious impacts. Unsafe levels of residues are found in drinking water and common foods such as beans\, vegetables and fruit. Research overwhelmingly shows that chlorpyrifos kills and harm bees\, butterflies\, and birds and is a serious threat to our food\, public health\, and wildlife. \nHawaii\, California\, New York and Maryland have taken action to ban or severely restrict chlorpyrifos. Oregon must take action\, but the Oregon Department of Agriculture’s proposed rules on chlorpyrifos need to be stronger! We need your help to pass effective rules. Please send your written comments or speak at one of two remaining virtual public hearings in August. If you can’t make it to one of those hearings\, see below for public comment details\, our policy analysis and suggested talking points. \nThere are two easy ways you can get involved: \n\nAttend one of the scheduled virtual public hearings: \nAug. 27\, 2020\, 8-10 AM\n(Real-time Spanish translation provided.)\nSubmit your written comments to the ODA record by October 1st.\nRead suggested talking points->>
URL:https://envirocenter.org/event/25199/
LOCATION:375 SW Powerhouse Dr Suite 100\, Bend\, OR\, 97701\, United States
CATEGORIES:Advocacy,Equity,Online event
ATTACH;FMTTYPE=image/jpeg:https://envirocenter.org/wp-content/uploads/2020/08/Action.jpg
END:VEVENT
BEGIN:VEVENT
DTSTART;VALUE=DATE:20191206
DTEND;VALUE=DATE:20191207
DTSTAMP:20260423T092629
CREATED:20221115T090856Z
LAST-MODIFIED:20230503T210534Z
UID:10001398-1575651600-1575664200@envirocenter.org
SUMMARY:High Desert Hootenanny: Bend
DESCRIPTION:Join Oregon Natural Desert Association board\, staff\, and supporters in celebrating the many high desert conservation successes you achieved in 2022! Come to Aspen Hall in Bend on Friday\, December 9 to hear highlights from this year’s habitat restoration\, advocacy and community-building initiatives and learn about what’s to come in the year ahead. \nAspen Hall\n18920 NW Shevlin Park Rd\nBend\, OR 97701 \nThis event is free and open to the public\, so invite a friend and join the Hootenanny!\nNo registration necessary.
URL:https://envirocenter.org/event/high-desert-hootenanny-bend-2/
LOCATION:Deschutes Brewery Public House\, 1044 NW Bond St\, Bend\, OR\, 97701\, United States
CATEGORIES:Advocacy
GEO:44.0593984;-121.3113079
X-APPLE-STRUCTURED-LOCATION;VALUE=URI;X-ADDRESS=Deschutes Brewery Public House 1044 NW Bond St Bend OR 97701 United States;X-APPLE-RADIUS=500;X-TITLE=1044 NW Bond St:geo:-121.3113079,44.0593984
END:VEVENT
END:VCALENDAR