BEGIN:VCALENDAR
VERSION:2.0
PRODID:-//The Environmental Center - ECPv6.15.20//NONSGML v1.0//EN
CALSCALE:GREGORIAN
METHOD:PUBLISH
X-ORIGINAL-URL:https://envirocenter.org
X-WR-CALDESC:Events for The Environmental Center
REFRESH-INTERVAL;VALUE=DURATION:PT1H
X-Robots-Tag:noindex
X-PUBLISHED-TTL:PT1H
BEGIN:VTIMEZONE
TZID:America/Los_Angeles
BEGIN:DAYLIGHT
TZOFFSETFROM:-0800
TZOFFSETTO:-0700
TZNAME:PDT
DTSTART:20220313T100000
END:DAYLIGHT
BEGIN:STANDARD
TZOFFSETFROM:-0700
TZOFFSETTO:-0800
TZNAME:PST
DTSTART:20221106T090000
END:STANDARD
BEGIN:DAYLIGHT
TZOFFSETFROM:-0800
TZOFFSETTO:-0700
TZNAME:PDT
DTSTART:20230312T100000
END:DAYLIGHT
BEGIN:STANDARD
TZOFFSETFROM:-0700
TZOFFSETTO:-0800
TZNAME:PST
DTSTART:20231105T090000
END:STANDARD
BEGIN:DAYLIGHT
TZOFFSETFROM:-0800
TZOFFSETTO:-0700
TZNAME:PDT
DTSTART:20240310T100000
END:DAYLIGHT
BEGIN:STANDARD
TZOFFSETFROM:-0700
TZOFFSETTO:-0800
TZNAME:PST
DTSTART:20241103T090000
END:STANDARD
END:VTIMEZONE
BEGIN:VEVENT
DTSTART;TZID=America/Los_Angeles:20230720T170000
DTEND;TZID=America/Los_Angeles:20230720T183000
DTSTAMP:20260421T143101
CREATED:20230710T191811Z
LAST-MODIFIED:20230719T003857Z
UID:10004024-1689872400-1689877800@envirocenter.org
SUMMARY:CANCELED - July Power Hour - Deschutes Energy Future
DESCRIPTION:THIS EVENT HAS BEEN CANCELED DUE TO COVID. You can still sign up and we will send you an update when we have one!  \nWe are excited to share that our energy planning work over the last couple of years has resulted in a new initiative called Deschutes Energy Future! Come to this event and learn about the work we’ve done so far for community-based energy projects\, as well as our plans for launching this initiative. \nWe’ll also be sharing a brand new community energy analysis of Deschutes County. Ever wondered where your energy comes from\, what energy is most used for\, or how much of it is really produced locally? We’ll share new insights on all these questions and more in a first look at our new energy inventory.
URL:https://envirocenter.org/event/july-power-hour-deschutes-energy-future/
LOCATION:The Environmental Center\, 16 NW Kansas Avenue\, Bend\, OR\, 97703
CATEGORIES:Climate,Energy,Transportation
ATTACH;FMTTYPE=image/jpeg:https://envirocenter.org/wp-content/uploads/2023/07/DEF-Power-Hour-Eventbrite-Header-2160-×-1080-px.jpg
ORGANIZER;CN="The Environmental Center":MAILTO:info@envirocenter.org
GEO:44.055562;-121.3143083
X-APPLE-STRUCTURED-LOCATION;VALUE=URI;X-ADDRESS=The Environmental Center 16 NW Kansas Avenue Bend OR 97703;X-APPLE-RADIUS=500;X-TITLE=16 NW Kansas Avenue:geo:-121.3143083,44.055562
END:VEVENT
BEGIN:VEVENT
DTSTART;TZID=America/Los_Angeles:20230731T180000
DTEND;TZID=America/Los_Angeles:20230731T200000
DTSTAMP:20260421T143101
CREATED:20230717T213209Z
LAST-MODIFIED:20230717T213209Z
UID:10004032-1690826400-1690833600@envirocenter.org
SUMMARY:ThinkBike Ride & Learn #1
DESCRIPTION:During a two-day workshop\, local and Dutch experts will exchange ideas for how to include walking\, biking\, and rolling in Bend’s transportation systems. This workshop is invite only but we want to keep the conversation going with the community! \nJoin us for a bike ride after the workshop to learn about the activities and explore a few of Bend’s key bike and pedestrian infrastructure elements on the east side of town. \nMeet at Juniper Swim & Fitness by the horseshoe courts for a party-pace community ride!
URL:https://envirocenter.org/event/thinkbikerideandlearn1/
LOCATION:Juniper Swim and Fitness Center\, 800 NE 6th St\, Bend\, OR\, 97701\, United States
CATEGORIES:Transportation
ATTACH;FMTTYPE=image/png:https://envirocenter.org/wp-content/uploads/2023/04/Bend-Bikes-Logo-300x95-1.png
ORGANIZER;CN="Bend Bikes":MAILTO:info@bendbikes.org
GEO:44.0574617;-121.2965797
X-APPLE-STRUCTURED-LOCATION;VALUE=URI;X-ADDRESS=Juniper Swim and Fitness Center 800 NE 6th St Bend OR 97701 United States;X-APPLE-RADIUS=500;X-TITLE=800 NE 6th St:geo:-121.2965797,44.0574617
END:VEVENT
END:VCALENDAR