BEGIN:VCALENDAR
VERSION:2.0
PRODID:-//The Environmental Center - ECPv6.15.20//NONSGML v1.0//EN
CALSCALE:GREGORIAN
METHOD:PUBLISH
X-WR-CALNAME:The Environmental Center
X-ORIGINAL-URL:https://envirocenter.org
X-WR-CALDESC:Events for The Environmental Center
REFRESH-INTERVAL;VALUE=DURATION:PT1H
X-Robots-Tag:noindex
X-PUBLISHED-TTL:PT1H
BEGIN:VTIMEZONE
TZID:America/Los_Angeles
BEGIN:DAYLIGHT
TZOFFSETFROM:-0800
TZOFFSETTO:-0700
TZNAME:PDT
DTSTART:20220313T100000
END:DAYLIGHT
BEGIN:STANDARD
TZOFFSETFROM:-0700
TZOFFSETTO:-0800
TZNAME:PST
DTSTART:20221106T090000
END:STANDARD
BEGIN:DAYLIGHT
TZOFFSETFROM:-0800
TZOFFSETTO:-0700
TZNAME:PDT
DTSTART:20230312T100000
END:DAYLIGHT
BEGIN:STANDARD
TZOFFSETFROM:-0700
TZOFFSETTO:-0800
TZNAME:PST
DTSTART:20231105T090000
END:STANDARD
BEGIN:DAYLIGHT
TZOFFSETFROM:-0800
TZOFFSETTO:-0700
TZNAME:PDT
DTSTART:20240310T100000
END:DAYLIGHT
BEGIN:STANDARD
TZOFFSETFROM:-0700
TZOFFSETTO:-0800
TZNAME:PST
DTSTART:20241103T090000
END:STANDARD
END:VTIMEZONE
BEGIN:VEVENT
DTSTART;TZID=America/Los_Angeles:20230520T140000
DTEND;TZID=America/Los_Angeles:20230520T170000
DTSTAMP:20260421T185945
CREATED:20230504T143842Z
LAST-MODIFIED:20230504T143842Z
UID:10003981-1684591200-1684602000@envirocenter.org
SUMMARY:Kristen Jokinen—author of Joy Ride: A Bike Odyssey from Alaska to Argentina
DESCRIPTION:Meet the Author: Kristen Jokinen for a conversation and signing of her new book Joy Ride: A Bike Odyssey from Alaska to Argentina! After party at Crux Fermentation Project.
URL:https://envirocenter.org/event/kristen-jokinen-author-of-joy-ride-a-bike-odyssey-from-alaska-to-argentina/
LOCATION:Barnes and Noble\, 2690 NE hwy 20\, Bend\, OR\, 97701\, United States
CATEGORIES:Transportation
ATTACH;FMTTYPE=image/jpeg:https://envirocenter.org/wp-content/uploads/2023/05/VKJokinen.jpg
GEO:44.0552653;-121.2643663
X-APPLE-STRUCTURED-LOCATION;VALUE=URI;X-ADDRESS=Barnes and Noble 2690 NE hwy 20 Bend OR 97701 United States;X-APPLE-RADIUS=500;X-TITLE=2690 NE hwy 20:geo:-121.2643663,44.0552653
END:VEVENT
BEGIN:VEVENT
DTSTART;TZID=America/Los_Angeles:20230524T180000
DTEND;TZID=America/Los_Angeles:20230524T190000
DTSTAMP:20260421T185945
CREATED:20230516T181015Z
LAST-MODIFIED:20230516T181015Z
UID:10003999-1684951200-1684954800@envirocenter.org
SUMMARY:Cashing in on Clean Energy: Save Money and the Climate
DESCRIPTION:In 2022\, Congress passed the largest climate investment in our history with the Inflation Reduction Act (IRA)\, which included what is now the Affordable Clean Energy Plan. It passed because people like you never stop fighting for what we need – a clean energy future that centers racial justice and equity. It will be successful because of people like you\, too. Join us on Wednesday\, May 24th\, at 6pm to find out more. \nPres. Biden’s Affordable Clean Energy Plan is a game-changer for climate and clean energy. It will help put us on a path to cut climate pollution nearly in half by 2030\, and better protect our communities from further devastation. How? In part\, by providing tax credits and incentives so people like you can upgrade to clean energy and better energy efficiency\, all while saving money on utility bills. Think: window upgrades\, energy efficiency projects\, electric vehicles\, and more! \nJoin us and our West Coast partners next Wednesday for a virtual event going over the incentives coming our way. \nWhat: Cashing in on Clean Energy: Save Money and the Climate\nWhen: Wednesday\, May 24\, 2023 at 6PM PT\nWhere: Zoom Webinar\nREGISTER NOW \nA just clean energy transition plan is critical to reduce climate pollution while ensuring all our communities thrive. The Affordable Clean Energy Plan is the biggest opportunity we have to jumpstart this transition right now. Climate action can’t wait. \nOur invited speakers\, including from national LCV and Rewiring America\, will go over the different benefits and offer resources to help you plan your clean energy transition. RSVP today and learn how you can cash in on clean energy!
URL:https://envirocenter.org/event/cashing-in-on-clean-energy-save-money-and-the-climate/
LOCATION:Zoom
CATEGORIES:Climate,Energy,Online event,Transportation
ATTACH;FMTTYPE=image/jpeg:https://envirocenter.org/wp-content/uploads/2023/05/cashingincleanenergybanner.jpg
ORGANIZER;CN="Oregon League of Conservation Voters (OLCV)":MAILTO:nikki@olcv.org
END:VEVENT
BEGIN:VEVENT
DTSTART;VALUE=DATE:20230527
DTEND;VALUE=DATE:20230530
DTSTAMP:20260421T185945
CREATED:20230504T144235Z
LAST-MODIFIED:20230504T144235Z
UID:10003982-1685145600-1685404799@envirocenter.org
SUMMARY:REI Presents: Kristen & Ville Jokinen
DESCRIPTION:10am-3pm
URL:https://envirocenter.org/event/rei-presents-kristen-ville-jokinen/
LOCATION:REI\, 380 SW Powderhouse Dr\, Bend\, OR\, 97702\, United States
CATEGORIES:Transportation
ATTACH;FMTTYPE=image/jpeg:https://envirocenter.org/wp-content/uploads/2023/05/REI-POSTER.jpeg
GEO:44.0463257;-121.3150602
X-APPLE-STRUCTURED-LOCATION;VALUE=URI;X-ADDRESS=REI 380 SW Powderhouse Dr Bend OR 97702 United States;X-APPLE-RADIUS=500;X-TITLE=380 SW Powderhouse Dr:geo:-121.3150602,44.0463257
END:VEVENT
END:VCALENDAR