BEGIN:VCALENDAR
VERSION:2.0
PRODID:-//The Environmental Center - ECPv6.15.20//NONSGML v1.0//EN
CALSCALE:GREGORIAN
METHOD:PUBLISH
X-WR-CALNAME:The Environmental Center
X-ORIGINAL-URL:https://envirocenter.org
X-WR-CALDESC:Events for The Environmental Center
REFRESH-INTERVAL;VALUE=DURATION:PT1H
X-Robots-Tag:noindex
X-PUBLISHED-TTL:PT1H
BEGIN:VTIMEZONE
TZID:America/Los_Angeles
BEGIN:DAYLIGHT
TZOFFSETFROM:-0800
TZOFFSETTO:-0700
TZNAME:PDT
DTSTART:20250309T100000
END:DAYLIGHT
BEGIN:STANDARD
TZOFFSETFROM:-0700
TZOFFSETTO:-0800
TZNAME:PST
DTSTART:20251102T090000
END:STANDARD
BEGIN:DAYLIGHT
TZOFFSETFROM:-0800
TZOFFSETTO:-0700
TZNAME:PDT
DTSTART:20260308T100000
END:DAYLIGHT
BEGIN:STANDARD
TZOFFSETFROM:-0700
TZOFFSETTO:-0800
TZNAME:PST
DTSTART:20261101T090000
END:STANDARD
BEGIN:DAYLIGHT
TZOFFSETFROM:-0800
TZOFFSETTO:-0700
TZNAME:PDT
DTSTART:20270314T100000
END:DAYLIGHT
BEGIN:STANDARD
TZOFFSETFROM:-0700
TZOFFSETTO:-0800
TZNAME:PST
DTSTART:20271107T090000
END:STANDARD
END:VTIMEZONE
BEGIN:VEVENT
DTSTART;TZID=America/Los_Angeles:20260421T173000
DTEND;TZID=America/Los_Angeles:20260421T193000
DTSTAMP:20260424T075203
CREATED:20260330T221254Z
LAST-MODIFIED:20260330T221403Z
UID:10004747-1776792600-1776799800@envirocenter.org
SUMMARY:Let's Talk Housing Solutions
DESCRIPTION:Hosted by Central Oregon YIMBY\, 1000 Friends of Oregon and Central Oregon LandWatch \nWhat can YOU do about the housing crisis? Come find out! \nJoin us for an interactive workshop\, learn about upcoming policy changes in Bend\, explore strategies for lowering rents and affordable housing. Plus\, free pizza! \nHosted by Central Oregon YIMBY\, 1000 Friends of Oregon and Central Oregon LandWatch \n 
URL:https://envirocenter.org/event/lets-talk-housing-solutions/
LOCATION:Open Space Event Studios\, 220 NE Lafayette Ave\, Bend\, OR\, 97701\, United States
ATTACH;FMTTYPE=image/jpeg:https://envirocenter.org/wp-content/uploads/2026/03/Screenshot-2026-03-30-at-3.13.48-PM.jpg
GEO:44.0622509;-121.3034125
X-APPLE-STRUCTURED-LOCATION;VALUE=URI;X-ADDRESS=Open Space Event Studios 220 NE Lafayette Ave Bend OR 97701 United States;X-APPLE-RADIUS=500;X-TITLE=220 NE Lafayette Ave:geo:-121.3034125,44.0622509
END:VEVENT
END:VCALENDAR