BEGIN:VCALENDAR
VERSION:2.0
PRODID:-//The Environmental Center - ECPv6.15.20//NONSGML v1.0//EN
CALSCALE:GREGORIAN
METHOD:PUBLISH
X-WR-CALNAME:The Environmental Center
X-ORIGINAL-URL:https://envirocenter.org
X-WR-CALDESC:Events for The Environmental Center
REFRESH-INTERVAL;VALUE=DURATION:PT1H
X-Robots-Tag:noindex
X-PUBLISHED-TTL:PT1H
BEGIN:VTIMEZONE
TZID:America/Los_Angeles
BEGIN:DAYLIGHT
TZOFFSETFROM:-0800
TZOFFSETTO:-0700
TZNAME:PDT
DTSTART:20200308T100000
END:DAYLIGHT
BEGIN:STANDARD
TZOFFSETFROM:-0700
TZOFFSETTO:-0800
TZNAME:PST
DTSTART:20201101T090000
END:STANDARD
BEGIN:DAYLIGHT
TZOFFSETFROM:-0800
TZOFFSETTO:-0700
TZNAME:PDT
DTSTART:20210314T100000
END:DAYLIGHT
BEGIN:STANDARD
TZOFFSETFROM:-0700
TZOFFSETTO:-0800
TZNAME:PST
DTSTART:20211107T090000
END:STANDARD
BEGIN:DAYLIGHT
TZOFFSETFROM:-0800
TZOFFSETTO:-0700
TZNAME:PDT
DTSTART:20220313T100000
END:DAYLIGHT
BEGIN:STANDARD
TZOFFSETFROM:-0700
TZOFFSETTO:-0800
TZNAME:PST
DTSTART:20221106T090000
END:STANDARD
END:VTIMEZONE
BEGIN:VEVENT
DTSTART;VALUE=DATE:20211011
DTEND;VALUE=DATE:20211017
DTSTAMP:20260419T062825
CREATED:20211009T080816Z
LAST-MODIFIED:20230503T201333Z
UID:10001833-1633910400-1634428799@envirocenter.org
SUMMARY:SUSTAINABLE BUILDING WEEK 2021!
DESCRIPTION:October 11\, 2021 kicks off the fourth annual Sustainable Building Week (SBW)\, an event-filled week from a cross section of Portland’s design professional organizations. The week will bring the best and brightest building professional organizations together to educate\, connect and foster opportunities for future collaboration to Keep Portland Green. Whether its combating climate change\, protecting our natural resources or investigating the increasing number of dangerous chemicals in our indoor spaces\, the multitude of issues that need to be addressed require more attention by all of us. \n 
URL:https://envirocenter.org/event/sustainable-building-week-2021/
LOCATION:Deschutes Brewery Public House\, 1044 NW Bond St\, Bend\, OR\, 97701\, United States
CATEGORIES:Energy|Online event
GEO:44.0593984;-121.3113079
X-APPLE-STRUCTURED-LOCATION;VALUE=URI;X-ADDRESS=Deschutes Brewery Public House 1044 NW Bond St Bend OR 97701 United States;X-APPLE-RADIUS=500;X-TITLE=1044 NW Bond St:geo:-121.3113079,44.0593984
END:VEVENT
BEGIN:VEVENT
DTSTART;VALUE=DATE:20211012
DTEND;VALUE=DATE:20211013
DTSTAMP:20260419T062825
CREATED:20210928T225916Z
LAST-MODIFIED:20230503T201328Z
UID:10003671-1634038200-1634072400@envirocenter.org
SUMMARY:Community Pint Nights at Deschutes Brewery
DESCRIPTION:Join The Environmental Center every Tuesday for the month of October for Community Pint Nights at Deschutes Brewery! \nWe are the designated nonprofit beneficiary for Deschutes Brewery’s Community Pint Nights in October. Join us on Tuesdays in October at the downtown Public House or Tasting Room and Deschutes Brewery will donate $1 from every pint sold to The Environmental Center. \nMark your calendars—we hope to see you there! Oct 5\, 12\, 19\, and 26. \nMany thanks to Deschutes Brewery for being supporters of our work!
URL:https://envirocenter.org/event/community-pint-nights-at-deschutes-brewery-2021-10-05/
LOCATION:Deschutes Brewery Public House\, 1044 NW Bond St\, Bend\, OR\, 97701\, United States
GEO:44.0593984;-121.3113079
X-APPLE-STRUCTURED-LOCATION;VALUE=URI;X-ADDRESS=Deschutes Brewery Public House 1044 NW Bond St Bend OR 97701 United States;X-APPLE-RADIUS=500;X-TITLE=1044 NW Bond St:geo:-121.3113079,44.0593984
END:VEVENT
BEGIN:VEVENT
DTSTART;VALUE=DATE:20211012
DTEND;VALUE=DATE:20211013
DTSTAMP:20260419T062825
CREATED:20210603T034934Z
LAST-MODIFIED:20230503T201255Z
UID:10003616-1634050800-1634054400@envirocenter.org
SUMMARY:Adapting Your Garden and Landscape for Climate Change
DESCRIPTION:Northwest gardeners and landscapers are accustomed to our Mediterranean climate with mild\, wet winters and warm\, dry summers. With climate change\, we can expect more variability in our weather with more frequent and intense weather events. How will these extreme events affect your plants? Learn strategies to adapt your garden and landscape to these new conditions. \nRegistration information to come.
URL:https://envirocenter.org/event/adapting-your-garden-and-landscape-for-climate-change/
LOCATION:Deschutes Brewery Public House\, 1044 NW Bond St\, Bend\, OR\, 97701\, United States
CATEGORIES:Garden|Online event
GEO:44.0593984;-121.3113079
X-APPLE-STRUCTURED-LOCATION;VALUE=URI;X-ADDRESS=Deschutes Brewery Public House 1044 NW Bond St Bend OR 97701 United States;X-APPLE-RADIUS=500;X-TITLE=1044 NW Bond St:geo:-121.3113079,44.0593984
END:VEVENT
BEGIN:VEVENT
DTSTART;VALUE=DATE:20211012
DTEND;VALUE=DATE:20211013
DTSTAMP:20260419T062825
CREATED:20210806T070540Z
LAST-MODIFIED:20230503T201314Z
UID:10001800-1634063400-1634068800@envirocenter.org
SUMMARY:InFARMation Fall Series:  Uncovering the Dirty Parts of Farming
DESCRIPTION:Conversations around farm workers rights\, climate justice and animal welfare. More details coming soon!
URL:https://envirocenter.org/event/infarmation-fall-series-uncovering-the-dirty-parts-of-farming-2/
LOCATION:Deschutes Brewery Public House\, 1044 NW Bond St\, Bend\, OR\, 97701\, United States
GEO:44.0593984;-121.3113079
X-APPLE-STRUCTURED-LOCATION;VALUE=URI;X-ADDRESS=Deschutes Brewery Public House 1044 NW Bond St Bend OR 97701 United States;X-APPLE-RADIUS=500;X-TITLE=1044 NW Bond St:geo:-121.3113079,44.0593984
END:VEVENT
END:VCALENDAR