BEGIN:VCALENDAR
VERSION:2.0
PRODID:-//The Environmental Center - ECPv6.15.20//NONSGML v1.0//EN
CALSCALE:GREGORIAN
METHOD:PUBLISH
X-ORIGINAL-URL:https://envirocenter.org
X-WR-CALDESC:Events for The Environmental Center
REFRESH-INTERVAL;VALUE=DURATION:PT1H
X-Robots-Tag:noindex
X-PUBLISHED-TTL:PT1H
BEGIN:VTIMEZONE
TZID:America/Los_Angeles
BEGIN:DAYLIGHT
TZOFFSETFROM:-0800
TZOFFSETTO:-0700
TZNAME:PDT
DTSTART:20200308T100000
END:DAYLIGHT
BEGIN:STANDARD
TZOFFSETFROM:-0700
TZOFFSETTO:-0800
TZNAME:PST
DTSTART:20201101T090000
END:STANDARD
BEGIN:DAYLIGHT
TZOFFSETFROM:-0800
TZOFFSETTO:-0700
TZNAME:PDT
DTSTART:20210314T100000
END:DAYLIGHT
BEGIN:STANDARD
TZOFFSETFROM:-0700
TZOFFSETTO:-0800
TZNAME:PST
DTSTART:20211107T090000
END:STANDARD
BEGIN:DAYLIGHT
TZOFFSETFROM:-0800
TZOFFSETTO:-0700
TZNAME:PDT
DTSTART:20220313T100000
END:DAYLIGHT
BEGIN:STANDARD
TZOFFSETFROM:-0700
TZOFFSETTO:-0800
TZNAME:PST
DTSTART:20221106T090000
END:STANDARD
END:VTIMEZONE
BEGIN:VEVENT
DTSTART;VALUE=DATE:20210721
DTEND;VALUE=DATE:20210722
DTSTAMP:20260419T071833
CREATED:20210707T094046Z
LAST-MODIFIED:20230503T201307Z
UID:10001787-1626854400-1626859800@envirocenter.org
SUMMARY:Commerce and Coffee
DESCRIPTION:Commerce and Coffee is the Bend Chamber’s newest event in 2021! This gathering is dedicated to connecting members and community business professionals after over a year of Zoom fatigue and isolation. This monthly event is the perfect opportunity to reconnect\, socialize and gain meaningful contacts within the Bend business community. \nEnjoy coffee\, a light morning snack and extend your professional network. The best part? It is free to attend for members! Non-member pricing is $10.00 per person. \nRegistration is required for this event and there’s a capacity of 85 attendees. Make sure to get yourself signed up today!
URL:https://envirocenter.org/event/commerce-and-coffee/
LOCATION:Deschutes Brewery Public House\, 1044 NW Bond St\, Bend\, OR\, 97701\, United States
GEO:44.0593984;-121.3113079
X-APPLE-STRUCTURED-LOCATION;VALUE=URI;X-ADDRESS=Deschutes Brewery Public House 1044 NW Bond St Bend OR 97701 United States;X-APPLE-RADIUS=500;X-TITLE=1044 NW Bond St:geo:-121.3113079,44.0593984
END:VEVENT
BEGIN:VEVENT
DTSTART;VALUE=DATE:20210721
DTEND;VALUE=DATE:20210722
DTSTAMP:20260419T071833
CREATED:20210513T025659Z
LAST-MODIFIED:20230503T201246Z
UID:10001749-1626885000-1626890400@envirocenter.org
SUMMARY:Womxn in Conservation Gatherings
DESCRIPTION:Central Oregon Womxn in Conservation hosts professional development events\, social outings\, and full group meetings. They hope to resume these offerings once pandemic conditions improve. \nIn the meantime\, as the weather warms\,  Central Oregon Womxn in Conservation invites you to join  at Juniper Park in Bend (near the tennis court entrance) for an informal monthly gathering. There will be no agenda. Simply be connecting with one another and catching up! \nAll gatherings will take place at Juniper Park at 800 NE 6th St in Bend. \nThe fine print: Even though we’ll be together outside\, we ask that people wear masks to this gathering. Also\, please bring your own snacks\, beverages\, and chair. 
URL:https://envirocenter.org/event/womxn-in-conservation-gatherings-2/
LOCATION:Deschutes Brewery Public House\, 1044 NW Bond St\, Bend\, OR\, 97701\, United States
GEO:44.0593984;-121.3113079
X-APPLE-STRUCTURED-LOCATION;VALUE=URI;X-ADDRESS=Deschutes Brewery Public House 1044 NW Bond St Bend OR 97701 United States;X-APPLE-RADIUS=500;X-TITLE=1044 NW Bond St:geo:-121.3113079,44.0593984
END:VEVENT
BEGIN:VEVENT
DTSTART;TZID=America/Los_Angeles:20210721T180000
DTEND;TZID=America/Los_Angeles:20210721T190000
DTSTAMP:20260419T071833
CREATED:20210715T163717Z
LAST-MODIFIED:20210715T163717Z
UID:10003639-1626890400-1626894000@envirocenter.org
SUMMARY:Flowing North: Rewilding the Deschutes
DESCRIPTION:The Deschutes River holds a distinct past\, an iconic present\, and a precarious future. This river story meanders through time as its flows rise and fall. The river today is not the same river of yesteryear. At LandWatch\, their mission is to improve and restore critical habitats for fish and wildlife in our rivers and wetlands. \nIn this event\, you’ll dive into the ecological story of the Deschutes\, the ongoing drought\, and what’s next for the river.
URL:https://envirocenter.org/event/flowing-north-rewilding-the-deschutes-2/
CATEGORIES:Online event,Water
ATTACH;FMTTYPE=image/jpeg:https://envirocenter.org/wp-content/uploads/2021/07/Flow-event.jpg
ORGANIZER;CN="Central Oregon LandWatch":MAILTO:caitlyn@colw.org
END:VEVENT
END:VCALENDAR