BEGIN:VCALENDAR
VERSION:2.0
PRODID:-//The Environmental Center - ECPv6.15.20//NONSGML v1.0//EN
CALSCALE:GREGORIAN
METHOD:PUBLISH
X-ORIGINAL-URL:https://envirocenter.org
X-WR-CALDESC:Events for The Environmental Center
REFRESH-INTERVAL;VALUE=DURATION:PT1H
X-Robots-Tag:noindex
X-PUBLISHED-TTL:PT1H
BEGIN:VTIMEZONE
TZID:America/Los_Angeles
BEGIN:DAYLIGHT
TZOFFSETFROM:-0800
TZOFFSETTO:-0700
TZNAME:PDT
DTSTART:20200308T100000
END:DAYLIGHT
BEGIN:STANDARD
TZOFFSETFROM:-0700
TZOFFSETTO:-0800
TZNAME:PST
DTSTART:20201101T090000
END:STANDARD
BEGIN:DAYLIGHT
TZOFFSETFROM:-0800
TZOFFSETTO:-0700
TZNAME:PDT
DTSTART:20210314T100000
END:DAYLIGHT
BEGIN:STANDARD
TZOFFSETFROM:-0700
TZOFFSETTO:-0800
TZNAME:PST
DTSTART:20211107T090000
END:STANDARD
BEGIN:DAYLIGHT
TZOFFSETFROM:-0800
TZOFFSETTO:-0700
TZNAME:PDT
DTSTART:20220313T100000
END:DAYLIGHT
BEGIN:STANDARD
TZOFFSETFROM:-0700
TZOFFSETTO:-0800
TZNAME:PST
DTSTART:20221106T090000
END:STANDARD
END:VTIMEZONE
BEGIN:VEVENT
DTSTART;VALUE=DATE:20210605
DTEND;VALUE=DATE:20210620
DTSTAMP:20260419T114903
CREATED:20210603T023936Z
LAST-MODIFIED:20230503T201254Z
UID:10003609-1622851200-1624147199@envirocenter.org
SUMMARY:Central Oregon Pride Month! June 2021
DESCRIPTION:Pride Month is here! Join all month long for events throughout Central Oregon; including:\n\n– City of Bend Pride Proclamation\n– LGBTQ+ Film Screenings with BendFilm\n– Pride edition of ‘Oh Yess’ @Dogwood\n– Cult of Tuck Drag Show returns!\n– LGBTQ+ Rock Climbing\n– Pride Night Fridays @Bos\n– Bend Your Wrist Vogue Dance\n– Drag Brunch!… and many more\n\nDetails\, dates\, and locations to be announced on OUTCentralOregon page.
URL:https://envirocenter.org/event/central-oregon-pride-month-june-2021/
LOCATION:Deschutes Brewery Public House\, 1044 NW Bond St\, Bend\, OR\, 97701\, United States
CATEGORIES:Inclusion
GEO:44.0593984;-121.3113079
X-APPLE-STRUCTURED-LOCATION;VALUE=URI;X-ADDRESS=Deschutes Brewery Public House 1044 NW Bond St Bend OR 97701 United States;X-APPLE-RADIUS=500;X-TITLE=1044 NW Bond St:geo:-121.3113079,44.0593984
END:VEVENT
BEGIN:VEVENT
DTSTART;VALUE=DATE:20210619
DTEND;VALUE=DATE:20210620
DTSTAMP:20260419T114903
CREATED:20210609T004015Z
LAST-MODIFIED:20230503T201259Z
UID:10001781-1624100400-1624104000@envirocenter.org
SUMMARY:2nd Annual Take The Butte Back March
DESCRIPTION:The Central Oregon Black Leaders Assembly is hosting the second annual “Take the Butte Back March” on Saturday\, June 19th.\n\nIn the 1920s\, the KKK would march up Pilot Butte to hold meetings and burn crosses. Last year\, C.O.B.L.A led over 300 people to the top of Pilot Butte and symbolically took it back in the name of peace and solidarity. Join the march this year to continue this annual trek to keep Pilot Butte a peaceful and enjoyable place for the community.\n\nOregon must continue to address its long history of racism and harm to Black communities\, and celebrating Juneteenth provides an opportunity to educate ourselves\, recognize Oregon’s racist roots\, and celebrate the contributions of Black Americans in the face of ongoing systemic oppression.
URL:https://envirocenter.org/event/2nd-annual-take-the-butte-back-march/
LOCATION:Deschutes Brewery Public House\, 1044 NW Bond St\, Bend\, OR\, 97701\, United States
CATEGORIES:Inclusion
GEO:44.0593984;-121.3113079
X-APPLE-STRUCTURED-LOCATION;VALUE=URI;X-ADDRESS=Deschutes Brewery Public House 1044 NW Bond St Bend OR 97701 United States;X-APPLE-RADIUS=500;X-TITLE=1044 NW Bond St:geo:-121.3113079,44.0593984
END:VEVENT
BEGIN:VEVENT
DTSTART;VALUE=DATE:20210619
DTEND;VALUE=DATE:20210620
DTSTAMP:20260419T114903
CREATED:20210604T032029Z
LAST-MODIFIED:20230503T201259Z
UID:10001777-1624100400-1624122000@envirocenter.org
SUMMARY:Juneteenth: Central Oregon Celebrates Freedom Day
DESCRIPTION:Juneteenth commemorates the anniversary date of the June 19\, 1865 announcement by Union Army General Gordon Granger\, proclaiming freedom from slavery in Texas. Also known as Freedom Day\, Jubilee Day\, Liberation Day\, and Emancipation Day\, this will be a great opportunity for local residents to learn about and celebrate the emancipation of those who had been enslaved in the United States. This type of community gathering is particularly relevant now given the increased awareness and widespread protests that have occurred over the past 12 months around longstanding injustices and inequities in our society. This year we will be highlighting the systemic barriers within Central Oregonians’ current housing crisis\, from our houseless community to affordable rent to equitable homeownership. This opportunity will allow service providers\, city representatives\, land trusts\, and others to come together and communicate their strategies and resources. \nThis fun\, family-friendly event will feature dynamic speakers who will share the history of Juneteenth\, music\, food (both island and American)\, dancers\, face painting for the kids\, a variety of educational exhibits and artistic displays\, and sports. It will benefit the community and especially the youth as most of the day will be spent learning about Juneteenth and its history. Our secondary goal is to increase our collective impact around our housing challenges by providing our community members with access to information.
URL:https://envirocenter.org/event/juneteenth-central-oregon-celebrates-freedom-day/
LOCATION:Deschutes Brewery Public House\, 1044 NW Bond St\, Bend\, OR\, 97701\, United States
CATEGORIES:Diversity|Inclusion
GEO:44.0593984;-121.3113079
X-APPLE-STRUCTURED-LOCATION;VALUE=URI;X-ADDRESS=Deschutes Brewery Public House 1044 NW Bond St Bend OR 97701 United States;X-APPLE-RADIUS=500;X-TITLE=1044 NW Bond St:geo:-121.3113079,44.0593984
END:VEVENT
END:VCALENDAR