BEGIN:VCALENDAR
VERSION:2.0
PRODID:-//The Environmental Center - ECPv6.15.20//NONSGML v1.0//EN
CALSCALE:GREGORIAN
METHOD:PUBLISH
X-WR-CALNAME:The Environmental Center
X-ORIGINAL-URL:https://envirocenter.org
X-WR-CALDESC:Events for The Environmental Center
REFRESH-INTERVAL;VALUE=DURATION:PT1H
X-Robots-Tag:noindex
X-PUBLISHED-TTL:PT1H
BEGIN:VTIMEZONE
TZID:America/Los_Angeles
BEGIN:DAYLIGHT
TZOFFSETFROM:-0800
TZOFFSETTO:-0700
TZNAME:PDT
DTSTART:20200308T100000
END:DAYLIGHT
BEGIN:STANDARD
TZOFFSETFROM:-0700
TZOFFSETTO:-0800
TZNAME:PST
DTSTART:20201101T090000
END:STANDARD
BEGIN:DAYLIGHT
TZOFFSETFROM:-0800
TZOFFSETTO:-0700
TZNAME:PDT
DTSTART:20210314T100000
END:DAYLIGHT
BEGIN:STANDARD
TZOFFSETFROM:-0700
TZOFFSETTO:-0800
TZNAME:PST
DTSTART:20211107T090000
END:STANDARD
BEGIN:DAYLIGHT
TZOFFSETFROM:-0800
TZOFFSETTO:-0700
TZNAME:PDT
DTSTART:20220313T100000
END:DAYLIGHT
BEGIN:STANDARD
TZOFFSETFROM:-0700
TZOFFSETTO:-0800
TZNAME:PST
DTSTART:20221106T090000
END:STANDARD
END:VTIMEZONE
BEGIN:VEVENT
DTSTART;VALUE=DATE:20210605
DTEND;VALUE=DATE:20210620
DTSTAMP:20260419T114847
CREATED:20210603T023936Z
LAST-MODIFIED:20230503T201254Z
UID:10003609-1622851200-1624147199@envirocenter.org
SUMMARY:Central Oregon Pride Month! June 2021
DESCRIPTION:Pride Month is here! Join all month long for events throughout Central Oregon; including:\n\n– City of Bend Pride Proclamation\n– LGBTQ+ Film Screenings with BendFilm\n– Pride edition of ‘Oh Yess’ @Dogwood\n– Cult of Tuck Drag Show returns!\n– LGBTQ+ Rock Climbing\n– Pride Night Fridays @Bos\n– Bend Your Wrist Vogue Dance\n– Drag Brunch!… and many more\n\nDetails\, dates\, and locations to be announced on OUTCentralOregon page.
URL:https://envirocenter.org/event/central-oregon-pride-month-june-2021/
LOCATION:Deschutes Brewery Public House\, 1044 NW Bond St\, Bend\, OR\, 97701\, United States
CATEGORIES:Inclusion
GEO:44.0593984;-121.3113079
X-APPLE-STRUCTURED-LOCATION;VALUE=URI;X-ADDRESS=Deschutes Brewery Public House 1044 NW Bond St Bend OR 97701 United States;X-APPLE-RADIUS=500;X-TITLE=1044 NW Bond St:geo:-121.3113079,44.0593984
END:VEVENT
BEGIN:VEVENT
DTSTART;VALUE=DATE:20210616
DTEND;VALUE=DATE:20210617
DTSTAMP:20260419T114847
CREATED:20210521T032412Z
LAST-MODIFIED:20230503T201248Z
UID:10003602-1623834000-1623844800@envirocenter.org
SUMMARY:Deschutes River Corridor Weed Pulls
DESCRIPTION:Join the Deschutes National Forest and Coalition for the Deschutes for weed pulls along the Deschutes River. \nWeed pull #2 \nOver the past three years Deschutes National Forest and Coalition for the Deschutes  have pulled invasive weeds at Meadow Camp and Ryan Ranch. The exact location for the upcoming weed pull is still being decided upon by the Forest Service. \nFor more information about each of these weed pulls\, send an email to contact@CoalitionfortheDeschutes.org \nYou’ll start each of the weed pulls with an overview of logistics and safety protocols and talk about the what and why of pulling invasive plants. Participants will be required to sign a release waiver. Covid-19 protocols will be observed. \nWhy pull invasive weeds: \n\nNoxious weeds invade a variety of habitats\, including wildlands such as the National Forest and Deschutes River corridor.\nThey displace and compete with native vegetation\, thus reducing wildlife forage\, erosion control\, and overall watershed health.\nThe Bend/Ft. Rock District of the Deschutes National Forest has documented approximately 2\,300 acres of infestations. Some of these infestations are in our favorite places to recreate.\nWe need your help with controlling noxious weeds so we can continue to enjoy these special places!
URL:https://envirocenter.org/event/deschutes-river-corridor-weed-pulls-2/
LOCATION:Deschutes Brewery Public House\, 1044 NW Bond St\, Bend\, OR\, 97701\, United States
GEO:44.0593984;-121.3113079
X-APPLE-STRUCTURED-LOCATION;VALUE=URI;X-ADDRESS=Deschutes Brewery Public House 1044 NW Bond St Bend OR 97701 United States;X-APPLE-RADIUS=500;X-TITLE=1044 NW Bond St:geo:-121.3113079,44.0593984
END:VEVENT
BEGIN:VEVENT
DTSTART;VALUE=DATE:20210616
DTEND;VALUE=DATE:20210617
DTSTAMP:20260419T114847
CREATED:20210617T032206Z
LAST-MODIFIED:20230503T201300Z
UID:10003598-1623861000-1623866400@envirocenter.org
SUMMARY:Womxn in Conservation Gatherings
DESCRIPTION:Central Oregon Womxn in Conservation hosts professional development events\, social outings\, and full group meetings. They hope to resume these offerings once pandemic conditions improve. \nIn the meantime\, as the weather warms\,  Central Oregon Womxn in Conservation invites you to join  at Juniper Park in Bend (near the tennis court entrance) for an informal monthly gathering. There will be no agenda. Simply be connecting with one another and catching up! \nAll gatherings will take place at Juniper Park at 800 NE 6th St in Bend. \nThe fine print: Even though you’ll be together outside\, they ask that people wear masks to this gathering. Also\, please bring your own snacks\, beverages\, and chair.
URL:https://envirocenter.org/event/womxn-in-conservation-gatherings-3/
LOCATION:Deschutes Brewery Public House\, 1044 NW Bond St\, Bend\, OR\, 97701\, United States
GEO:44.0593984;-121.3113079
X-APPLE-STRUCTURED-LOCATION;VALUE=URI;X-ADDRESS=Deschutes Brewery Public House 1044 NW Bond St Bend OR 97701 United States;X-APPLE-RADIUS=500;X-TITLE=1044 NW Bond St:geo:-121.3113079,44.0593984
END:VEVENT
BEGIN:VEVENT
DTSTART;VALUE=DATE:20210616
DTEND;VALUE=DATE:20210617
DTSTAMP:20260419T114847
CREATED:20210504T031321Z
LAST-MODIFIED:20230503T201239Z
UID:10001739-1623862800-1623866400@envirocenter.org
SUMMARY:One of a Kind Owyhee
DESCRIPTION:Get to know the unique landscape of the Owyhee Canyonlands\, from the rolling rapids to the sagebrush plateau. You’ll travel back in time to learn about the long history of how the Owyhee came to be and how you can be involved in the future of conservation across this vast region.
URL:https://envirocenter.org/event/one-of-a-kind-owyhee/
LOCATION:Deschutes Brewery Public House\, 1044 NW Bond St\, Bend\, OR\, 97701\, United States
CATEGORIES:Online event|Public Lands
GEO:44.0593984;-121.3113079
X-APPLE-STRUCTURED-LOCATION;VALUE=URI;X-ADDRESS=Deschutes Brewery Public House 1044 NW Bond St Bend OR 97701 United States;X-APPLE-RADIUS=500;X-TITLE=1044 NW Bond St:geo:-121.3113079,44.0593984
END:VEVENT
BEGIN:VEVENT
DTSTART;VALUE=DATE:20210616
DTEND;VALUE=DATE:20210617
DTSTAMP:20260419T114847
CREATED:20210521T035656Z
LAST-MODIFIED:20230503T201248Z
UID:10003604-1623868200-1623871800@envirocenter.org
SUMMARY:Virtual Workshop: Living with Flickers: A Homeowner’s Guide
DESCRIPTION:Join Sunriver Nature Center & Observatory for a virtual workshop to explore how to live with birds such as flickers and nuthatches who want to turn our homes into theirs. Local wildlife rehabilitator\, Elise Wolf of Native Bird Care Rescue\, will discuss simple ways to either exclude or adapt to our flighted friends and why even the pests\, are well\, extraordinary.
URL:https://envirocenter.org/event/virtual-workshop-living-with-flickers-a-homeowners-guide/
LOCATION:Deschutes Brewery Public House\, 1044 NW Bond St\, Bend\, OR\, 97701\, United States
CATEGORIES:Online event|Youth Education
GEO:44.0593984;-121.3113079
X-APPLE-STRUCTURED-LOCATION;VALUE=URI;X-ADDRESS=Deschutes Brewery Public House 1044 NW Bond St Bend OR 97701 United States;X-APPLE-RADIUS=500;X-TITLE=1044 NW Bond St:geo:-121.3113079,44.0593984
END:VEVENT
END:VCALENDAR