BEGIN:VCALENDAR
VERSION:2.0
PRODID:-//The Environmental Center - ECPv6.15.20//NONSGML v1.0//EN
CALSCALE:GREGORIAN
METHOD:PUBLISH
X-ORIGINAL-URL:https://envirocenter.org
X-WR-CALDESC:Events for The Environmental Center
REFRESH-INTERVAL;VALUE=DURATION:PT1H
X-Robots-Tag:noindex
X-PUBLISHED-TTL:PT1H
BEGIN:VTIMEZONE
TZID:America/Los_Angeles
BEGIN:DAYLIGHT
TZOFFSETFROM:-0800
TZOFFSETTO:-0700
TZNAME:PDT
DTSTART:20200308T100000
END:DAYLIGHT
BEGIN:STANDARD
TZOFFSETFROM:-0700
TZOFFSETTO:-0800
TZNAME:PST
DTSTART:20201101T090000
END:STANDARD
BEGIN:DAYLIGHT
TZOFFSETFROM:-0800
TZOFFSETTO:-0700
TZNAME:PDT
DTSTART:20210314T100000
END:DAYLIGHT
BEGIN:STANDARD
TZOFFSETFROM:-0700
TZOFFSETTO:-0800
TZNAME:PST
DTSTART:20211107T090000
END:STANDARD
BEGIN:DAYLIGHT
TZOFFSETFROM:-0800
TZOFFSETTO:-0700
TZNAME:PDT
DTSTART:20220313T100000
END:DAYLIGHT
BEGIN:STANDARD
TZOFFSETFROM:-0700
TZOFFSETTO:-0800
TZNAME:PST
DTSTART:20221106T090000
END:STANDARD
END:VTIMEZONE
BEGIN:VEVENT
DTSTART;VALUE=DATE:20210605
DTEND;VALUE=DATE:20210620
DTSTAMP:20260420T021355
CREATED:20210603T023936Z
LAST-MODIFIED:20230503T201254Z
UID:10003609-1622851200-1624147199@envirocenter.org
SUMMARY:Central Oregon Pride Month! June 2021
DESCRIPTION:Pride Month is here! Join all month long for events throughout Central Oregon; including:\n\n– City of Bend Pride Proclamation\n– LGBTQ+ Film Screenings with BendFilm\n– Pride edition of ‘Oh Yess’ @Dogwood\n– Cult of Tuck Drag Show returns!\n– LGBTQ+ Rock Climbing\n– Pride Night Fridays @Bos\n– Bend Your Wrist Vogue Dance\n– Drag Brunch!… and many more\n\nDetails\, dates\, and locations to be announced on OUTCentralOregon page.
URL:https://envirocenter.org/event/central-oregon-pride-month-june-2021/
LOCATION:Deschutes Brewery Public House\, 1044 NW Bond St\, Bend\, OR\, 97701\, United States
CATEGORIES:Inclusion
GEO:44.0593984;-121.3113079
X-APPLE-STRUCTURED-LOCATION;VALUE=URI;X-ADDRESS=Deschutes Brewery Public House 1044 NW Bond St Bend OR 97701 United States;X-APPLE-RADIUS=500;X-TITLE=1044 NW Bond St:geo:-121.3113079,44.0593984
END:VEVENT
BEGIN:VEVENT
DTSTART;VALUE=DATE:20210609
DTEND;VALUE=DATE:20210610
DTSTAMP:20260420T021355
CREATED:20210603T040403Z
LAST-MODIFIED:20230503T201258Z
UID:10001774-1623232800-1623238200@envirocenter.org
SUMMARY:Pressure Canning Preserve-Along
DESCRIPTION:Practice or review pressure canning steps and tips in this hands-on interactive session. Session guides will be sent by email on Friday\, June 4 prior to this workshop with ingredients\, supplies and steps to take in advance. \nPLEASE NOTE: Payments are non-refundable if you find you cannot attend
URL:https://envirocenter.org/event/pressure-canning-preserve-along/
LOCATION:Deschutes Brewery Public House\, 1044 NW Bond St\, Bend\, OR\, 97701\, United States
CATEGORIES:Food|Online event
GEO:44.0593984;-121.3113079
X-APPLE-STRUCTURED-LOCATION;VALUE=URI;X-ADDRESS=Deschutes Brewery Public House 1044 NW Bond St Bend OR 97701 United States;X-APPLE-RADIUS=500;X-TITLE=1044 NW Bond St:geo:-121.3113079,44.0593984
END:VEVENT
BEGIN:VEVENT
DTSTART;VALUE=DATE:20210609
DTEND;VALUE=DATE:20210610
DTSTAMP:20260420T021355
CREATED:20210603T035625Z
LAST-MODIFIED:20230503T201255Z
UID:10003618-1623240000-1623245400@envirocenter.org
SUMMARY:Virtual Event: A Guide to Restoring the Little Things That Run the World
DESCRIPTION:Join Dr. Doug Tallamy\, entomologist and author of Nature’s Best Hope\, for this lively discussion. A recent UN report predicts that as many as 1 million species will disappear from planet earth because of human activities. Many of these are insects and nearly all species at risk rely on insects. Insects have already declined 45% since 1974. How do we create beautiful landscapes brimming with life; landscapes that support the pollinators\, herbivores\, detritivores\, predators and parasitoids that run the ecosystems on which we depend? Tallamy will remind us of the many essential roles insects play\, and describe the simple changes we must make to keep insects on the ground\, in the air and yes\, on our plants. Also learn about the Native Plant Society of Oregon: High Desert Chapter\, the Bend Pollinator Pathway\, and how you can get involved. What can we plant and what actions can we take to support native pollinators in Central Oregon? \nThis virtual event is FREE but registration is required. 
URL:https://envirocenter.org/event/virtual-event-a-guide-to-restoring-the-little-things-that-run-the-world/
LOCATION:Deschutes Brewery Public House\, 1044 NW Bond St\, Bend\, OR\, 97701\, United States
CATEGORIES:Garden|Online event
GEO:44.0593984;-121.3113079
X-APPLE-STRUCTURED-LOCATION;VALUE=URI;X-ADDRESS=Deschutes Brewery Public House 1044 NW Bond St Bend OR 97701 United States;X-APPLE-RADIUS=500;X-TITLE=1044 NW Bond St:geo:-121.3113079,44.0593984
END:VEVENT
BEGIN:VEVENT
DTSTART;VALUE=DATE:20210609
DTEND;VALUE=DATE:20210610
DTSTAMP:20260420T021355
CREATED:20210604T071447Z
LAST-MODIFIED:20230503T201259Z
UID:10001778-1623254400-1623258000@envirocenter.org
SUMMARY:Summer Bees & Plants
DESCRIPTION:Join Beyond Toxics for a webinar to learn about native bees and attend a virtual native plant tour! August Jackson (Mount Pisgah Arboretum) will give a brief look at some of Oregon’s bee species that thrive in the heat of summer\, and discuss what you can do to support them in your area. Then Kelsey Irvine (City of Eugene) will take you on a virtual tour of the Native Plant Nursery in Alton Baker Park and show you some blooming native pollinator plants to support these heat-loving summer bees! There will be time for q&a at the end. All are welcome!
URL:https://envirocenter.org/event/summer-bees-plants/
LOCATION:Deschutes Brewery Public House\, 1044 NW Bond St\, Bend\, OR\, 97701\, United States
GEO:44.0593984;-121.3113079
X-APPLE-STRUCTURED-LOCATION;VALUE=URI;X-ADDRESS=Deschutes Brewery Public House 1044 NW Bond St Bend OR 97701 United States;X-APPLE-RADIUS=500;X-TITLE=1044 NW Bond St:geo:-121.3113079,44.0593984
END:VEVENT
END:VCALENDAR