BEGIN:VCALENDAR
VERSION:2.0
PRODID:-//The Environmental Center - ECPv6.15.20//NONSGML v1.0//EN
CALSCALE:GREGORIAN
METHOD:PUBLISH
X-WR-CALNAME:The Environmental Center
X-ORIGINAL-URL:https://envirocenter.org
X-WR-CALDESC:Events for The Environmental Center
REFRESH-INTERVAL;VALUE=DURATION:PT1H
X-Robots-Tag:noindex
X-PUBLISHED-TTL:PT1H
BEGIN:VTIMEZONE
TZID:America/Los_Angeles
BEGIN:DAYLIGHT
TZOFFSETFROM:-0800
TZOFFSETTO:-0700
TZNAME:PDT
DTSTART:20200308T100000
END:DAYLIGHT
BEGIN:STANDARD
TZOFFSETFROM:-0700
TZOFFSETTO:-0800
TZNAME:PST
DTSTART:20201101T090000
END:STANDARD
BEGIN:DAYLIGHT
TZOFFSETFROM:-0800
TZOFFSETTO:-0700
TZNAME:PDT
DTSTART:20210314T100000
END:DAYLIGHT
BEGIN:STANDARD
TZOFFSETFROM:-0700
TZOFFSETTO:-0800
TZNAME:PST
DTSTART:20211107T090000
END:STANDARD
BEGIN:DAYLIGHT
TZOFFSETFROM:-0800
TZOFFSETTO:-0700
TZNAME:PDT
DTSTART:20220313T100000
END:DAYLIGHT
BEGIN:STANDARD
TZOFFSETFROM:-0700
TZOFFSETTO:-0800
TZNAME:PST
DTSTART:20221106T090000
END:STANDARD
END:VTIMEZONE
BEGIN:VEVENT
DTSTART;VALUE=DATE:20210605
DTEND;VALUE=DATE:20210606
DTSTAMP:20260420T145357
CREATED:20210603T025628Z
LAST-MODIFIED:20230503T201254Z
UID:10003610-1622851200-1622937599@envirocenter.org
SUMMARY:National Trails Day- Take Action for Trails!
DESCRIPTION:Saturday\, June 5th is National Trails Day: One Way to Celebrate! (in addition to getting out on the trail) \nContact your congressperson and ask them to support HR 1864\, the Recreational Trails Program Full Funding Act. RTP is such an important funding source for all kinds of Oregon trails\, and requests outstrip available funds 4 to 1! Thanks to everyone who signed on to our letter last week. Now let’s make sure Oregon’s congressional delegation hears directly from Oregonians about the value of local trails and this funding program. See who else supports HR 1864!
URL:https://envirocenter.org/event/national-trails-day-take-action-for-trails/
LOCATION:Deschutes Brewery Public House\, 1044 NW Bond St\, Bend\, OR\, 97701\, United States
CATEGORIES:Advocacy|Public Lands
GEO:44.0593984;-121.3113079
X-APPLE-STRUCTURED-LOCATION;VALUE=URI;X-ADDRESS=Deschutes Brewery Public House 1044 NW Bond St Bend OR 97701 United States;X-APPLE-RADIUS=500;X-TITLE=1044 NW Bond St:geo:-121.3113079,44.0593984
END:VEVENT
BEGIN:VEVENT
DTSTART;VALUE=DATE:20210605
DTEND;VALUE=DATE:20210608
DTSTAMP:20260420T145357
CREATED:20210604T210625Z
LAST-MODIFIED:20230503T201259Z
UID:10001779-1622851200-1623110399@envirocenter.org
SUMMARY:Screening & Discussion of “Kiss the Ground”
DESCRIPTION:With less than 10 years left to shift the path of our planet and combat climate change\, the UN Decade on Ecosystem Restoration calls to prevent\, halt\, and reverse the degradation of ecosystems on every continent and in every ocean. \nOn World Environment Day\, join the Food and Agriculture Organization of the United Nations (FAO) and the United Nations Environment Programme (UNEP) to mark the launch of the UN Decade by viewing an exclusive screening of the critically-acclaimed environmental feature documentary\, “Kiss the Ground\,” and joining a virtual discussion about the film. \nYou are invited to watch the documentary between June 5-7 and tune into the interactive panel discussion with experts and featured guests from the film on Monday\, June 7 from 11 am – 12 PM EST. This session will highlight innovative ways regenerative agriculture is reviving ecosystems around the world and how you can be part of the movement. \n\n\n\n\n\n\n\nJoin the discussion
URL:https://envirocenter.org/event/screening-discussion-of-kiss-the-ground/
LOCATION:Deschutes Brewery Public House\, 1044 NW Bond St\, Bend\, OR\, 97701\, United States
CATEGORIES:Film|Food
GEO:44.0593984;-121.3113079
X-APPLE-STRUCTURED-LOCATION;VALUE=URI;X-ADDRESS=Deschutes Brewery Public House 1044 NW Bond St Bend OR 97701 United States;X-APPLE-RADIUS=500;X-TITLE=1044 NW Bond St:geo:-121.3113079,44.0593984
END:VEVENT
BEGIN:VEVENT
DTSTART;VALUE=DATE:20210605
DTEND;VALUE=DATE:20210620
DTSTAMP:20260420T145357
CREATED:20210603T023936Z
LAST-MODIFIED:20230503T201254Z
UID:10003609-1622851200-1624147199@envirocenter.org
SUMMARY:Central Oregon Pride Month! June 2021
DESCRIPTION:Pride Month is here! Join all month long for events throughout Central Oregon; including:\n\n– City of Bend Pride Proclamation\n– LGBTQ+ Film Screenings with BendFilm\n– Pride edition of ‘Oh Yess’ @Dogwood\n– Cult of Tuck Drag Show returns!\n– LGBTQ+ Rock Climbing\n– Pride Night Fridays @Bos\n– Bend Your Wrist Vogue Dance\n– Drag Brunch!… and many more\n\nDetails\, dates\, and locations to be announced on OUTCentralOregon page.
URL:https://envirocenter.org/event/central-oregon-pride-month-june-2021/
LOCATION:Deschutes Brewery Public House\, 1044 NW Bond St\, Bend\, OR\, 97701\, United States
CATEGORIES:Inclusion
GEO:44.0593984;-121.3113079
X-APPLE-STRUCTURED-LOCATION;VALUE=URI;X-ADDRESS=Deschutes Brewery Public House 1044 NW Bond St Bend OR 97701 United States;X-APPLE-RADIUS=500;X-TITLE=1044 NW Bond St:geo:-121.3113079,44.0593984
END:VEVENT
BEGIN:VEVENT
DTSTART;VALUE=DATE:20210605
DTEND;VALUE=DATE:20210606
DTSTAMP:20260420T145357
CREATED:20210513T060438Z
LAST-MODIFIED:20230503T201246Z
UID:10001754-1622887200-1622894400@envirocenter.org
SUMMARY:Watershed Warriors
DESCRIPTION:Our local watershed is a vital part of our everyday life and a treasured natural resource we want to help preserve. During this program\, you and your family will learn all about the importance of watersheds and how to be good stewards for our waterways. From examining water and macroinvertebrate samples in the field\, to performing real-time pollution experiments using a watershed model\, you will become experts in pollution prevention and watershed stewardship in no time! \nThis is a family program designed for families with children ages 6 to 10 years old. Capacity for this program is limited. This program takes place fully outdoors and masks are required for participants. \nThis program is free for Central Oregon families thanks to special support from Children’s Forest of Central Oregon.
URL:https://envirocenter.org/event/watershed-warriors-2021-05-22/
LOCATION:Deschutes Brewery Public House\, 1044 NW Bond St\, Bend\, OR\, 97701\, United States
CATEGORIES:Water|Youth Education
GEO:44.0593984;-121.3113079
X-APPLE-STRUCTURED-LOCATION;VALUE=URI;X-ADDRESS=Deschutes Brewery Public House 1044 NW Bond St Bend OR 97701 United States;X-APPLE-RADIUS=500;X-TITLE=1044 NW Bond St:geo:-121.3113079,44.0593984
END:VEVENT
END:VCALENDAR