BEGIN:VCALENDAR
VERSION:2.0
PRODID:-//The Environmental Center - ECPv6.15.20//NONSGML v1.0//EN
CALSCALE:GREGORIAN
METHOD:PUBLISH
X-WR-CALNAME:The Environmental Center
X-ORIGINAL-URL:https://envirocenter.org
X-WR-CALDESC:Events for The Environmental Center
REFRESH-INTERVAL;VALUE=DURATION:PT1H
X-Robots-Tag:noindex
X-PUBLISHED-TTL:PT1H
BEGIN:VTIMEZONE
TZID:America/Los_Angeles
BEGIN:DAYLIGHT
TZOFFSETFROM:-0800
TZOFFSETTO:-0700
TZNAME:PDT
DTSTART:20200308T100000
END:DAYLIGHT
BEGIN:STANDARD
TZOFFSETFROM:-0700
TZOFFSETTO:-0800
TZNAME:PST
DTSTART:20201101T090000
END:STANDARD
BEGIN:DAYLIGHT
TZOFFSETFROM:-0800
TZOFFSETTO:-0700
TZNAME:PDT
DTSTART:20210314T100000
END:DAYLIGHT
BEGIN:STANDARD
TZOFFSETFROM:-0700
TZOFFSETTO:-0800
TZNAME:PST
DTSTART:20211107T090000
END:STANDARD
BEGIN:DAYLIGHT
TZOFFSETFROM:-0800
TZOFFSETTO:-0700
TZNAME:PDT
DTSTART:20220313T100000
END:DAYLIGHT
BEGIN:STANDARD
TZOFFSETFROM:-0700
TZOFFSETTO:-0800
TZNAME:PST
DTSTART:20221106T090000
END:STANDARD
END:VTIMEZONE
BEGIN:VEVENT
DTSTART;VALUE=DATE:20210529
DTEND;VALUE=DATE:20210530
DTSTAMP:20260420T010339
CREATED:20210121T054053Z
LAST-MODIFIED:20230503T201150Z
UID:10003502-1622246400-1622332799@envirocenter.org
SUMMARY:Happy Girls Run 2021
DESCRIPTION:Grab your bestie and take in the beauty of Central Oregon as you embark on a tour of majestic scenery. You’ll be well-supported with multiple aid stations\, medics and helpful event staff to make your day all about you and achieving your personal goals. Register now
URL:https://envirocenter.org/event/happy-girls-run-2021/
LOCATION:Deschutes Brewery Public House\, 1044 NW Bond St\, Bend\, OR\, 97701\, United States
GEO:44.0593984;-121.3113079
X-APPLE-STRUCTURED-LOCATION;VALUE=URI;X-ADDRESS=Deschutes Brewery Public House 1044 NW Bond St Bend OR 97701 United States;X-APPLE-RADIUS=500;X-TITLE=1044 NW Bond St:geo:-121.3113079,44.0593984
END:VEVENT
BEGIN:VEVENT
DTSTART;VALUE=DATE:20210529
DTEND;VALUE=DATE:20210530
DTSTAMP:20260420T010339
CREATED:20210513T060438Z
LAST-MODIFIED:20230503T201246Z
UID:10001753-1622282400-1622289600@envirocenter.org
SUMMARY:Watershed Warriors
DESCRIPTION:Our local watershed is a vital part of our everyday life and a treasured natural resource we want to help preserve. During this program\, you and your family will learn all about the importance of watersheds and how to be good stewards for our waterways. From examining water and macroinvertebrate samples in the field\, to performing real-time pollution experiments using a watershed model\, you will become experts in pollution prevention and watershed stewardship in no time! \nThis is a family program designed for families with children ages 6 to 10 years old. Capacity for this program is limited. This program takes place fully outdoors and masks are required for participants. \nThis program is free for Central Oregon families thanks to special support from Children’s Forest of Central Oregon.
URL:https://envirocenter.org/event/watershed-warriors-2021-05-22/
LOCATION:Deschutes Brewery Public House\, 1044 NW Bond St\, Bend\, OR\, 97701\, United States
CATEGORIES:Water|Youth Education
GEO:44.0593984;-121.3113079
X-APPLE-STRUCTURED-LOCATION;VALUE=URI;X-ADDRESS=Deschutes Brewery Public House 1044 NW Bond St Bend OR 97701 United States;X-APPLE-RADIUS=500;X-TITLE=1044 NW Bond St:geo:-121.3113079,44.0593984
END:VEVENT
END:VCALENDAR