BEGIN:VCALENDAR
VERSION:2.0
PRODID:-//The Environmental Center - ECPv6.15.20//NONSGML v1.0//EN
CALSCALE:GREGORIAN
METHOD:PUBLISH
X-ORIGINAL-URL:https://envirocenter.org
X-WR-CALDESC:Events for The Environmental Center
REFRESH-INTERVAL;VALUE=DURATION:PT1H
X-Robots-Tag:noindex
X-PUBLISHED-TTL:PT1H
BEGIN:VTIMEZONE
TZID:America/Los_Angeles
BEGIN:DAYLIGHT
TZOFFSETFROM:-0800
TZOFFSETTO:-0700
TZNAME:PDT
DTSTART:20200308T100000
END:DAYLIGHT
BEGIN:STANDARD
TZOFFSETFROM:-0700
TZOFFSETTO:-0800
TZNAME:PST
DTSTART:20201101T090000
END:STANDARD
BEGIN:DAYLIGHT
TZOFFSETFROM:-0800
TZOFFSETTO:-0700
TZNAME:PDT
DTSTART:20210314T100000
END:DAYLIGHT
BEGIN:STANDARD
TZOFFSETFROM:-0700
TZOFFSETTO:-0800
TZNAME:PST
DTSTART:20211107T090000
END:STANDARD
BEGIN:DAYLIGHT
TZOFFSETFROM:-0800
TZOFFSETTO:-0700
TZNAME:PDT
DTSTART:20220313T100000
END:DAYLIGHT
BEGIN:STANDARD
TZOFFSETFROM:-0700
TZOFFSETTO:-0800
TZNAME:PST
DTSTART:20221106T090000
END:STANDARD
END:VTIMEZONE
BEGIN:VEVENT
DTSTART;VALUE=DATE:20210507
DTEND;VALUE=DATE:20210508
DTSTAMP:20260422T150334
CREATED:20210414T065758Z
LAST-MODIFIED:20230503T201229Z
UID:10003564-1620388800-1620394200@envirocenter.org
SUMMARY:‘On The Level’ Webinar Series
DESCRIPTION:Live Webinars | May 7\, 14\, & 21 (12-1:30PM) \nJoin Earth Advantage for a three-part webinar series on air barriers\, indoor air quality\, balanced ventilation & ERVs/HRVs. Many builders across the NW are continually looking to improve the air tightness and ventilation of their homes\, but are left wondering what the best opportunities are to make the jump in performance. \nThis ‘On The Level’ series will provide you with field-tested recommendations from building professionals and ample opportunity for Q&A on the following critical topics:  \n\nMay 7 – Exterior Air Barrier Details for the Pacific NW\nMay 14 – Balanced Ventilation Approaches for Healthy Indoor Air \nMay 21 – Installation Elements for ERVs & HRVs \n\nRegister today (offered at no cost thanks to support from BetterBuiltNW)
URL:https://envirocenter.org/event/on-the-level-webinar-series/
LOCATION:Deschutes Brewery Public House\, 1044 NW Bond St\, Bend\, OR\, 97701\, United States
CATEGORIES:Energy
GEO:44.0593984;-121.3113079
X-APPLE-STRUCTURED-LOCATION;VALUE=URI;X-ADDRESS=Deschutes Brewery Public House 1044 NW Bond St Bend OR 97701 United States;X-APPLE-RADIUS=500;X-TITLE=1044 NW Bond St:geo:-121.3113079,44.0593984
END:VEVENT
END:VCALENDAR