BEGIN:VCALENDAR
VERSION:2.0
PRODID:-//The Environmental Center - ECPv6.15.20//NONSGML v1.0//EN
CALSCALE:GREGORIAN
METHOD:PUBLISH
X-WR-CALNAME:The Environmental Center
X-ORIGINAL-URL:https://envirocenter.org
X-WR-CALDESC:Events for The Environmental Center
REFRESH-INTERVAL;VALUE=DURATION:PT1H
X-Robots-Tag:noindex
X-PUBLISHED-TTL:PT1H
BEGIN:VTIMEZONE
TZID:America/Los_Angeles
BEGIN:DAYLIGHT
TZOFFSETFROM:-0800
TZOFFSETTO:-0700
TZNAME:PDT
DTSTART:20200308T100000
END:DAYLIGHT
BEGIN:STANDARD
TZOFFSETFROM:-0700
TZOFFSETTO:-0800
TZNAME:PST
DTSTART:20201101T090000
END:STANDARD
BEGIN:DAYLIGHT
TZOFFSETFROM:-0800
TZOFFSETTO:-0700
TZNAME:PDT
DTSTART:20210314T100000
END:DAYLIGHT
BEGIN:STANDARD
TZOFFSETFROM:-0700
TZOFFSETTO:-0800
TZNAME:PST
DTSTART:20211107T090000
END:STANDARD
BEGIN:DAYLIGHT
TZOFFSETFROM:-0800
TZOFFSETTO:-0700
TZNAME:PDT
DTSTART:20220313T100000
END:DAYLIGHT
BEGIN:STANDARD
TZOFFSETFROM:-0700
TZOFFSETTO:-0800
TZNAME:PST
DTSTART:20221106T090000
END:STANDARD
END:VTIMEZONE
BEGIN:VEVENT
DTSTART;VALUE=DATE:20210416
DTEND;VALUE=DATE:20210426
DTSTAMP:20260420T174211
CREATED:20210412T065341Z
LAST-MODIFIED:20230503T201228Z
UID:10001726-1618599600-1619384400@envirocenter.org
SUMMARY:Celebrate Earth Day with film screening of Microplastic Madness
DESCRIPTION:The Environmental Center and Bendfilm are teaming up to bring you a free screening of Microplastic Madness. Followed by a live panel discussion. \nMicroplastic Madness is an optimistic take on the local and global plastic pollution crisis as told through a refreshing urban youth point of view with an inspiring take action message. \nThe live panel discussion on 4/22 at 6:00PM will help connect global plastic pollution in the oceans to our local Central Oregon actions. Panelists include microplastics scientists Dr. Janice Brahney and Dr. Elise Granek\, the film’s producer\, and local legislator Phil Chang. \n\nView trailer here!
URL:https://envirocenter.org/event/celebrate-earth-day-with-film-screening-of-microplastic-madness/
LOCATION:Deschutes Brewery Public House\, 1044 NW Bond St\, Bend\, OR\, 97701\, United States
CATEGORIES:Advocacy|Climate|Earth Day|Film|Online event|Rethink Waste|Youth Education
GEO:44.0593984;-121.3113079
X-APPLE-STRUCTURED-LOCATION;VALUE=URI;X-ADDRESS=Deschutes Brewery Public House 1044 NW Bond St Bend OR 97701 United States;X-APPLE-RADIUS=500;X-TITLE=1044 NW Bond St:geo:-121.3113079,44.0593984
END:VEVENT
BEGIN:VEVENT
DTSTART;VALUE=DATE:20210417
DTEND;VALUE=DATE:20210425
DTSTAMP:20260420T174211
CREATED:20210417T071100Z
LAST-MODIFIED:20230503T201233Z
UID:10001728-1618617600-1619308799@envirocenter.org
SUMMARY:Emerald Earth Film Festival
DESCRIPTION:Center for Environmental Futures presents: Emerald Earth 2021 Film Festival \nThis year’s EEFF theme is “Toxins.” Once you register\, you will be able to stream the films on demand! \nHere is the line-up: \n\nPainted Nails by Erica Jordan and Dianne Griffin\nEast LA Interchange by Betsy Kalin\nAround Crab Orchard by Sarah Kanouse\n\nThe EEFF is hosted by  Center for Environmental Futures. \nThere will also be a series of conversations with the film producers on April 19th\, 20th\, and 21st. To register and find out more\, visit: https://cef.uoregon.edu/emerald-earth-2021-toxins/
URL:https://envirocenter.org/event/emerald-earth-film-festival/
LOCATION:Deschutes Brewery Public House\, 1044 NW Bond St\, Bend\, OR\, 97701\, United States
CATEGORIES:Earth Day|Film|Online event
GEO:44.0593984;-121.3113079
X-APPLE-STRUCTURED-LOCATION;VALUE=URI;X-ADDRESS=Deschutes Brewery Public House 1044 NW Bond St Bend OR 97701 United States;X-APPLE-RADIUS=500;X-TITLE=1044 NW Bond St:geo:-121.3113079,44.0593984
END:VEVENT
BEGIN:VEVENT
DTSTART;VALUE=DATE:20210421
DTEND;VALUE=DATE:20210422
DTSTAMP:20260420T174211
CREATED:20210401T062007Z
LAST-MODIFIED:20230503T201225Z
UID:10001719-1618963200-1619049599@envirocenter.org
SUMMARY:Othering & Belonging Spring Summit 2021
DESCRIPTION:Join the Othering & Belonging Institute on April 21 for a groundbreaking day of connection and big ideas for building a world based on belonging\, justice\, and care—for our communities\, for our living planet\, and for our future. \nSummit will feature special sessions with Toshi Reagon\, john a. powell\, Tokata Iron Eyes\, Xiye Bastida\, The Nile Project\, Naomi Klein\, Taeku Lee\, Astra Taylor\, Norma Wong\, Sarah Crowell\, Alphabet Rockers\, and more. Agenda and speakers can be found on Summit webpage.
URL:https://envirocenter.org/event/othering-belonging-spring-summit-2021/
LOCATION:Deschutes Brewery Public House\, 1044 NW Bond St\, Bend\, OR\, 97701\, United States
CATEGORIES:Advocacy|Climate|Inclusion|Online event|Social Justice
GEO:44.0593984;-121.3113079
X-APPLE-STRUCTURED-LOCATION;VALUE=URI;X-ADDRESS=Deschutes Brewery Public House 1044 NW Bond St Bend OR 97701 United States;X-APPLE-RADIUS=500;X-TITLE=1044 NW Bond St:geo:-121.3113079,44.0593984
END:VEVENT
BEGIN:VEVENT
DTSTART;VALUE=DATE:20210421
DTEND;VALUE=DATE:20210422
DTSTAMP:20260420T174211
CREATED:20210420T030656Z
LAST-MODIFIED:20230503T201233Z
UID:10001730-1619024400-1619029800@envirocenter.org
SUMMARY:Game Changers: Youth-led Action on Climate Change
DESCRIPTION:Join Art Works for Change\, the ISB Intersectional Activism club\, and Beaverton City Library for a climate change-themed game night\, featuring student art\, poetry\, and presentations from climate change organizations. This event is one of a series of interactive experiences to promote action on climate change\, and is part of a new storytelling project that will help people visualize the impact of global warming and the pathways to solving the climate crisis. All ages are welcome. Registration required; register with an email address and an email will be sent with the link prior to the event.
URL:https://envirocenter.org/event/game-changers-youth-led-action-on-climate-change/
LOCATION:Deschutes Brewery Public House\, 1044 NW Bond St\, Bend\, OR\, 97701\, United States
CATEGORIES:Advocacy|Earth Day|Online event|Youth Education
GEO:44.0593984;-121.3113079
X-APPLE-STRUCTURED-LOCATION;VALUE=URI;X-ADDRESS=Deschutes Brewery Public House 1044 NW Bond St Bend OR 97701 United States;X-APPLE-RADIUS=500;X-TITLE=1044 NW Bond St:geo:-121.3113079,44.0593984
END:VEVENT
BEGIN:VEVENT
DTSTART;VALUE=DATE:20210421
DTEND;VALUE=DATE:20210423
DTSTAMP:20260420T174211
CREATED:20210420T032853Z
LAST-MODIFIED:20230503T201233Z
UID:10001731-1619026200-1619119800@envirocenter.org
SUMMARY:2021 Oregon Budget Virtual Hearings
DESCRIPTION:Representative Kropf would like to share important information and resources about Oregon’s upcoming Budget Virtual Hearings. The Joint Committee on Ways and Means will host the 2021 Oregon Budget Virtual Hearings to receive public feedback on how the Legislature should balance the state budget and use federal funding from the American Rescue Plan Act. \n\n\n\n\nDue to the ongoing pandemic\, these hearings will be conducted virtually and organized by congressional district. Members of the public will be able to submit written testimony\, as well as provide live testimony by phone or video during the hearings. Oregonians can find their congressional district here \nLink and agenda for April 21st.  \n\n\n\n\nLink and agenda for April 22nd.
URL:https://envirocenter.org/event/2021-oregon-budget-virtual-hearings-2021-04-21/
LOCATION:Deschutes Brewery Public House\, 1044 NW Bond St\, Bend\, OR\, 97701\, United States
CATEGORIES:Advocacy|Online event
GEO:44.0593984;-121.3113079
X-APPLE-STRUCTURED-LOCATION;VALUE=URI;X-ADDRESS=Deschutes Brewery Public House 1044 NW Bond St Bend OR 97701 United States;X-APPLE-RADIUS=500;X-TITLE=1044 NW Bond St:geo:-121.3113079,44.0593984
END:VEVENT
BEGIN:VEVENT
DTSTART;VALUE=DATE:20210421
DTEND;VALUE=DATE:20210422
DTSTAMP:20260420T174211
CREATED:20210412T115956Z
LAST-MODIFIED:20230503T201229Z
UID:10003559-1619028000-1619031600@envirocenter.org
SUMMARY:Webcast: The Loneliest Polar Bear
DESCRIPTION:Join author Kale Williams for a presentation on his work writing The Loneliest Polar Bear\, exploring how polar bears became the poster children for climate change\, how climate change is impacting the people living in the Arctic\, and how the fate of polar bears is not theirs alone.
URL:https://envirocenter.org/event/webcast-the-loneliest-polar-bear/
LOCATION:Deschutes Brewery Public House\, 1044 NW Bond St\, Bend\, OR\, 97701\, United States
CATEGORIES:Advocacy|Climate|Online event
GEO:44.0593984;-121.3113079
X-APPLE-STRUCTURED-LOCATION;VALUE=URI;X-ADDRESS=Deschutes Brewery Public House 1044 NW Bond St Bend OR 97701 United States;X-APPLE-RADIUS=500;X-TITLE=1044 NW Bond St:geo:-121.3113079,44.0593984
END:VEVENT
END:VCALENDAR