BEGIN:VCALENDAR
VERSION:2.0
PRODID:-//The Environmental Center - ECPv6.15.20//NONSGML v1.0//EN
CALSCALE:GREGORIAN
METHOD:PUBLISH
X-ORIGINAL-URL:https://envirocenter.org
X-WR-CALDESC:Events for The Environmental Center
REFRESH-INTERVAL;VALUE=DURATION:PT1H
X-Robots-Tag:noindex
X-PUBLISHED-TTL:PT1H
BEGIN:VTIMEZONE
TZID:America/Los_Angeles
BEGIN:DAYLIGHT
TZOFFSETFROM:-0800
TZOFFSETTO:-0700
TZNAME:PDT
DTSTART:20200308T100000
END:DAYLIGHT
BEGIN:STANDARD
TZOFFSETFROM:-0700
TZOFFSETTO:-0800
TZNAME:PST
DTSTART:20201101T090000
END:STANDARD
BEGIN:DAYLIGHT
TZOFFSETFROM:-0800
TZOFFSETTO:-0700
TZNAME:PDT
DTSTART:20210314T100000
END:DAYLIGHT
BEGIN:STANDARD
TZOFFSETFROM:-0700
TZOFFSETTO:-0800
TZNAME:PST
DTSTART:20211107T090000
END:STANDARD
BEGIN:DAYLIGHT
TZOFFSETFROM:-0800
TZOFFSETTO:-0700
TZNAME:PDT
DTSTART:20220313T100000
END:DAYLIGHT
BEGIN:STANDARD
TZOFFSETFROM:-0700
TZOFFSETTO:-0800
TZNAME:PST
DTSTART:20221106T090000
END:STANDARD
END:VTIMEZONE
BEGIN:VEVENT
DTSTART;VALUE=DATE:20210401
DTEND;VALUE=DATE:20210410
DTSTAMP:20260419T085531
CREATED:20210331T013418Z
LAST-MODIFIED:20230503T201221Z
UID:10003549-1617235200-1618012799@envirocenter.org
SUMMARY:#areYOUintheblastzone : 350.org Week of Action
DESCRIPTION:Join 350Deschutes April 1 – 9\, 2021 in a national week of action with the #BuildBackFossilFree coalition to escalate the demand for President Joe Biden to be a real Climate President by stopping all new fossil fuel projects. \nWhat: #areYOUintheblastzone as part of national Build Back Fossil Free week of action. Post images of yourself at your favorite local parks\, breweries\, businesses\, or even at your home to show how much of Bend is within the blast zone. Tag @350deschutes and use the hashtag #areyouintheblastzone \nWhy: Here in central Oregon\, particularly in Bend\, we are literally living\, working\, learning\, and playing in a potential devastating train derailment\, spill\, fire or even explosion. We need to raise awareness that trains carrying fossil gases are putting us all at risk and urge our city council to pass a resolution opposing their unsafe transport through our community. \n 
URL:https://envirocenter.org/event/areyouintheblastzone-350-org-week-of-action/
LOCATION:Deschutes Brewery Public House\, 1044 NW Bond St\, Bend\, OR\, 97701\, United States
CATEGORIES:Advocacy|Climate|Online event
GEO:44.0593984;-121.3113079
X-APPLE-STRUCTURED-LOCATION;VALUE=URI;X-ADDRESS=Deschutes Brewery Public House 1044 NW Bond St Bend OR 97701 United States;X-APPLE-RADIUS=500;X-TITLE=1044 NW Bond St:geo:-121.3113079,44.0593984
END:VEVENT
BEGIN:VEVENT
DTSTART;VALUE=DATE:20210406
DTEND;VALUE=DATE:20210407
DTSTAMP:20260419T085531
CREATED:20210312T051218Z
LAST-MODIFIED:20230503T201214Z
UID:10003541-1617710400-1617714000@envirocenter.org
SUMMARY:Our Economy—One Year After Shutdown
DESCRIPTION:Join the Bend Chamber and their expert panelists as they discuss how our economy has shifted and changed roughly one year since our first COVID-19 shutdown. \nPanelists: \n\nCurtis Dubay: Senior Economist for the U.S. Chamber of Commerce\nDamon Runberg: Regional Economist for the Oregon Employment Department
URL:https://envirocenter.org/event/our-economy-one-year-after-shutdown/
LOCATION:Deschutes Brewery Public House\, 1044 NW Bond St\, Bend\, OR\, 97701\, United States
CATEGORIES:Online event
GEO:44.0593984;-121.3113079
X-APPLE-STRUCTURED-LOCATION;VALUE=URI;X-ADDRESS=Deschutes Brewery Public House 1044 NW Bond St Bend OR 97701 United States;X-APPLE-RADIUS=500;X-TITLE=1044 NW Bond St:geo:-121.3113079,44.0593984
END:VEVENT
BEGIN:VEVENT
DTSTART;VALUE=DATE:20210406
DTEND;VALUE=DATE:20210407
DTSTAMP:20260419T085531
CREATED:20210227T033154Z
LAST-MODIFIED:20230503T201208Z
UID:10001696-1617732000-1617737400@envirocenter.org
SUMMARY:Putting Fire Knowledge into Action: Advocating for Forests and Fire Policy
DESCRIPTION:Great Old Broads for Wilderness are  hosting a four-part webcast series this month on fire. While the first of the presentations on March 2nd  – Fire in the Forest: A Natural Process and Unnatural Changes -has already filled up (it will simul-cast to their Facebook page)\, be sure to take a look at the other three offerings. Click here for more details on each presentation and and follow the links below sign up!
URL:https://envirocenter.org/event/putting-fire-knowledge-into-action-advocating-for-forests-and-fire-policy/
LOCATION:Deschutes Brewery Public House\, 1044 NW Bond St\, Bend\, OR\, 97701\, United States
CATEGORIES:Climate|Online event
GEO:44.0593984;-121.3113079
X-APPLE-STRUCTURED-LOCATION;VALUE=URI;X-ADDRESS=Deschutes Brewery Public House 1044 NW Bond St Bend OR 97701 United States;X-APPLE-RADIUS=500;X-TITLE=1044 NW Bond St:geo:-121.3113079,44.0593984
END:VEVENT
BEGIN:VEVENT
DTSTART;VALUE=DATE:20210406
DTEND;VALUE=DATE:20210407
DTSTAMP:20260419T085531
CREATED:20210306T044920Z
LAST-MODIFIED:20230503T201213Z
UID:10001702-1617735600-1617741000@envirocenter.org
SUMMARY:José Andrés – Creativity in the Kitchen and Feeding the World
DESCRIPTION:Chef and humanitarian Andrés will offer a unique perspective on the intersections between social and environmental issues in our food system. Local restaurateur Jesse Cool will join him in conversation at our final Wallace Stegner Lecture for 2021.
URL:https://envirocenter.org/event/jose-andres-creativity-in-the-kitchen-and-feeding-the-world/
LOCATION:Deschutes Brewery Public House\, 1044 NW Bond St\, Bend\, OR\, 97701\, United States
CATEGORIES:Advocacy|Climate|Food|Online event
GEO:44.0593984;-121.3113079
X-APPLE-STRUCTURED-LOCATION;VALUE=URI;X-ADDRESS=Deschutes Brewery Public House 1044 NW Bond St Bend OR 97701 United States;X-APPLE-RADIUS=500;X-TITLE=1044 NW Bond St:geo:-121.3113079,44.0593984
END:VEVENT
END:VCALENDAR