BEGIN:VCALENDAR
VERSION:2.0
PRODID:-//The Environmental Center - ECPv6.15.20//NONSGML v1.0//EN
CALSCALE:GREGORIAN
METHOD:PUBLISH
X-ORIGINAL-URL:https://envirocenter.org
X-WR-CALDESC:Events for The Environmental Center
REFRESH-INTERVAL;VALUE=DURATION:PT1H
X-Robots-Tag:noindex
X-PUBLISHED-TTL:PT1H
BEGIN:VTIMEZONE
TZID:America/Los_Angeles
BEGIN:DAYLIGHT
TZOFFSETFROM:-0800
TZOFFSETTO:-0700
TZNAME:PDT
DTSTART:20200308T100000
END:DAYLIGHT
BEGIN:STANDARD
TZOFFSETFROM:-0700
TZOFFSETTO:-0800
TZNAME:PST
DTSTART:20201101T090000
END:STANDARD
BEGIN:DAYLIGHT
TZOFFSETFROM:-0800
TZOFFSETTO:-0700
TZNAME:PDT
DTSTART:20210314T100000
END:DAYLIGHT
BEGIN:STANDARD
TZOFFSETFROM:-0700
TZOFFSETTO:-0800
TZNAME:PST
DTSTART:20211107T090000
END:STANDARD
BEGIN:DAYLIGHT
TZOFFSETFROM:-0800
TZOFFSETTO:-0700
TZNAME:PDT
DTSTART:20220313T100000
END:DAYLIGHT
BEGIN:STANDARD
TZOFFSETFROM:-0700
TZOFFSETTO:-0800
TZNAME:PST
DTSTART:20221106T090000
END:STANDARD
END:VTIMEZONE
BEGIN:VEVENT
DTSTART;VALUE=DATE:20210323
DTEND;VALUE=DATE:20210324
DTSTAMP:20260419T085526
CREATED:20210306T012517Z
LAST-MODIFIED:20230503T201213Z
UID:10001701-1616482800-1616486400@envirocenter.org
SUMMARY:U.S. Food Infrastructure and Hunger: Lessons from COVID-19 Crisis\, Guidance for the Future
DESCRIPTION:Join the Alliance to End Hunger\, and a panel of experts from agriculture\, food infrastructure\, and hunger relief sectors for a discussion on how you can be better prepared for future shocks by taking concrete actions today.
URL:https://envirocenter.org/event/u-s-food-infrastructure-and-hunger-lessons-from-covid-19-crisis-guidance-for-the-future/
LOCATION:Deschutes Brewery Public House\, 1044 NW Bond St\, Bend\, OR\, 97701\, United States
CATEGORIES:Advocacy|Food|Online event
GEO:44.0593984;-121.3113079
X-APPLE-STRUCTURED-LOCATION;VALUE=URI;X-ADDRESS=Deschutes Brewery Public House 1044 NW Bond St Bend OR 97701 United States;X-APPLE-RADIUS=500;X-TITLE=1044 NW Bond St:geo:-121.3113079,44.0593984
END:VEVENT
BEGIN:VEVENT
DTSTART;VALUE=DATE:20210323
DTEND;VALUE=DATE:20210324
DTSTAMP:20260419T085526
CREATED:20210319T010042Z
LAST-MODIFIED:20230503T201219Z
UID:10001712-1616500800-1616504400@envirocenter.org
SUMMARY:Toxics Free Schools - HB 2406 - Deep Dive
DESCRIPTION:This meeting is open to the public. Beyond Toxics will take a deep dive into HB 2406\, Toxics Free Schools\, and share data from Northwest Center For Alternatives to Pesticides’ (NCAP) Schools Survey and Report\, created to monitor the integrity of the Oregon School Integrated Pest Management (IPM) law. They will also discuss alternatives to pesticides in managing school grounds and the importance of choosing preventative approaches to pest and weed management. This bill aims to create a path towards stronger School IPM laws in Oregon that prioritize children’s health and lest toxic pest management solutions.
URL:https://envirocenter.org/event/toxics-free-schools-hb-2406-deep-dive/
LOCATION:Deschutes Brewery Public House\, 1044 NW Bond St\, Bend\, OR\, 97701\, United States
CATEGORIES:Advocacy|Environmental Justice|Online event|Youth Education
GEO:44.0593984;-121.3113079
X-APPLE-STRUCTURED-LOCATION;VALUE=URI;X-ADDRESS=Deschutes Brewery Public House 1044 NW Bond St Bend OR 97701 United States;X-APPLE-RADIUS=500;X-TITLE=1044 NW Bond St:geo:-121.3113079,44.0593984
END:VEVENT
BEGIN:VEVENT
DTSTART;VALUE=DATE:20210323
DTEND;VALUE=DATE:20210324
DTSTAMP:20260419T085526
CREATED:20210227T032909Z
LAST-MODIFIED:20230503T201208Z
UID:10001695-1616522400-1616527800@envirocenter.org
SUMMARY:Adapting to a Future with Fire: Preparing Our Communities and Our Landscapes
DESCRIPTION:Great Old Broads for Wilderness are  hosting a four-part webcast series this month on fire. While the first of the presentations on March 2nd  – Fire in the Forest: A Natural Process and Unnatural Changes -has already filled up (it will simul-cast to their Facebook page)\, be sure to take a look at the other three offerings. Click here for more details on each presentation and and follow the links below sign up!
URL:https://envirocenter.org/event/adapting-to-a-future-with-fire-preparing-our-communities-and-our-landscapes/
LOCATION:Deschutes Brewery Public House\, 1044 NW Bond St\, Bend\, OR\, 97701\, United States
CATEGORIES:Online event
GEO:44.0593984;-121.3113079
X-APPLE-STRUCTURED-LOCATION;VALUE=URI;X-ADDRESS=Deschutes Brewery Public House 1044 NW Bond St Bend OR 97701 United States;X-APPLE-RADIUS=500;X-TITLE=1044 NW Bond St:geo:-121.3113079,44.0593984
END:VEVENT
BEGIN:VEVENT
DTSTART;VALUE=DATE:20210323
DTEND;VALUE=DATE:20210324
DTSTAMP:20260419T085526
CREATED:20210303T075350Z
LAST-MODIFIED:20230503T201209Z
UID:10003534-1616526000-1616529600@envirocenter.org
SUMMARY:Indivisible Bend and KPOV present Roy Zimmerman Live from the Left Coast
DESCRIPTION:Join KPOV’s Virtual Benefit Concert presented by Indivisible Bend. You’ll get great music and lots of laughter\, a chance to support KPOV\, and a full week to watch the exclusive YouTube video — all from the comfort of your own home\, or\, wherever. What could be better than that? \n\n\nSecure your virtual front row seat today!
URL:https://envirocenter.org/event/indivisible-bend-and-kpov-present-roy-zimmerman-live-from-the-left-coast/
LOCATION:Deschutes Brewery Public House\, 1044 NW Bond St\, Bend\, OR\, 97701\, United States
CATEGORIES:Music|Online event
GEO:44.0593984;-121.3113079
X-APPLE-STRUCTURED-LOCATION;VALUE=URI;X-ADDRESS=Deschutes Brewery Public House 1044 NW Bond St Bend OR 97701 United States;X-APPLE-RADIUS=500;X-TITLE=1044 NW Bond St:geo:-121.3113079,44.0593984
END:VEVENT
END:VCALENDAR