BEGIN:VCALENDAR
VERSION:2.0
PRODID:-//The Environmental Center - ECPv6.15.20//NONSGML v1.0//EN
CALSCALE:GREGORIAN
METHOD:PUBLISH
X-WR-CALNAME:The Environmental Center
X-ORIGINAL-URL:https://envirocenter.org
X-WR-CALDESC:Events for The Environmental Center
REFRESH-INTERVAL;VALUE=DURATION:PT1H
X-Robots-Tag:noindex
X-PUBLISHED-TTL:PT1H
BEGIN:VTIMEZONE
TZID:America/Los_Angeles
BEGIN:DAYLIGHT
TZOFFSETFROM:-0800
TZOFFSETTO:-0700
TZNAME:PDT
DTSTART:20200308T100000
END:DAYLIGHT
BEGIN:STANDARD
TZOFFSETFROM:-0700
TZOFFSETTO:-0800
TZNAME:PST
DTSTART:20201101T090000
END:STANDARD
BEGIN:DAYLIGHT
TZOFFSETFROM:-0800
TZOFFSETTO:-0700
TZNAME:PDT
DTSTART:20210314T100000
END:DAYLIGHT
BEGIN:STANDARD
TZOFFSETFROM:-0700
TZOFFSETTO:-0800
TZNAME:PST
DTSTART:20211107T090000
END:STANDARD
BEGIN:DAYLIGHT
TZOFFSETFROM:-0800
TZOFFSETTO:-0700
TZNAME:PDT
DTSTART:20220313T100000
END:DAYLIGHT
BEGIN:STANDARD
TZOFFSETFROM:-0700
TZOFFSETTO:-0800
TZNAME:PST
DTSTART:20221106T090000
END:STANDARD
END:VTIMEZONE
BEGIN:VEVENT
DTSTART;VALUE=DATE:20210320
DTEND;VALUE=DATE:20210321
DTSTAMP:20260419T183028
CREATED:20210306T085502Z
LAST-MODIFIED:20230503T201214Z
UID:10001705-1616232600-1616236200@envirocenter.org
SUMMARY:Springtime Bird Walk
DESCRIPTION:Central Oregon Womxn in Conservation will be ringing in springtime with some downtown birding. Join at Drake Park amphitheater for a physically-distanced\, masks-on stroll to hang out with some local feathered friends. Central Oregon Womxn in Conservation welcome birders of all skill levels and backgrounds. If you have a pair of binoculars\, bring them. If you don’t\, COWC may have one or two sanitized pairs to share\, and you can also scope many birds just fine with your naked eye. \nIf you would like to nerd out and study up on your birds beforehand\, feel free to check out this Spotify playlist of birds you might encounter.
URL:https://envirocenter.org/event/springtime-bird-walk/
LOCATION:Deschutes Brewery Public House\, 1044 NW Bond St\, Bend\, OR\, 97701\, United States
GEO:44.0593984;-121.3113079
X-APPLE-STRUCTURED-LOCATION;VALUE=URI;X-ADDRESS=Deschutes Brewery Public House 1044 NW Bond St Bend OR 97701 United States;X-APPLE-RADIUS=500;X-TITLE=1044 NW Bond St:geo:-121.3113079,44.0593984
END:VEVENT
BEGIN:VEVENT
DTSTART;VALUE=DATE:20210320
DTEND;VALUE=DATE:20210321
DTSTAMP:20260419T183028
CREATED:20210312T014529Z
LAST-MODIFIED:20230503T201214Z
UID:10001707-1616266800-1616270400@envirocenter.org
SUMMARY:Virtual Lecture: Equinox and the Seasons
DESCRIPTION:Celebrate the spring equinox with Sunriver Nature Center & Observatory while learning about the seasons and humanity’s ties to the Earth’s relationship with the Sun. Discover how ancient cultures created calendars and marked significant dates such as solstices and equinoxes\, and how modern society studies seasonal changes and natural cycles of the Earth and Sun.
URL:https://envirocenter.org/event/virtual-lecture-equinox-and-the-seasons/
LOCATION:Deschutes Brewery Public House\, 1044 NW Bond St\, Bend\, OR\, 97701\, United States
CATEGORIES:Online event|Youth Education
GEO:44.0593984;-121.3113079
X-APPLE-STRUCTURED-LOCATION;VALUE=URI;X-ADDRESS=Deschutes Brewery Public House 1044 NW Bond St Bend OR 97701 United States;X-APPLE-RADIUS=500;X-TITLE=1044 NW Bond St:geo:-121.3113079,44.0593984
END:VEVENT
END:VCALENDAR