BEGIN:VCALENDAR
VERSION:2.0
PRODID:-//The Environmental Center - ECPv6.15.20//NONSGML v1.0//EN
CALSCALE:GREGORIAN
METHOD:PUBLISH
X-ORIGINAL-URL:https://envirocenter.org
X-WR-CALDESC:Events for The Environmental Center
REFRESH-INTERVAL;VALUE=DURATION:PT1H
X-Robots-Tag:noindex
X-PUBLISHED-TTL:PT1H
BEGIN:VTIMEZONE
TZID:America/Los_Angeles
BEGIN:DAYLIGHT
TZOFFSETFROM:-0800
TZOFFSETTO:-0700
TZNAME:PDT
DTSTART:20200308T100000
END:DAYLIGHT
BEGIN:STANDARD
TZOFFSETFROM:-0700
TZOFFSETTO:-0800
TZNAME:PST
DTSTART:20201101T090000
END:STANDARD
BEGIN:DAYLIGHT
TZOFFSETFROM:-0800
TZOFFSETTO:-0700
TZNAME:PDT
DTSTART:20210314T100000
END:DAYLIGHT
BEGIN:STANDARD
TZOFFSETFROM:-0700
TZOFFSETTO:-0800
TZNAME:PST
DTSTART:20211107T090000
END:STANDARD
BEGIN:DAYLIGHT
TZOFFSETFROM:-0800
TZOFFSETTO:-0700
TZNAME:PDT
DTSTART:20220313T100000
END:DAYLIGHT
BEGIN:STANDARD
TZOFFSETFROM:-0700
TZOFFSETTO:-0800
TZNAME:PST
DTSTART:20221106T090000
END:STANDARD
END:VTIMEZONE
BEGIN:VEVENT
DTSTART;VALUE=DATE:20210305
DTEND;VALUE=DATE:20210319
DTSTAMP:20260423T031815
CREATED:20210219T150556Z
LAST-MODIFIED:20230503T201202Z
UID:10003520-1614902400-1616111999@envirocenter.org
SUMMARY:The People vs. Agent Orange: virtual screening premier
DESCRIPTION:Please join in the nationwide virtual screening premier of The People vs. Agent Orange\, March 5-18\, 2021. \nSynopsis: The Agent Orange catastrophe did not end with the Vietnam War. Today\, the world over\, a primary chemical of the toxic defoliant controls weeds in farming\, forestry\, parks\, playgrounds… It wreaks havoc on the human genome\, causing deformed births and deadly cancers. After decades of struggle and tragic personal losses\, two heroic women are leading a worldwide movement to end the plague and hold the manufacturers accountable.\nIn France\, Tran To Nga is suing the American chemical industry for poisoning her in Vietnam. In America\, Carol Van Strum exposes the continuing use of toxic herbicides. Incriminating documents disappear. Activists are threatened. A helicopter technician secretly films the contamination of reservoirs\, while a massive industrial cover-up goes on. Watch trailer here! \nTickets: $12/household – discounted tickets available for veterans and low income \nAfter this content becomes available March 5th at 9:00 am PST\, you’ll have 10 days to start watching. Once you begin\, you’ll have 72 hours to finish watching.  A link to a panel discussion with anti-herbicide activists will be made available after the film is watched.
URL:https://envirocenter.org/event/the-people-vs-agent-orange-virtual-screening-premier-2/
LOCATION:Deschutes Brewery Public House\, 1044 NW Bond St\, Bend\, OR\, 97701\, United States
CATEGORIES:Film|Online event
GEO:44.0593984;-121.3113079
X-APPLE-STRUCTURED-LOCATION;VALUE=URI;X-ADDRESS=Deschutes Brewery Public House 1044 NW Bond St Bend OR 97701 United States;X-APPLE-RADIUS=500;X-TITLE=1044 NW Bond St:geo:-121.3113079,44.0593984
END:VEVENT
BEGIN:VEVENT
DTSTART;VALUE=DATE:20210315
DTEND;VALUE=DATE:20210320
DTSTAMP:20260423T031815
CREATED:20210215T015645Z
LAST-MODIFIED:20230503T201201Z
UID:10001683-1615766400-1616198399@envirocenter.org
SUMMARY:Osher Lifelong Learning Open House
DESCRIPTION:Join OLLI-UO From Your Home for a Week of Program Offerings! \nOLLI-UO is now virtual! They offer thought-provoking lectures\, discussions\, and study groups for adults 50 and better. Their classes are offered via Zoom right now\, and invite you to join for a sample of their programming. \nAttend one session—or all! \nMonday\, March 15–Friday\, March 19\, 2021\nThe event is free and open to the public; however\, advanced registration is required. Participants are asked to register only once for the week. Please note: Zoom links for each session will be sent out day before each session. Please register to get onto their email list.
URL:https://envirocenter.org/event/osher-lifelong-learning-open-house/
LOCATION:Deschutes Brewery Public House\, 1044 NW Bond St\, Bend\, OR\, 97701\, United States
CATEGORIES:Online event|Online Networking
GEO:44.0593984;-121.3113079
X-APPLE-STRUCTURED-LOCATION;VALUE=URI;X-ADDRESS=Deschutes Brewery Public House 1044 NW Bond St Bend OR 97701 United States;X-APPLE-RADIUS=500;X-TITLE=1044 NW Bond St:geo:-121.3113079,44.0593984
END:VEVENT
BEGIN:VEVENT
DTSTART;VALUE=DATE:20210315
DTEND;VALUE=DATE:20210316
DTSTAMP:20260423T031815
CREATED:20210312T094117Z
LAST-MODIFIED:20230503T201215Z
UID:10003543-1615809600-1615813200@envirocenter.org
SUMMARY:Rise Above Plastic Pollution Day
DESCRIPTION:This year we’re celebrating Rise Above Plastic Pollution Day on March 15th! Join us to celebrate and rally around solutions to the plastic crisis and hear from Oregon leaders like State Representative Janeen Sollman and Senator Jeff Merkley on the importance of taking action to reduce plastic pollution.\n\nIn 2019\, when Governor Kate Brown first proclaimed RAPP Day\, the Governor also pledged to “be a smart shopper” by purchasing fruits and veggies that are not wrapped in plastic.\n\nWhat action will you take on Oregon’s third Rise Above Plastic Pollution Day?\n\nJoin Surfrider Foundation\, Environment Oregon\, Oceana\, and some very special guests to learn more about what we can do as a State to protect our environment and communities from plastic pollution.\n\nRegister at https://rise-above-plastic-pollution-2021.eventbrite.com
URL:https://envirocenter.org/event/rise-above-plastic-pollution-day/
LOCATION:Deschutes Brewery Public House\, 1044 NW Bond St\, Bend\, OR\, 97701\, United States
GEO:44.0593984;-121.3113079
X-APPLE-STRUCTURED-LOCATION;VALUE=URI;X-ADDRESS=Deschutes Brewery Public House 1044 NW Bond St Bend OR 97701 United States;X-APPLE-RADIUS=500;X-TITLE=1044 NW Bond St:geo:-121.3113079,44.0593984
END:VEVENT
END:VCALENDAR