BEGIN:VCALENDAR
VERSION:2.0
PRODID:-//The Environmental Center - ECPv6.15.20//NONSGML v1.0//EN
CALSCALE:GREGORIAN
METHOD:PUBLISH
X-WR-CALNAME:The Environmental Center
X-ORIGINAL-URL:https://envirocenter.org
X-WR-CALDESC:Events for The Environmental Center
REFRESH-INTERVAL;VALUE=DURATION:PT1H
X-Robots-Tag:noindex
X-PUBLISHED-TTL:PT1H
BEGIN:VTIMEZONE
TZID:America/Los_Angeles
BEGIN:DAYLIGHT
TZOFFSETFROM:-0800
TZOFFSETTO:-0700
TZNAME:PDT
DTSTART:20200308T100000
END:DAYLIGHT
BEGIN:STANDARD
TZOFFSETFROM:-0700
TZOFFSETTO:-0800
TZNAME:PST
DTSTART:20201101T090000
END:STANDARD
BEGIN:DAYLIGHT
TZOFFSETFROM:-0800
TZOFFSETTO:-0700
TZNAME:PDT
DTSTART:20210314T100000
END:DAYLIGHT
BEGIN:STANDARD
TZOFFSETFROM:-0700
TZOFFSETTO:-0800
TZNAME:PST
DTSTART:20211107T090000
END:STANDARD
BEGIN:DAYLIGHT
TZOFFSETFROM:-0800
TZOFFSETTO:-0700
TZNAME:PDT
DTSTART:20220313T100000
END:DAYLIGHT
BEGIN:STANDARD
TZOFFSETFROM:-0700
TZOFFSETTO:-0800
TZNAME:PST
DTSTART:20221106T090000
END:STANDARD
END:VTIMEZONE
BEGIN:VEVENT
DTSTART;VALUE=DATE:20210305
DTEND;VALUE=DATE:20210319
DTSTAMP:20260420T025938
CREATED:20210219T150556Z
LAST-MODIFIED:20230503T201202Z
UID:10003520-1614902400-1616111999@envirocenter.org
SUMMARY:The People vs. Agent Orange: virtual screening premier
DESCRIPTION:Please join in the nationwide virtual screening premier of The People vs. Agent Orange\, March 5-18\, 2021. \nSynopsis: The Agent Orange catastrophe did not end with the Vietnam War. Today\, the world over\, a primary chemical of the toxic defoliant controls weeds in farming\, forestry\, parks\, playgrounds… It wreaks havoc on the human genome\, causing deformed births and deadly cancers. After decades of struggle and tragic personal losses\, two heroic women are leading a worldwide movement to end the plague and hold the manufacturers accountable.\nIn France\, Tran To Nga is suing the American chemical industry for poisoning her in Vietnam. In America\, Carol Van Strum exposes the continuing use of toxic herbicides. Incriminating documents disappear. Activists are threatened. A helicopter technician secretly films the contamination of reservoirs\, while a massive industrial cover-up goes on. Watch trailer here! \nTickets: $12/household – discounted tickets available for veterans and low income \nAfter this content becomes available March 5th at 9:00 am PST\, you’ll have 10 days to start watching. Once you begin\, you’ll have 72 hours to finish watching.  A link to a panel discussion with anti-herbicide activists will be made available after the film is watched.
URL:https://envirocenter.org/event/the-people-vs-agent-orange-virtual-screening-premier-2/
LOCATION:Deschutes Brewery Public House\, 1044 NW Bond St\, Bend\, OR\, 97701\, United States
CATEGORIES:Film|Online event
GEO:44.0593984;-121.3113079
X-APPLE-STRUCTURED-LOCATION;VALUE=URI;X-ADDRESS=Deschutes Brewery Public House 1044 NW Bond St Bend OR 97701 United States;X-APPLE-RADIUS=500;X-TITLE=1044 NW Bond St:geo:-121.3113079,44.0593984
END:VEVENT
BEGIN:VEVENT
DTSTART;VALUE=DATE:20210311
DTEND;VALUE=DATE:20210312
DTSTAMP:20260420T025938
CREATED:20210206T144727Z
LAST-MODIFIED:20230503T201156Z
UID:10003512-1615464000-1615465800@envirocenter.org
SUMMARY:Womxn in Conservation: Lunchtime Chat
DESCRIPTION:Join Central Oregon Womxn in Conservation for a virtual lunchtime chat with one of their own Central Oregon womxn leaders–Kate Fitzpatrick\, the new executive director of the Deschutes River Conservancy (DRC). Prior to becoming the executive director\, Kate was a program manager for the DRC for 15 years where she led the multi-stakeholder collaborative Basin Study Work Group. During this event\, you will hear Kate talk about how she decided to apply for the executive director role\, the application and interview process\, and leadership throughout her career. Bring your questions and your lunch.
URL:https://envirocenter.org/event/womxn-in-conservation-lunchtime-chat/
LOCATION:Deschutes Brewery Public House\, 1044 NW Bond St\, Bend\, OR\, 97701\, United States
CATEGORIES:Online event
GEO:44.0593984;-121.3113079
X-APPLE-STRUCTURED-LOCATION;VALUE=URI;X-ADDRESS=Deschutes Brewery Public House 1044 NW Bond St Bend OR 97701 United States;X-APPLE-RADIUS=500;X-TITLE=1044 NW Bond St:geo:-121.3113079,44.0593984
END:VEVENT
BEGIN:VEVENT
DTSTART;VALUE=DATE:20210311
DTEND;VALUE=DATE:20210312
DTSTAMP:20260420T025938
CREATED:20210227T034846Z
LAST-MODIFIED:20230503T201208Z
UID:10001697-1615482000-1615487400@envirocenter.org
SUMMARY:Conversational Vulnerability-Building Trust to have Difficult Conversations
DESCRIPTION:How do we speak our own opinions without getting into a yelling match? Can we hold respect for others even when we don’t respect their ideals? Is it possible to have hard conversations that build relationships instead of breaking them? Dr. Rev. Steven Koski is going to try and help answer these hard questions\, and help build a relational communication tool box.
URL:https://envirocenter.org/event/conversational-vulnerability-building-trust-to-have-difficult-conversations/
LOCATION:Deschutes Brewery Public House\, 1044 NW Bond St\, Bend\, OR\, 97701\, United States
CATEGORIES:Online event|Online Networking
GEO:44.0593984;-121.3113079
X-APPLE-STRUCTURED-LOCATION;VALUE=URI;X-ADDRESS=Deschutes Brewery Public House 1044 NW Bond St Bend OR 97701 United States;X-APPLE-RADIUS=500;X-TITLE=1044 NW Bond St:geo:-121.3113079,44.0593984
END:VEVENT
BEGIN:VEVENT
DTSTART;VALUE=DATE:20210311
DTEND;VALUE=DATE:20210312
DTSTAMP:20260420T025938
CREATED:20160803T235848Z
LAST-MODIFIED:20230503T200442Z
UID:10000816-1615482900-1615492800@envirocenter.org
SUMMARY:Bend COTA Work Events
DESCRIPTION:When:  Thursday Aug 11\, Tuesday Aug 16\, Tuesday Aug 23 and Tuesday Aug 30\, 5:15 to Dusk \nWhere:  Meet at the old Ray’s parking lot\, NE corner of Simpson Ave and Century Drive in Bend \nWorksite:  Varies \nThere’s only one thing better than mountain biking in Bend\, OR and that’s riding in Bend\, knowing that you helped build and maintain the trails you love. \nPlease bring a hydration pack with water and a snack. \nBe sure to bring appropriate layers to accommodate whatever the weather may be. \nQuestions?  contact@cotamtb.com \nAll COTA trail work events require the following safety measures: \nAll participants are required to have the following protective clothing and equipment: \n\nSturdy shoes or boots\nGloves\nEye protection with clear or light colored lens\nLong pants\n\nDue to COTA’s insurance requirements and the inherent dangers of trail work\, we must implement the following policy regarding children at work events: \n\nFor anyone 14 years of age or younger\, we require one parent\, guardian\, or responsible adult for supervision of every four kids attending any COTA trail work events.\nAll minors under the age of 18 must have a parent or guardian available to sign our waiver.\n\nAnyone who arrives for a work event may be turned away if he/she cannot meet the above requirements.
URL:https://envirocenter.org/event/bend-cota-work-events-2016-08-11/
LOCATION:Deschutes Brewery Public House\, 1044 NW Bond St\, Bend\, OR\, 97701\, United States
GEO:44.0593984;-121.3113079
X-APPLE-STRUCTURED-LOCATION;VALUE=URI;X-ADDRESS=Deschutes Brewery Public House 1044 NW Bond St Bend OR 97701 United States;X-APPLE-RADIUS=500;X-TITLE=1044 NW Bond St:geo:-121.3113079,44.0593984
END:VEVENT
BEGIN:VEVENT
DTSTART;VALUE=DATE:20210311
DTEND;VALUE=DATE:20210312
DTSTAMP:20260420T025938
CREATED:20210213T031234Z
LAST-MODIFIED:20230503T201157Z
UID:10001679-1615483800-1615487400@envirocenter.org
SUMMARY:Muckboots in the Capitol: Legislative Happy Hour with FoFF’s Policy Director
DESCRIPTION:Join Amy Wong\, FoFF’s Policy Director\, to chat about the 2021 legislative session and the bills they will be supporting. Stayed tuned for more info…
URL:https://envirocenter.org/event/muckboots-in-the-capitol-legislative-happy-hour-with-foffs-policy-director-2/
LOCATION:Deschutes Brewery Public House\, 1044 NW Bond St\, Bend\, OR\, 97701\, United States
CATEGORIES:Advocacy|Online event
GEO:44.0593984;-121.3113079
X-APPLE-STRUCTURED-LOCATION;VALUE=URI;X-ADDRESS=Deschutes Brewery Public House 1044 NW Bond St Bend OR 97701 United States;X-APPLE-RADIUS=500;X-TITLE=1044 NW Bond St:geo:-121.3113079,44.0593984
END:VEVENT
END:VCALENDAR