BEGIN:VCALENDAR
VERSION:2.0
PRODID:-//The Environmental Center - ECPv6.15.20//NONSGML v1.0//EN
CALSCALE:GREGORIAN
METHOD:PUBLISH
X-WR-CALNAME:The Environmental Center
X-ORIGINAL-URL:https://envirocenter.org
X-WR-CALDESC:Events for The Environmental Center
REFRESH-INTERVAL;VALUE=DURATION:PT1H
X-Robots-Tag:noindex
X-PUBLISHED-TTL:PT1H
BEGIN:VTIMEZONE
TZID:America/Los_Angeles
BEGIN:DAYLIGHT
TZOFFSETFROM:-0800
TZOFFSETTO:-0700
TZNAME:PDT
DTSTART:20200308T100000
END:DAYLIGHT
BEGIN:STANDARD
TZOFFSETFROM:-0700
TZOFFSETTO:-0800
TZNAME:PST
DTSTART:20201101T090000
END:STANDARD
BEGIN:DAYLIGHT
TZOFFSETFROM:-0800
TZOFFSETTO:-0700
TZNAME:PDT
DTSTART:20210314T100000
END:DAYLIGHT
BEGIN:STANDARD
TZOFFSETFROM:-0700
TZOFFSETTO:-0800
TZNAME:PST
DTSTART:20211107T090000
END:STANDARD
BEGIN:DAYLIGHT
TZOFFSETFROM:-0800
TZOFFSETTO:-0700
TZNAME:PDT
DTSTART:20220313T100000
END:DAYLIGHT
BEGIN:STANDARD
TZOFFSETFROM:-0700
TZOFFSETTO:-0800
TZNAME:PST
DTSTART:20221106T090000
END:STANDARD
END:VTIMEZONE
BEGIN:VEVENT
DTSTART;VALUE=DATE:20210301
DTEND;VALUE=DATE:20210308
DTSTAMP:20260420T025938
CREATED:20210227T032313Z
LAST-MODIFIED:20230503T201207Z
UID:10001694-1614556800-1615161599@envirocenter.org
SUMMARY:Public Interest Environmental Law Conference(virtual)
DESCRIPTION:March 1st kicks off the Public Interest Environmental Law Conference\, a week long (virtual) conference on a variety of conservation and environmental justice issues locally and across the world! \nThe conference will be an event full of energy\, innovation\, and inspiration for all of us involved in the environmental movement. \nThe conference is free\, open to the public\, and a great chance to learn more about all kinds of issues important to Oregon Wild’s work and global environmentalism. This year\, all panels and keynotes are virtual and can be found on the PIELC Facebook page or by downloading the conference brochure.
URL:https://envirocenter.org/event/public-interest-environmental-law-conferencevirtual/
LOCATION:Deschutes Brewery Public House\, 1044 NW Bond St\, Bend\, OR\, 97701\, United States
CATEGORIES:Advocacy|Climate|Energy|Environmental Justice|Online event|Online Networking
GEO:44.0593984;-121.3113079
X-APPLE-STRUCTURED-LOCATION;VALUE=URI;X-ADDRESS=Deschutes Brewery Public House 1044 NW Bond St Bend OR 97701 United States;X-APPLE-RADIUS=500;X-TITLE=1044 NW Bond St:geo:-121.3113079,44.0593984
END:VEVENT
BEGIN:VEVENT
DTSTART;VALUE=DATE:20210304
DTEND;VALUE=DATE:20210308
DTSTAMP:20260420T025938
CREATED:20210302T010510Z
LAST-MODIFIED:20230503T201208Z
UID:10003530-1614816000-1615161599@envirocenter.org
SUMMARY:2021 MUSE UNCONFERENCE
DESCRIPTION:For the past nine years\, World MUSE has brought together local change-makers with internationally recognized artists\, authors\, athletes\, entrepreneurs\, activists\, and social change leaders. \nMUSE UnConference is working to breakdown hierarchical aspects of a conventional conference by creating opportunities for practice and conversation\, offering an equity-informed fee structure\, and working with Community Partners to provide content that is more representative of our whole community.  \nMUSE UnConference hopes to gather participants\, rather than attendees\, in a virtual space dedicated to breaking down barriers to healing\, justice\, and change. \nMUSE UnConference is a virtual time and space to listen and be heard\, learn and unlearn\, practice and take action.
URL:https://envirocenter.org/event/2021-muse-unconference/
LOCATION:Deschutes Brewery Public House\, 1044 NW Bond St\, Bend\, OR\, 97701\, United States
CATEGORIES:Inclusion|Online event|Online Networking
GEO:44.0593984;-121.3113079
X-APPLE-STRUCTURED-LOCATION;VALUE=URI;X-ADDRESS=Deschutes Brewery Public House 1044 NW Bond St Bend OR 97701 United States;X-APPLE-RADIUS=500;X-TITLE=1044 NW Bond St:geo:-121.3113079,44.0593984
END:VEVENT
BEGIN:VEVENT
DTSTART;VALUE=DATE:20210305
DTEND;VALUE=DATE:20210308
DTSTAMP:20260420T025938
CREATED:20210219T141502Z
LAST-MODIFIED:20230503T201202Z
UID:10003519-1614902400-1615161599@envirocenter.org
SUMMARY:Get The Girls Out | Celebrate International Women's Day
DESCRIPTION:In celebration of International Women’s Day\, SheJumps is hosting a FREE\, virtual scavenger hunt to get women and girls outside.\n\n\n\n\n\nAbout this Event\n\n\nThis year for International Women’s Day\, SheJumps is bringing their signature Get the Girls Out! program to women and girls everywhere. A global initiative to encourage outdoor play\, Get the Girls Out! on March 5-7\, 2021 is a free virtual event that inspires and encourages participants to get outside through fun challenges that can be accomplished anywhere. Regardless of age\, ability\, geographic location\, or experience in the outdoors\, Get the Girls Out! celebrates the power of nature to uplift and inspire.
URL:https://envirocenter.org/event/get-the-girls-out-celebrate-international-womens-day/
LOCATION:Deschutes Brewery Public House\, 1044 NW Bond St\, Bend\, OR\, 97701\, United States
CATEGORIES:Online event
GEO:44.0593984;-121.3113079
X-APPLE-STRUCTURED-LOCATION;VALUE=URI;X-ADDRESS=Deschutes Brewery Public House 1044 NW Bond St Bend OR 97701 United States;X-APPLE-RADIUS=500;X-TITLE=1044 NW Bond St:geo:-121.3113079,44.0593984
END:VEVENT
BEGIN:VEVENT
DTSTART;VALUE=DATE:20210305
DTEND;VALUE=DATE:20210309
DTSTAMP:20260420T025938
CREATED:20210113T033842Z
LAST-MODIFIED:20230503T201144Z
UID:10003489-1614902400-1615247999@envirocenter.org
SUMMARY:Mountainfilm on Tour-Bend: Second Show
DESCRIPTION:The show will go on! Mountainfilm on Tour returns with TWO great programs for you to enjoy all from the comfort of home. \nMountainfilm on Tour-Bend will be a two-weekend experience this year\, complete with inspiring films and an online raffle. Although we’re disappointed we can’t gather at the Tower\, we’re excited to offer this unique and flexible option. Each program will be available for a 3-day window\, and each features different films. This new format makes it possible for a larger audience to attend an event that usually sells out. Check out the films and more information about the virtual format here. \nAdditional perks include: \n\nAbility to pause and resume the show as needed (another beverage\, more popcorn…) Plus\, no lines for the bathroom during intermission.\nA RAFFLE! We’re putting together prize packages from the best shops across Central Oregon. Stay tuned; we’ll announce when the online raffle goes live.\nYour ticket to the show supports our mission to advance a sustainable future.\n\nSpread the word!
URL:https://envirocenter.org/event/mountainfilm-on-tour-bend-second-show/
LOCATION:Deschutes Brewery Public House\, 1044 NW Bond St\, Bend\, OR\, 97701\, United States
CATEGORIES:Film|Online event
GEO:44.0593984;-121.3113079
X-APPLE-STRUCTURED-LOCATION;VALUE=URI;X-ADDRESS=Deschutes Brewery Public House 1044 NW Bond St Bend OR 97701 United States;X-APPLE-RADIUS=500;X-TITLE=1044 NW Bond St:geo:-121.3113079,44.0593984
END:VEVENT
BEGIN:VEVENT
DTSTART;VALUE=DATE:20210305
DTEND;VALUE=DATE:20210319
DTSTAMP:20260420T025938
CREATED:20210219T150556Z
LAST-MODIFIED:20230503T201202Z
UID:10003520-1614902400-1616111999@envirocenter.org
SUMMARY:The People vs. Agent Orange: virtual screening premier
DESCRIPTION:Please join in the nationwide virtual screening premier of The People vs. Agent Orange\, March 5-18\, 2021. \nSynopsis: The Agent Orange catastrophe did not end with the Vietnam War. Today\, the world over\, a primary chemical of the toxic defoliant controls weeds in farming\, forestry\, parks\, playgrounds… It wreaks havoc on the human genome\, causing deformed births and deadly cancers. After decades of struggle and tragic personal losses\, two heroic women are leading a worldwide movement to end the plague and hold the manufacturers accountable.\nIn France\, Tran To Nga is suing the American chemical industry for poisoning her in Vietnam. In America\, Carol Van Strum exposes the continuing use of toxic herbicides. Incriminating documents disappear. Activists are threatened. A helicopter technician secretly films the contamination of reservoirs\, while a massive industrial cover-up goes on. Watch trailer here! \nTickets: $12/household – discounted tickets available for veterans and low income \nAfter this content becomes available March 5th at 9:00 am PST\, you’ll have 10 days to start watching. Once you begin\, you’ll have 72 hours to finish watching.  A link to a panel discussion with anti-herbicide activists will be made available after the film is watched.
URL:https://envirocenter.org/event/the-people-vs-agent-orange-virtual-screening-premier-2/
LOCATION:Deschutes Brewery Public House\, 1044 NW Bond St\, Bend\, OR\, 97701\, United States
CATEGORIES:Film|Online event
GEO:44.0593984;-121.3113079
X-APPLE-STRUCTURED-LOCATION;VALUE=URI;X-ADDRESS=Deschutes Brewery Public House 1044 NW Bond St Bend OR 97701 United States;X-APPLE-RADIUS=500;X-TITLE=1044 NW Bond St:geo:-121.3113079,44.0593984
END:VEVENT
END:VCALENDAR