BEGIN:VCALENDAR
VERSION:2.0
PRODID:-//The Environmental Center - ECPv6.15.20//NONSGML v1.0//EN
CALSCALE:GREGORIAN
METHOD:PUBLISH
X-WR-CALNAME:The Environmental Center
X-ORIGINAL-URL:https://envirocenter.org
X-WR-CALDESC:Events for The Environmental Center
REFRESH-INTERVAL;VALUE=DURATION:PT1H
X-Robots-Tag:noindex
X-PUBLISHED-TTL:PT1H
BEGIN:VTIMEZONE
TZID:America/Los_Angeles
BEGIN:DAYLIGHT
TZOFFSETFROM:-0800
TZOFFSETTO:-0700
TZNAME:PDT
DTSTART:20200308T100000
END:DAYLIGHT
BEGIN:STANDARD
TZOFFSETFROM:-0700
TZOFFSETTO:-0800
TZNAME:PST
DTSTART:20201101T090000
END:STANDARD
BEGIN:DAYLIGHT
TZOFFSETFROM:-0800
TZOFFSETTO:-0700
TZNAME:PDT
DTSTART:20210314T100000
END:DAYLIGHT
BEGIN:STANDARD
TZOFFSETFROM:-0700
TZOFFSETTO:-0800
TZNAME:PST
DTSTART:20211107T090000
END:STANDARD
BEGIN:DAYLIGHT
TZOFFSETFROM:-0800
TZOFFSETTO:-0700
TZNAME:PDT
DTSTART:20220313T100000
END:DAYLIGHT
BEGIN:STANDARD
TZOFFSETFROM:-0700
TZOFFSETTO:-0800
TZNAME:PST
DTSTART:20221106T090000
END:STANDARD
END:VTIMEZONE
BEGIN:VEVENT
DTSTART;VALUE=DATE:20210226
DTEND;VALUE=DATE:20210302
DTSTAMP:20260420T025939
CREATED:20210113T033054Z
LAST-MODIFIED:20230503T201144Z
UID:10003488-1614297600-1614643199@envirocenter.org
SUMMARY:Mountainfilm on Tour-Bend: First Show
DESCRIPTION:The show will go on! Mountainfilm on Tour returns with TWO great programs for you to enjoy all from the comfort of home. \nMountainfilm on Tour-Bend will be a two-weekend experience this year\, complete with inspiring films and an online raffle. Although we’re disappointed we can’t gather at the Tower\, we’re excited to offer this unique and flexible option. Each program will be available for a 3-day window\, and each features different films. This new format makes it possible for a larger audience to attend an event that usually sells out. Check out the films and more information about the virtual format here. \nAdditional perks include: \n\nAbility to pause and resume the show as needed (another beverage\, more popcorn…) Plus\, no lines for the bathroom during intermission.\nA RAFFLE! We’re putting together prize packages from the best shops across Central Oregon. Stay tuned; we’ll announce when the online raffle goes live.\nYour ticket to the show supports our mission to advance a sustainable future.\n\nSpread the word!
URL:https://envirocenter.org/event/mountainfilm-on-tour-bend-first-show/
LOCATION:Deschutes Brewery Public House\, 1044 NW Bond St\, Bend\, OR\, 97701\, United States
CATEGORIES:Film|Online event
GEO:44.0593984;-121.3113079
X-APPLE-STRUCTURED-LOCATION;VALUE=URI;X-ADDRESS=Deschutes Brewery Public House 1044 NW Bond St Bend OR 97701 United States;X-APPLE-RADIUS=500;X-TITLE=1044 NW Bond St:geo:-121.3113079,44.0593984
END:VEVENT
BEGIN:VEVENT
DTSTART;VALUE=DATE:20210301
DTEND;VALUE=DATE:20210303
DTSTAMP:20260420T025939
CREATED:20210224T115529Z
LAST-MODIFIED:20230503T201207Z
UID:10001693-1614556800-1614729599@envirocenter.org
SUMMARY:NEVERTHELESS Film Screening
DESCRIPTION:Taking a look behind the headlines of #MeToo and Time’s Up. NEVERTHELESS follows the intimate stories of individuals who experienced sexual harassment in the workplace or at school. Please join COCC in viewing this powerful film\, which shines light on the ways in which we can shift our culture and rebuild. \nFREE & OPEN to the public. Registration is required. Email odi@cocc.edu \n*You will receive an email link to the movie two days in advance. You may watch the film at your convenience any time March 1-2
URL:https://envirocenter.org/event/nevertheless-film-screening/
LOCATION:Deschutes Brewery Public House\, 1044 NW Bond St\, Bend\, OR\, 97701\, United States
CATEGORIES:Film|Online event|Social Justice
GEO:44.0593984;-121.3113079
X-APPLE-STRUCTURED-LOCATION;VALUE=URI;X-ADDRESS=Deschutes Brewery Public House 1044 NW Bond St Bend OR 97701 United States;X-APPLE-RADIUS=500;X-TITLE=1044 NW Bond St:geo:-121.3113079,44.0593984
END:VEVENT
BEGIN:VEVENT
DTSTART;VALUE=DATE:20210301
DTEND;VALUE=DATE:20210308
DTSTAMP:20260420T025939
CREATED:20210227T032313Z
LAST-MODIFIED:20230503T201207Z
UID:10001694-1614556800-1615161599@envirocenter.org
SUMMARY:Public Interest Environmental Law Conference(virtual)
DESCRIPTION:March 1st kicks off the Public Interest Environmental Law Conference\, a week long (virtual) conference on a variety of conservation and environmental justice issues locally and across the world! \nThe conference will be an event full of energy\, innovation\, and inspiration for all of us involved in the environmental movement. \nThe conference is free\, open to the public\, and a great chance to learn more about all kinds of issues important to Oregon Wild’s work and global environmentalism. This year\, all panels and keynotes are virtual and can be found on the PIELC Facebook page or by downloading the conference brochure.
URL:https://envirocenter.org/event/public-interest-environmental-law-conferencevirtual/
LOCATION:Deschutes Brewery Public House\, 1044 NW Bond St\, Bend\, OR\, 97701\, United States
CATEGORIES:Advocacy|Climate|Energy|Environmental Justice|Online event|Online Networking
GEO:44.0593984;-121.3113079
X-APPLE-STRUCTURED-LOCATION;VALUE=URI;X-ADDRESS=Deschutes Brewery Public House 1044 NW Bond St Bend OR 97701 United States;X-APPLE-RADIUS=500;X-TITLE=1044 NW Bond St:geo:-121.3113079,44.0593984
END:VEVENT
END:VCALENDAR