BEGIN:VCALENDAR
VERSION:2.0
PRODID:-//The Environmental Center - ECPv6.15.20//NONSGML v1.0//EN
CALSCALE:GREGORIAN
METHOD:PUBLISH
X-WR-CALNAME:The Environmental Center
X-ORIGINAL-URL:https://envirocenter.org
X-WR-CALDESC:Events for The Environmental Center
REFRESH-INTERVAL;VALUE=DURATION:PT1H
X-Robots-Tag:noindex
X-PUBLISHED-TTL:PT1H
BEGIN:VTIMEZONE
TZID:America/Los_Angeles
BEGIN:DAYLIGHT
TZOFFSETFROM:-0800
TZOFFSETTO:-0700
TZNAME:PDT
DTSTART:20200308T100000
END:DAYLIGHT
BEGIN:STANDARD
TZOFFSETFROM:-0700
TZOFFSETTO:-0800
TZNAME:PST
DTSTART:20201101T090000
END:STANDARD
BEGIN:DAYLIGHT
TZOFFSETFROM:-0800
TZOFFSETTO:-0700
TZNAME:PDT
DTSTART:20210314T100000
END:DAYLIGHT
BEGIN:STANDARD
TZOFFSETFROM:-0700
TZOFFSETTO:-0800
TZNAME:PST
DTSTART:20211107T090000
END:STANDARD
BEGIN:DAYLIGHT
TZOFFSETFROM:-0800
TZOFFSETTO:-0700
TZNAME:PDT
DTSTART:20220313T100000
END:DAYLIGHT
BEGIN:STANDARD
TZOFFSETFROM:-0700
TZOFFSETTO:-0800
TZNAME:PST
DTSTART:20221106T090000
END:STANDARD
END:VTIMEZONE
BEGIN:VEVENT
DTSTART;VALUE=DATE:20210225
DTEND;VALUE=DATE:20210226
DTSTAMP:20260420T074726
CREATED:20210204T074747Z
LAST-MODIFIED:20230503T201156Z
UID:10003508-1614258000-1614261600@envirocenter.org
SUMMARY:Electric Vehicles\, Rebates\, the Climate\, and you!
DESCRIPTION:If you have questions about electric vehicle ownership\, available rebates\, or how electric vehicles (EVs) can help us reach our climate goals\, then you won’t want to miss this webinar! \nDave Reichmuth from the Union of Concerned Scientists will share his expertise on electric vehicles and how our climate can benefit from drivers switching to EVs. Forth’s Steven Alaman will offer information on the Oregon Clean Vehicle Rebate Program and how to apply. Forth’s Whit Jamieson will discuss barriers to EV adoption\, how EVs can provide opportunities in and for underserved communities\, as well as current and future industry trends. \nSpeakers:\nForth – Whit Jamieson\nOregon Clean Vehicle Rebate Program  – Steven Alaman\nUnion of Concerned Scientists – David Reichmuth
URL:https://envirocenter.org/event/electric-vehicles-rebates-the-climate-and-you/
LOCATION:Deschutes Brewery Public House\, 1044 NW Bond St\, Bend\, OR\, 97701\, United States
CATEGORIES:Electric Vehicles|Energy|Online event
GEO:44.0593984;-121.3113079
X-APPLE-STRUCTURED-LOCATION;VALUE=URI;X-ADDRESS=Deschutes Brewery Public House 1044 NW Bond St Bend OR 97701 United States;X-APPLE-RADIUS=500;X-TITLE=1044 NW Bond St:geo:-121.3113079,44.0593984
END:VEVENT
BEGIN:VEVENT
DTSTART;VALUE=DATE:20210225
DTEND;VALUE=DATE:20210226
DTSTAMP:20260420T074726
CREATED:20160803T235848Z
LAST-MODIFIED:20230503T200442Z
UID:10000814-1614273300-1614283200@envirocenter.org
SUMMARY:Bend COTA Work Events
DESCRIPTION:When:  Thursday Aug 11\, Tuesday Aug 16\, Tuesday Aug 23 and Tuesday Aug 30\, 5:15 to Dusk \nWhere:  Meet at the old Ray’s parking lot\, NE corner of Simpson Ave and Century Drive in Bend \nWorksite:  Varies \nThere’s only one thing better than mountain biking in Bend\, OR and that’s riding in Bend\, knowing that you helped build and maintain the trails you love. \nPlease bring a hydration pack with water and a snack. \nBe sure to bring appropriate layers to accommodate whatever the weather may be. \nQuestions?  contact@cotamtb.com \nAll COTA trail work events require the following safety measures: \nAll participants are required to have the following protective clothing and equipment: \n\nSturdy shoes or boots\nGloves\nEye protection with clear or light colored lens\nLong pants\n\nDue to COTA’s insurance requirements and the inherent dangers of trail work\, we must implement the following policy regarding children at work events: \n\nFor anyone 14 years of age or younger\, we require one parent\, guardian\, or responsible adult for supervision of every four kids attending any COTA trail work events.\nAll minors under the age of 18 must have a parent or guardian available to sign our waiver.\n\nAnyone who arrives for a work event may be turned away if he/she cannot meet the above requirements.
URL:https://envirocenter.org/event/bend-cota-work-events-2016-08-11/
LOCATION:Deschutes Brewery Public House\, 1044 NW Bond St\, Bend\, OR\, 97701\, United States
GEO:44.0593984;-121.3113079
X-APPLE-STRUCTURED-LOCATION;VALUE=URI;X-ADDRESS=Deschutes Brewery Public House 1044 NW Bond St Bend OR 97701 United States;X-APPLE-RADIUS=500;X-TITLE=1044 NW Bond St:geo:-121.3113079,44.0593984
END:VEVENT
BEGIN:VEVENT
DTSTART;VALUE=DATE:20210225
DTEND;VALUE=DATE:20210226
DTSTAMP:20260420T074726
CREATED:20210121T041351Z
LAST-MODIFIED:20230503T201150Z
UID:10001667-1614279600-1614285000@envirocenter.org
SUMMARY:Virtual Lecture: Einstein\, Eddington\, and the Challenges of Observational Astronomy
DESCRIPTION:In December 2020\, Paul Poncy\, observatory staff astronomer\, traveled to Chile to help conduct an experiment during the solar eclipse. In partnership with scientists from Portland Community College and the Oregon NASA Space Grant Consortium\, the group set out to conduct a modern version of the Eddington experiment – an observational test of General Relativity that was first conducted in 1919 and led to support of Albert Einstein’s theory. The goal of the experiment was to use modern day cameras and equipment to reproduce more accurate data; in the end however\, weather conditions prevented data collection during the actual event. During this lecture Paul will share his experience preparing for the experiment\, traveling to Chile\, and future plans for this experiment.
URL:https://envirocenter.org/event/virtual-lecture-einstein-eddington-and-the-challenges-of-observational-astronomy/
LOCATION:Deschutes Brewery Public House\, 1044 NW Bond St\, Bend\, OR\, 97701\, United States
CATEGORIES:Online event
GEO:44.0593984;-121.3113079
X-APPLE-STRUCTURED-LOCATION;VALUE=URI;X-ADDRESS=Deschutes Brewery Public House 1044 NW Bond St Bend OR 97701 United States;X-APPLE-RADIUS=500;X-TITLE=1044 NW Bond St:geo:-121.3113079,44.0593984
END:VEVENT
END:VCALENDAR