BEGIN:VCALENDAR
VERSION:2.0
PRODID:-//The Environmental Center - ECPv6.15.20//NONSGML v1.0//EN
CALSCALE:GREGORIAN
METHOD:PUBLISH
X-ORIGINAL-URL:https://envirocenter.org
X-WR-CALDESC:Events for The Environmental Center
REFRESH-INTERVAL;VALUE=DURATION:PT1H
X-Robots-Tag:noindex
X-PUBLISHED-TTL:PT1H
BEGIN:VTIMEZONE
TZID:America/Los_Angeles
BEGIN:DAYLIGHT
TZOFFSETFROM:-0800
TZOFFSETTO:-0700
TZNAME:PDT
DTSTART:20200308T100000
END:DAYLIGHT
BEGIN:STANDARD
TZOFFSETFROM:-0700
TZOFFSETTO:-0800
TZNAME:PST
DTSTART:20201101T090000
END:STANDARD
BEGIN:DAYLIGHT
TZOFFSETFROM:-0800
TZOFFSETTO:-0700
TZNAME:PDT
DTSTART:20210314T100000
END:DAYLIGHT
BEGIN:STANDARD
TZOFFSETFROM:-0700
TZOFFSETTO:-0800
TZNAME:PST
DTSTART:20211107T090000
END:STANDARD
BEGIN:DAYLIGHT
TZOFFSETFROM:-0800
TZOFFSETTO:-0700
TZNAME:PDT
DTSTART:20220313T100000
END:DAYLIGHT
BEGIN:STANDARD
TZOFFSETFROM:-0700
TZOFFSETTO:-0800
TZNAME:PST
DTSTART:20221106T090000
END:STANDARD
END:VTIMEZONE
BEGIN:VEVENT
DTSTART;VALUE=DATE:20210125
DTEND;VALUE=DATE:20210126
DTSTAMP:20260420T105321
CREATED:20201229T082735Z
LAST-MODIFIED:20230503T201138Z
UID:10003482-1611594000-1611597600@envirocenter.org
SUMMARY:Oregon's African American History
DESCRIPTION:Delve into the history of African Americans in Oregon\, with a special emphasis on historic places\, with Kim Moreland of Oregon Black Pioneers. \nKimberly Stowers Moreland\, MBA\, MURP\, is currently owner of Moreland Resource Consulting\, LLC. She has over 25 years of public sector community development\, economic development\, and urban planning experience. She has dedicated much of her time to volunteer service with community-based cultural and heritage nonprofit organizations. She is the vice-president of Oregon Black Pioneers (OBP) board of directors and a member of the Bosco-Milligan: Architectural Heritage Center. On behalf of the OBP\, she authored Images of America: African Americans of Portland published by Arcadia Publisher. \nFor more information on Oregon Black Pioneers visit: https://oregonblackpioneers.org/ \nA link to view this program will be available beginning Monday\, January 25th at 5:00 p.m.
URL:https://envirocenter.org/event/oregons-african-american-history/
LOCATION:Deschutes Brewery Public House\, 1044 NW Bond St\, Bend\, OR\, 97701\, United States
CATEGORIES:Diversity|Online event|Racial Justice|Social Justice
GEO:44.0593984;-121.3113079
X-APPLE-STRUCTURED-LOCATION;VALUE=URI;X-ADDRESS=Deschutes Brewery Public House 1044 NW Bond St Bend OR 97701 United States;X-APPLE-RADIUS=500;X-TITLE=1044 NW Bond St:geo:-121.3113079,44.0593984
END:VEVENT
END:VCALENDAR