BEGIN:VCALENDAR
VERSION:2.0
PRODID:-//The Environmental Center - ECPv6.15.20//NONSGML v1.0//EN
CALSCALE:GREGORIAN
METHOD:PUBLISH
X-WR-CALNAME:The Environmental Center
X-ORIGINAL-URL:https://envirocenter.org
X-WR-CALDESC:Events for The Environmental Center
REFRESH-INTERVAL;VALUE=DURATION:PT1H
X-Robots-Tag:noindex
X-PUBLISHED-TTL:PT1H
BEGIN:VTIMEZONE
TZID:America/Los_Angeles
BEGIN:DAYLIGHT
TZOFFSETFROM:-0800
TZOFFSETTO:-0700
TZNAME:PDT
DTSTART:20200308T100000
END:DAYLIGHT
BEGIN:STANDARD
TZOFFSETFROM:-0700
TZOFFSETTO:-0800
TZNAME:PST
DTSTART:20201101T090000
END:STANDARD
BEGIN:DAYLIGHT
TZOFFSETFROM:-0800
TZOFFSETTO:-0700
TZNAME:PDT
DTSTART:20210314T100000
END:DAYLIGHT
BEGIN:STANDARD
TZOFFSETFROM:-0700
TZOFFSETTO:-0800
TZNAME:PST
DTSTART:20211107T090000
END:STANDARD
BEGIN:DAYLIGHT
TZOFFSETFROM:-0800
TZOFFSETTO:-0700
TZNAME:PDT
DTSTART:20220313T100000
END:DAYLIGHT
BEGIN:STANDARD
TZOFFSETFROM:-0700
TZOFFSETTO:-0800
TZNAME:PST
DTSTART:20221106T090000
END:STANDARD
END:VTIMEZONE
BEGIN:VEVENT
DTSTART;VALUE=DATE:20210113
DTEND;VALUE=DATE:20210114
DTSTAMP:20260421T195415
CREATED:20210109T062009Z
LAST-MODIFIED:20230503T201138Z
UID:10001648-1610539200-1610542800@envirocenter.org
SUMMARY:Electric Fireplace Inserts - Warm\, cozy\, clean flames
DESCRIPTION:Electric fireplaces are an efficient and cozy option for virtually any home. \nJoin Electrify Now as they debunk one of the last arguments for natural gas – the fireplace. They will explore how modern electric fireplaces are an efficient and cozy option for virtually any home. From their “see it to believe it” realistic flames\, color options\, heat free fires for summer ambiance to their easy installation\, increased safety and indoor emissions reductions\, electric fireplaces are an important part of the all-electric home of the future.
URL:https://envirocenter.org/event/electric-fireplace-inserts-warm-cozy-clean-flames/
LOCATION:Deschutes Brewery Public House\, 1044 NW Bond St\, Bend\, OR\, 97701\, United States
CATEGORIES:Energy|Online event
GEO:44.0593984;-121.3113079
X-APPLE-STRUCTURED-LOCATION;VALUE=URI;X-ADDRESS=Deschutes Brewery Public House 1044 NW Bond St Bend OR 97701 United States;X-APPLE-RADIUS=500;X-TITLE=1044 NW Bond St:geo:-121.3113079,44.0593984
END:VEVENT
BEGIN:VEVENT
DTSTART;VALUE=DATE:20210113
DTEND;VALUE=DATE:20210114
DTSTAMP:20260421T195415
CREATED:20210107T034023Z
LAST-MODIFIED:20230503T201138Z
UID:10003484-1610560800-1610564400@envirocenter.org
SUMMARY:Renewal in Our Burned Forests: What does the future hold?
DESCRIPTION:Travel with Oregon Wild into public lands impacted by fire and see how fire is a vital force of renewal for fish\, wildlife\, pollinators\, water\, and the climate\, and gain inspiration from images and stories of the regrowth of places like the Columbia Gorge and Opal Creek.
URL:https://envirocenter.org/event/renewal-in-our-burned-forests-what-does-the-future-hold/
LOCATION:Deschutes Brewery Public House\, 1044 NW Bond St\, Bend\, OR\, 97701\, United States
GEO:44.0593984;-121.3113079
X-APPLE-STRUCTURED-LOCATION;VALUE=URI;X-ADDRESS=Deschutes Brewery Public House 1044 NW Bond St Bend OR 97701 United States;X-APPLE-RADIUS=500;X-TITLE=1044 NW Bond St:geo:-121.3113079,44.0593984
END:VEVENT
END:VCALENDAR