BEGIN:VCALENDAR
VERSION:2.0
PRODID:-//The Environmental Center - ECPv6.15.20//NONSGML v1.0//EN
CALSCALE:GREGORIAN
METHOD:PUBLISH
X-WR-CALNAME:The Environmental Center
X-ORIGINAL-URL:https://envirocenter.org
X-WR-CALDESC:Events for The Environmental Center
REFRESH-INTERVAL;VALUE=DURATION:PT1H
X-Robots-Tag:noindex
X-PUBLISHED-TTL:PT1H
BEGIN:VTIMEZONE
TZID:America/Los_Angeles
BEGIN:DAYLIGHT
TZOFFSETFROM:-0800
TZOFFSETTO:-0700
TZNAME:PDT
DTSTART:20190310T100000
END:DAYLIGHT
BEGIN:STANDARD
TZOFFSETFROM:-0700
TZOFFSETTO:-0800
TZNAME:PST
DTSTART:20191103T090000
END:STANDARD
BEGIN:DAYLIGHT
TZOFFSETFROM:-0800
TZOFFSETTO:-0700
TZNAME:PDT
DTSTART:20200308T100000
END:DAYLIGHT
BEGIN:STANDARD
TZOFFSETFROM:-0700
TZOFFSETTO:-0800
TZNAME:PST
DTSTART:20201101T090000
END:STANDARD
BEGIN:DAYLIGHT
TZOFFSETFROM:-0800
TZOFFSETTO:-0700
TZNAME:PDT
DTSTART:20210314T100000
END:DAYLIGHT
BEGIN:STANDARD
TZOFFSETFROM:-0700
TZOFFSETTO:-0800
TZNAME:PST
DTSTART:20211107T090000
END:STANDARD
END:VTIMEZONE
BEGIN:VEVENT
DTSTART;VALUE=DATE:20201022
DTEND;VALUE=DATE:20201023
DTSTAMP:20260420T145358
CREATED:20200903T023526Z
LAST-MODIFIED:20230503T201052Z
UID:10001566-1603359000-1603368000@envirocenter.org
SUMMARY:Decluttering with the KonMari Method: COCC Continuing Education
DESCRIPTION:COCC’s Continuing Education Program is running a 5-class series with Marie Kondo’s trademarked method of decluttering expanded from her book The Life-Changing Magic of Tidying Up. One method of reducing waste and being environmentally friendly can be to minimize the amount of stuff that surrounds you. It can help your mind\, your wallet\, and your life. \nWhat sparks joy for you? \nTidy Your Space. Spark Joy. Transform Your Life. The KonMari Method™ is the art of simplifying and organizing your home by choosing to keep the physical items that bring you joy and letting go of the rest with gratitude. Join Melissa Jean\, a Certified Platinum KonMari Consultant\, as she leads you through the philosophy\, practice and practical application of tidying up your life and space using this method. This session will focus on books and students will spend time during class tidying up their own bookcases. Registration includes a 15-minute one-on-one session with Melissa after the class is over. \nFocus areas with dates listed below. Classes taught online via Zoom\, 9:30 am to 12:00 pm \n\nClothing – Oct 8\nBooks – Oct 15\nPapers – Oct 22\nKomono (Miscellaneous Items) – Oct 29\nSentimental Items & Mementos – Nov 5\n\nLearn more about Melissa here.
URL:https://envirocenter.org/event/decluttering-with-the-konmari-method-cocc-continuing-education-2020-10-08/
LOCATION:Deschutes Brewery Public House\, 1044 NW Bond St\, Bend\, OR\, 97701\, United States
CATEGORIES:Online event|Rethink Waste
GEO:44.0593984;-121.3113079
X-APPLE-STRUCTURED-LOCATION;VALUE=URI;X-ADDRESS=Deschutes Brewery Public House 1044 NW Bond St Bend OR 97701 United States;X-APPLE-RADIUS=500;X-TITLE=1044 NW Bond St:geo:-121.3113079,44.0593984
END:VEVENT
BEGIN:VEVENT
DTSTART;VALUE=DATE:20201022
DTEND;VALUE=DATE:20201023
DTSTAMP:20260420T145358
CREATED:20201021T223921Z
LAST-MODIFIED:20230503T201115Z
UID:10003445-1603375200-1603382400@envirocenter.org
SUMMARY:Crisis and Opportunity: The Oncoming Renewable Energy Revolution
DESCRIPTION:The Osher Lifelong Learning Institute at the University of Oregon (OLLI-UO) is pleased to announce a timely virtual lecture with Dr. John Perona\, PhD\, LLM\, Professor of Environmental Biochemistry\, Portland State University and Adjunct Professor of Biochemistry & Molecular Biology at Oregon Health & Science University. Please email osher@uoregon.edu to receive the Zoom meeting link. \nDr. John Perona examines new work by climate scientists that suggests that we are on track to avoid the worst-case climate change scenarios. As tragic as it has been\, the coronavirus pandemic has clearly shown how greenhouse gas emissions depend on lifestyle. The economic recovery from the pandemic now offers huge opportunities for boosting investments in decarbonization\, effectively resetting the entire energy economy. \nWe look at the present state of the climate and examine the major U.S. initiatives plotting roadmaps for the renewable energy transition over the next three decades. Citizens can play a key role in advocating and supporting aggressive policies for deep decarbonization. Join us this Thursday to learn more.
URL:https://envirocenter.org/event/crisis-and-opportunity-the-oncoming-renewable-energy-revolution/
LOCATION:Deschutes Brewery Public House\, 1044 NW Bond St\, Bend\, OR\, 97701\, United States
CATEGORIES:Energy
GEO:44.0593984;-121.3113079
X-APPLE-STRUCTURED-LOCATION;VALUE=URI;X-ADDRESS=Deschutes Brewery Public House 1044 NW Bond St Bend OR 97701 United States;X-APPLE-RADIUS=500;X-TITLE=1044 NW Bond St:geo:-121.3113079,44.0593984
END:VEVENT
BEGIN:VEVENT
DTSTART;VALUE=DATE:20201022
DTEND;VALUE=DATE:20201023
DTSTAMP:20260420T145358
CREATED:20201022T045555Z
LAST-MODIFIED:20230503T201115Z
UID:10001607-1603375200-1603382400@envirocenter.org
SUMMARY:CRISIS AND OPPORTUNITY: THE ONCOMING RENEWABLE ENERGY REVOLUTION
DESCRIPTION:The Osher Lifelong Learning Institute at the University of Oregon (OLLI-UO) is pleased to announce a timely virtual lecture with Dr. John Perona\, PhD\, LLM\, Professor of Environmental Biochemistry\, Portland State University and Adjunct Professor of Biochemistry & Molecular Biology at Oregon Health & Science University. \nDr. John Perona examines new work by climate scientists that suggests that we are on track to avoid the worst-case climate change scenarios. As tragic as it has been\, the coronavirus pandemic has clearly shown how greenhouse gas emissions depend on lifestyle. The economic recovery from the pandemic now offers huge opportunities for boosting investments in decarbonization\, effectively resetting the entire energy economy. \nWe look at the present state of the climate and examine the major U.S. initiatives plotting roadmaps for the renewable energy transition over the next three decades. Citizens can play a key role in advocating and supporting aggressive policies for deep decarbonization. Join this Thursday to learn more. \nEMAIL: osher@uoregon.edu to receive the Zoom meeting ID
URL:https://envirocenter.org/event/crisis-and-opportunity-the-oncoming-renewable-energy-revolution-2/
LOCATION:Deschutes Brewery Public House\, 1044 NW Bond St\, Bend\, OR\, 97701\, United States
CATEGORIES:Climate|Energy|Online event
GEO:44.0593984;-121.3113079
X-APPLE-STRUCTURED-LOCATION;VALUE=URI;X-ADDRESS=Deschutes Brewery Public House 1044 NW Bond St Bend OR 97701 United States;X-APPLE-RADIUS=500;X-TITLE=1044 NW Bond St:geo:-121.3113079,44.0593984
END:VEVENT
BEGIN:VEVENT
DTSTART;VALUE=DATE:20201022
DTEND;VALUE=DATE:20201023
DTSTAMP:20260420T145358
CREATED:20160803T235848Z
LAST-MODIFIED:20230503T200442Z
UID:10000796-1603386900-1603396800@envirocenter.org
SUMMARY:Bend COTA Work Events
DESCRIPTION:When:  Thursday Aug 11\, Tuesday Aug 16\, Tuesday Aug 23 and Tuesday Aug 30\, 5:15 to Dusk \nWhere:  Meet at the old Ray’s parking lot\, NE corner of Simpson Ave and Century Drive in Bend \nWorksite:  Varies \nThere’s only one thing better than mountain biking in Bend\, OR and that’s riding in Bend\, knowing that you helped build and maintain the trails you love. \nPlease bring a hydration pack with water and a snack. \nBe sure to bring appropriate layers to accommodate whatever the weather may be. \nQuestions?  contact@cotamtb.com \nAll COTA trail work events require the following safety measures: \nAll participants are required to have the following protective clothing and equipment: \n\nSturdy shoes or boots\nGloves\nEye protection with clear or light colored lens\nLong pants\n\nDue to COTA’s insurance requirements and the inherent dangers of trail work\, we must implement the following policy regarding children at work events: \n\nFor anyone 14 years of age or younger\, we require one parent\, guardian\, or responsible adult for supervision of every four kids attending any COTA trail work events.\nAll minors under the age of 18 must have a parent or guardian available to sign our waiver.\n\nAnyone who arrives for a work event may be turned away if he/she cannot meet the above requirements.
URL:https://envirocenter.org/event/bend-cota-work-events-2016-08-11/
LOCATION:Deschutes Brewery Public House\, 1044 NW Bond St\, Bend\, OR\, 97701\, United States
GEO:44.0593984;-121.3113079
X-APPLE-STRUCTURED-LOCATION;VALUE=URI;X-ADDRESS=Deschutes Brewery Public House 1044 NW Bond St Bend OR 97701 United States;X-APPLE-RADIUS=500;X-TITLE=1044 NW Bond St:geo:-121.3113079,44.0593984
END:VEVENT
BEGIN:VEVENT
DTSTART;VALUE=DATE:20201022
DTEND;VALUE=DATE:20201023
DTSTAMP:20260420T145358
CREATED:20200916T215605Z
LAST-MODIFIED:20230503T201058Z
UID:10001582-1603391400-1603396800@envirocenter.org
SUMMARY:InFARMation: Equitable Food Access - How to Contribute to Oregon’s Food Sovereignty Network
DESCRIPTION:Now that you’ve gathered a few ideas from listening to the experience and needs of BIPOC Farmers\, where do you fit in? What can you do that’s tangible\, meaningful\, and immediate beyond the basics of communicating with your representatives and singing a petition? FoFF will explore practical examples of financially sustainable ways to make locally farmed food more accessible in our community this season and next. Learn from the farmers and organizations on the ground what actionable steps you can take to further build capacity to achieve a more Equitable Food Economy. Together we can work towards strengthening and broadening the solidarity economy and rework our social structures from the ground up. \n*All are welcome to this session of Small Farms School. \nSpeakers: Michelle Week\, Good Rain Farm; Malcom Hoover\, Black Futures Farm; and Spring Alaska Olson\, Sakari Botanicals
URL:https://envirocenter.org/event/infarmation-equitable-food-access-how-to-contribute-to-oregons-food-sovereignty-network/
LOCATION:Deschutes Brewery Public House\, 1044 NW Bond St\, Bend\, OR\, 97701\, United States
CATEGORIES:Advocacy|Food|Garden|Inclusion|Online event
GEO:44.0593984;-121.3113079
X-APPLE-STRUCTURED-LOCATION;VALUE=URI;X-ADDRESS=Deschutes Brewery Public House 1044 NW Bond St Bend OR 97701 United States;X-APPLE-RADIUS=500;X-TITLE=1044 NW Bond St:geo:-121.3113079,44.0593984
END:VEVENT
END:VCALENDAR