BEGIN:VCALENDAR
VERSION:2.0
PRODID:-//The Environmental Center - ECPv6.15.20//NONSGML v1.0//EN
CALSCALE:GREGORIAN
METHOD:PUBLISH
X-ORIGINAL-URL:https://envirocenter.org
X-WR-CALDESC:Events for The Environmental Center
REFRESH-INTERVAL;VALUE=DURATION:PT1H
X-Robots-Tag:noindex
X-PUBLISHED-TTL:PT1H
BEGIN:VTIMEZONE
TZID:America/Los_Angeles
BEGIN:DAYLIGHT
TZOFFSETFROM:-0800
TZOFFSETTO:-0700
TZNAME:PDT
DTSTART:20190310T100000
END:DAYLIGHT
BEGIN:STANDARD
TZOFFSETFROM:-0700
TZOFFSETTO:-0800
TZNAME:PST
DTSTART:20191103T090000
END:STANDARD
BEGIN:DAYLIGHT
TZOFFSETFROM:-0800
TZOFFSETTO:-0700
TZNAME:PDT
DTSTART:20200308T100000
END:DAYLIGHT
BEGIN:STANDARD
TZOFFSETFROM:-0700
TZOFFSETTO:-0800
TZNAME:PST
DTSTART:20201101T090000
END:STANDARD
BEGIN:DAYLIGHT
TZOFFSETFROM:-0800
TZOFFSETTO:-0700
TZNAME:PDT
DTSTART:20210314T100000
END:DAYLIGHT
BEGIN:STANDARD
TZOFFSETFROM:-0700
TZOFFSETTO:-0800
TZNAME:PST
DTSTART:20211107T090000
END:STANDARD
END:VTIMEZONE
BEGIN:VEVENT
DTSTART;VALUE=DATE:20200930
DTEND;VALUE=DATE:20201022
DTSTAMP:20260420T145353
CREATED:20200901T021805Z
LAST-MODIFIED:20230503T201051Z
UID:10003406-1601488800-1603310400@envirocenter.org
SUMMARY:Twilight Talks
DESCRIPTION:Join members of the Sunriver Nature Center & Observatory team as they share their passion for science through a series of engaging twilight talks throughout the fall. Talks will take place outdoors in the amphitheater and a different topic will be presented each night. Questions are always welcome and lively discussion is encouraged! \nSNCO Members receive a 20% discount. \nFace masks are required for all registrants and capacity is limited to allow for social distancing. All programs are weather permitting.
URL:https://envirocenter.org/event/twilight-talks-2020-09-09/
LOCATION:Deschutes Brewery Public House\, 1044 NW Bond St\, Bend\, OR\, 97701\, United States
CATEGORIES:Youth Education
GEO:44.0593984;-121.3113079
X-APPLE-STRUCTURED-LOCATION;VALUE=URI;X-ADDRESS=Deschutes Brewery Public House 1044 NW Bond St Bend OR 97701 United States;X-APPLE-RADIUS=500;X-TITLE=1044 NW Bond St:geo:-121.3113079,44.0593984
END:VEVENT
BEGIN:VEVENT
DTSTART;VALUE=DATE:20201020
DTEND;VALUE=DATE:20201021
DTSTAMP:20260420T145353
CREATED:20201013T062148Z
LAST-MODIFIED:20230503T201114Z
UID:10003439-1603191600-1603195200@envirocenter.org
SUMMARY:Community Tree Planting
DESCRIPTION:Help reforest our community! Sunriver Nature Center & Observatory will be planting Ponderosa seedlings throughout Sunriver and would love your help. \nFor more details or to volunteer for this event\, email: programs@snco.org.
URL:https://envirocenter.org/event/community-tree-planting/
LOCATION:Deschutes Brewery Public House\, 1044 NW Bond St\, Bend\, OR\, 97701\, United States
GEO:44.0593984;-121.3113079
X-APPLE-STRUCTURED-LOCATION;VALUE=URI;X-ADDRESS=Deschutes Brewery Public House 1044 NW Bond St Bend OR 97701 United States;X-APPLE-RADIUS=500;X-TITLE=1044 NW Bond St:geo:-121.3113079,44.0593984
END:VEVENT
BEGIN:VEVENT
DTSTART;VALUE=DATE:20201020
DTEND;VALUE=DATE:20201021
DTSTAMP:20260420T145353
CREATED:20201002T025315Z
LAST-MODIFIED:20230503T201104Z
UID:10001591-1603216800-1603222200@envirocenter.org
SUMMARY:Environmental Justice Shared Learning Space
DESCRIPTION:Central Oregon Womxn in Conservation is offering a focused space to help people hold themselves accountable in what is intended to be a primarily self-led learning experience around justice and equity within conservation. COWC will be convening monthly\, from 6:00-7:30pm on: \nCall 1: Tuesday\, October 20 \nCall 2: Tuesday\, November 17 \nCall 3: Tuesday\, December 15 \nCall 4: Tuesday\, January 19 \nCall 5: Tuesday\, February 16
URL:https://envirocenter.org/event/environmental-justice-shared-learning-space-2020-10-20/
LOCATION:Deschutes Brewery Public House\, 1044 NW Bond St\, Bend\, OR\, 97701\, United States
CATEGORIES:Environmental Justice|Online event
GEO:44.0593984;-121.3113079
X-APPLE-STRUCTURED-LOCATION;VALUE=URI;X-ADDRESS=Deschutes Brewery Public House 1044 NW Bond St Bend OR 97701 United States;X-APPLE-RADIUS=500;X-TITLE=1044 NW Bond St:geo:-121.3113079,44.0593984
END:VEVENT
BEGIN:VEVENT
DTSTART;VALUE=DATE:20201020
DTEND;VALUE=DATE:20201021
DTSTAMP:20260420T145353
CREATED:20200921T233143Z
LAST-MODIFIED:20230503T201103Z
UID:10001584-1603218600-1603224000@envirocenter.org
SUMMARY:Cascadia: The Next Big Earthquake and Tsunami
DESCRIPTION:A major earthquake along the Cascadia Subduction Zone will have far-reaching impacts throughout the Pacific Northwest\, including Central Oregon. Are we prepared for an event like this? Join Sunriver Nature Center & Observatory in conversation with Dr. Daniele McKay to discuss how an event like this could affect us in Central Oregon and review the history of earthquakes in Oregon. \n  \n  \n  \n 
URL:https://envirocenter.org/event/cascadia-the-next-big-earthquake-and-tsunami/
LOCATION:Deschutes Brewery Public House\, 1044 NW Bond St\, Bend\, OR\, 97701\, United States
CATEGORIES:Climate|Online event
GEO:44.0593984;-121.3113079
X-APPLE-STRUCTURED-LOCATION;VALUE=URI;X-ADDRESS=Deschutes Brewery Public House 1044 NW Bond St Bend OR 97701 United States;X-APPLE-RADIUS=500;X-TITLE=1044 NW Bond St:geo:-121.3113079,44.0593984
END:VEVENT
END:VCALENDAR