BEGIN:VCALENDAR
VERSION:2.0
PRODID:-//The Environmental Center - ECPv6.15.20//NONSGML v1.0//EN
CALSCALE:GREGORIAN
METHOD:PUBLISH
X-WR-CALNAME:The Environmental Center
X-ORIGINAL-URL:https://envirocenter.org
X-WR-CALDESC:Events for The Environmental Center
REFRESH-INTERVAL;VALUE=DURATION:PT1H
X-Robots-Tag:noindex
X-PUBLISHED-TTL:PT1H
BEGIN:VTIMEZONE
TZID:America/Los_Angeles
BEGIN:DAYLIGHT
TZOFFSETFROM:-0800
TZOFFSETTO:-0700
TZNAME:PDT
DTSTART:20190310T100000
END:DAYLIGHT
BEGIN:STANDARD
TZOFFSETFROM:-0700
TZOFFSETTO:-0800
TZNAME:PST
DTSTART:20191103T090000
END:STANDARD
BEGIN:DAYLIGHT
TZOFFSETFROM:-0800
TZOFFSETTO:-0700
TZNAME:PDT
DTSTART:20200308T100000
END:DAYLIGHT
BEGIN:STANDARD
TZOFFSETFROM:-0700
TZOFFSETTO:-0800
TZNAME:PST
DTSTART:20201101T090000
END:STANDARD
BEGIN:DAYLIGHT
TZOFFSETFROM:-0800
TZOFFSETTO:-0700
TZNAME:PDT
DTSTART:20210314T100000
END:DAYLIGHT
BEGIN:STANDARD
TZOFFSETFROM:-0700
TZOFFSETTO:-0800
TZNAME:PST
DTSTART:20211107T090000
END:STANDARD
END:VTIMEZONE
BEGIN:VEVENT
DTSTART;VALUE=DATE:20200927
DTEND;VALUE=DATE:20201019
DTSTAMP:20260420T160111
CREATED:20200901T021805Z
LAST-MODIFIED:20230503T201051Z
UID:10003405-1601229600-1603051200@envirocenter.org
SUMMARY:Twilight Talks
DESCRIPTION:Join members of the Sunriver Nature Center & Observatory team as they share their passion for science through a series of engaging twilight talks throughout the fall. Talks will take place outdoors in the amphitheater and a different topic will be presented each night. Questions are always welcome and lively discussion is encouraged! \nSNCO Members receive a 20% discount. \nFace masks are required for all registrants and capacity is limited to allow for social distancing. All programs are weather permitting.
URL:https://envirocenter.org/event/twilight-talks-2020-09-09/
LOCATION:Deschutes Brewery Public House\, 1044 NW Bond St\, Bend\, OR\, 97701\, United States
CATEGORIES:Youth Education
GEO:44.0593984;-121.3113079
X-APPLE-STRUCTURED-LOCATION;VALUE=URI;X-ADDRESS=Deschutes Brewery Public House 1044 NW Bond St Bend OR 97701 United States;X-APPLE-RADIUS=500;X-TITLE=1044 NW Bond St:geo:-121.3113079,44.0593984
END:VEVENT
BEGIN:VEVENT
DTSTART;VALUE=DATE:20200930
DTEND;VALUE=DATE:20201022
DTSTAMP:20260420T160111
CREATED:20200901T021805Z
LAST-MODIFIED:20230503T201051Z
UID:10003406-1601488800-1603310400@envirocenter.org
SUMMARY:Twilight Talks
DESCRIPTION:Join members of the Sunriver Nature Center & Observatory team as they share their passion for science through a series of engaging twilight talks throughout the fall. Talks will take place outdoors in the amphitheater and a different topic will be presented each night. Questions are always welcome and lively discussion is encouraged! \nSNCO Members receive a 20% discount. \nFace masks are required for all registrants and capacity is limited to allow for social distancing. All programs are weather permitting.
URL:https://envirocenter.org/event/twilight-talks-2020-09-09/
LOCATION:Deschutes Brewery Public House\, 1044 NW Bond St\, Bend\, OR\, 97701\, United States
CATEGORIES:Youth Education
GEO:44.0593984;-121.3113079
X-APPLE-STRUCTURED-LOCATION;VALUE=URI;X-ADDRESS=Deschutes Brewery Public House 1044 NW Bond St Bend OR 97701 United States;X-APPLE-RADIUS=500;X-TITLE=1044 NW Bond St:geo:-121.3113079,44.0593984
END:VEVENT
BEGIN:VEVENT
DTSTART;VALUE=DATE:20201015
DTEND;VALUE=DATE:20201018
DTSTAMP:20260420T160111
CREATED:20201013T034804Z
LAST-MODIFIED:20230503T201113Z
UID:10001605-1602720000-1602979199@envirocenter.org
SUMMARY:Smithsonian Food History Weekend | Food Futures: Striving For Justice
DESCRIPTION:The 2020 Smithsonian Food History Weekend and Gala from Home program will feature the voices of leaders involved in the myriad aspects of the food system—from agriculture\, to restaurant kitchens and food banks across the country. Virtual gatherings will encourage people to share their stories of resilience in the wake of unprecedented economic\, cultural\, and public health pandemics. Explore models for food production and learn about grassroots efforts across the country that have responded to these crises.
URL:https://envirocenter.org/event/smithsonian-food-history-weekend-food-futures-striving-for-justice/
LOCATION:Deschutes Brewery Public House\, 1044 NW Bond St\, Bend\, OR\, 97701\, United States
CATEGORIES:Advocacy|Food|Online event|Online Networking
GEO:44.0593984;-121.3113079
X-APPLE-STRUCTURED-LOCATION;VALUE=URI;X-ADDRESS=Deschutes Brewery Public House 1044 NW Bond St Bend OR 97701 United States;X-APPLE-RADIUS=500;X-TITLE=1044 NW Bond St:geo:-121.3113079,44.0593984
END:VEVENT
BEGIN:VEVENT
DTSTART;VALUE=DATE:20201015
DTEND;VALUE=DATE:20201016
DTSTAMP:20260420T160111
CREATED:20201013T005434Z
LAST-MODIFIED:20230503T201109Z
UID:10001597-1602748800-1602754200@envirocenter.org
SUMMARY:Building Resilient Food Systems for Global Food Security and Nutrition
DESCRIPTION:Join for a World Food Prize side event co-hosted by the FAO North America and the Alliance to End Hunger to learn about the actions needed to promote more resilient and sustainable food systems.
URL:https://envirocenter.org/event/building-resilient-food-systems-for-global-food-security-and-nutrition/
LOCATION:Deschutes Brewery Public House\, 1044 NW Bond St\, Bend\, OR\, 97701\, United States
CATEGORIES:Food|Online event
GEO:44.0593984;-121.3113079
X-APPLE-STRUCTURED-LOCATION;VALUE=URI;X-ADDRESS=Deschutes Brewery Public House 1044 NW Bond St Bend OR 97701 United States;X-APPLE-RADIUS=500;X-TITLE=1044 NW Bond St:geo:-121.3113079,44.0593984
END:VEVENT
BEGIN:VEVENT
DTSTART;VALUE=DATE:20201015
DTEND;VALUE=DATE:20201016
DTSTAMP:20260420T160111
CREATED:20200903T023526Z
LAST-MODIFIED:20230503T201052Z
UID:10001565-1602754200-1602763200@envirocenter.org
SUMMARY:Decluttering with the KonMari Method: COCC Continuing Education
DESCRIPTION:COCC’s Continuing Education Program is running a 5-class series with Marie Kondo’s trademarked method of decluttering expanded from her book The Life-Changing Magic of Tidying Up. One method of reducing waste and being environmentally friendly can be to minimize the amount of stuff that surrounds you. It can help your mind\, your wallet\, and your life. \nWhat sparks joy for you? \nTidy Your Space. Spark Joy. Transform Your Life. The KonMari Method™ is the art of simplifying and organizing your home by choosing to keep the physical items that bring you joy and letting go of the rest with gratitude. Join Melissa Jean\, a Certified Platinum KonMari Consultant\, as she leads you through the philosophy\, practice and practical application of tidying up your life and space using this method. This session will focus on books and students will spend time during class tidying up their own bookcases. Registration includes a 15-minute one-on-one session with Melissa after the class is over. \nFocus areas with dates listed below. Classes taught online via Zoom\, 9:30 am to 12:00 pm \n\nClothing – Oct 8\nBooks – Oct 15\nPapers – Oct 22\nKomono (Miscellaneous Items) – Oct 29\nSentimental Items & Mementos – Nov 5\n\nLearn more about Melissa here.
URL:https://envirocenter.org/event/decluttering-with-the-konmari-method-cocc-continuing-education-2020-10-08/
LOCATION:Deschutes Brewery Public House\, 1044 NW Bond St\, Bend\, OR\, 97701\, United States
CATEGORIES:Online event|Rethink Waste
GEO:44.0593984;-121.3113079
X-APPLE-STRUCTURED-LOCATION;VALUE=URI;X-ADDRESS=Deschutes Brewery Public House 1044 NW Bond St Bend OR 97701 United States;X-APPLE-RADIUS=500;X-TITLE=1044 NW Bond St:geo:-121.3113079,44.0593984
END:VEVENT
BEGIN:VEVENT
DTSTART;VALUE=DATE:20201015
DTEND;VALUE=DATE:20201016
DTSTAMP:20260420T160111
CREATED:20200715T214538Z
LAST-MODIFIED:20230503T201033Z
UID:10003368-1602756000-1602777600@envirocenter.org
SUMMARY:Ponderosa Pine Seedling Sale
DESCRIPTION:Fall is the perfect time to plant a Ponderosa Pine tree. Seedlings will be available in various sizes and range from one to four years old. Seedlings are cared for by local students and have been acclimated to a Central Oregon environment. Proceeds of the seedling sale benefit Project Ponderosa’s environmental education and habitat restoration programs. Detailed planting instructions with special tips to optimize success are included with all purchases. Nature Center admission is not required to purchase trees. \nLearn more about Project Ponderosa and how to get involved here.
URL:https://envirocenter.org/event/ponderosa-pine-seedling-sale-2-2020-10-14/
LOCATION:Deschutes Brewery Public House\, 1044 NW Bond St\, Bend\, OR\, 97701\, United States
GEO:44.0593984;-121.3113079
X-APPLE-STRUCTURED-LOCATION;VALUE=URI;X-ADDRESS=Deschutes Brewery Public House 1044 NW Bond St Bend OR 97701 United States;X-APPLE-RADIUS=500;X-TITLE=1044 NW Bond St:geo:-121.3113079,44.0593984
END:VEVENT
BEGIN:VEVENT
DTSTART;VALUE=DATE:20201015
DTEND;VALUE=DATE:20201016
DTSTAMP:20260420T160111
CREATED:20201002T031550Z
LAST-MODIFIED:20230503T201104Z
UID:10001595-1602763200-1602768600@envirocenter.org
SUMMARY:Indigenous Perspectives on Earth and Sky\, Featuring Chad Kālepa Baybayan
DESCRIPTION:Born and raised on Maui\, Chad Kālepa Baybayan first sailed on Hōkūleʻa in 1975\, a traditionally designed reconstruction of a double-hulled deep-sea oceanic voyaging canoe. He has since sailed on major voyages throughout the Pacific and in 2014 participated as captain and navigator on the Mālama Honua Worldwide voyage\, a 47\,000 nautical mile journey around the world that visited 26 countries and stopped at 85 ports. He currently serves as the Navigator in Residence at the ‘Imiloa Astronomy Center of Hawai‘i developing wayfinding activities\, curriculum materials\, and conducting outreach. In 2007\, his teacher\, Master Navigator Mau Piailug\, on the tiny Micronesian atoll of Satawal\, initiated Kālepa into the order of Pwo\, a three thousand year old society of deep-sea navigators.
URL:https://envirocenter.org/event/indigenous-perspectives-on-earth-and-sky-featuring-chad-kalepa-baybayan/
LOCATION:Deschutes Brewery Public House\, 1044 NW Bond St\, Bend\, OR\, 97701\, United States
CATEGORIES:Online event
GEO:44.0593984;-121.3113079
X-APPLE-STRUCTURED-LOCATION;VALUE=URI;X-ADDRESS=Deschutes Brewery Public House 1044 NW Bond St Bend OR 97701 United States;X-APPLE-RADIUS=500;X-TITLE=1044 NW Bond St:geo:-121.3113079,44.0593984
END:VEVENT
BEGIN:VEVENT
DTSTART;VALUE=DATE:20201015
DTEND;VALUE=DATE:20201016
DTSTAMP:20260420T160111
CREATED:20200909T004152Z
LAST-MODIFIED:20230503T201052Z
UID:10001572-1602779400-1602784800@envirocenter.org
SUMMARY:The Great Tide of Humanity: Race & Gender Reform in 19th Century
DESCRIPTION:Join The Nancy R. Chandler Visiting Scholar Program (VSP) of the Central Oregon Community College for a lively evening where Concord\, Massachusetts historians and social rights activists come together to talk about the 19th century revolution that was fought with a pen and continues to capture the hearts and minds of social reformers today.
URL:https://envirocenter.org/event/the-great-tide-of-humanity-race-gender-reform-in-19th-century/
LOCATION:Deschutes Brewery Public House\, 1044 NW Bond St\, Bend\, OR\, 97701\, United States
CATEGORIES:Online event
GEO:44.0593984;-121.3113079
X-APPLE-STRUCTURED-LOCATION;VALUE=URI;X-ADDRESS=Deschutes Brewery Public House 1044 NW Bond St Bend OR 97701 United States;X-APPLE-RADIUS=500;X-TITLE=1044 NW Bond St:geo:-121.3113079,44.0593984
END:VEVENT
BEGIN:VEVENT
DTSTART;VALUE=DATE:20201015
DTEND;VALUE=DATE:20201016
DTSTAMP:20260420T160111
CREATED:20201013T023204Z
LAST-MODIFIED:20230503T201110Z
UID:10001601-1602781200-1602784800@envirocenter.org
SUMMARY:Salmon in Central Oregon
DESCRIPTION:
URL:https://envirocenter.org/event/salmon-in-central-oregon/
LOCATION:Deschutes Brewery Public House\, 1044 NW Bond St\, Bend\, OR\, 97701\, United States
CATEGORIES:Online event
GEO:44.0593984;-121.3113079
X-APPLE-STRUCTURED-LOCATION;VALUE=URI;X-ADDRESS=Deschutes Brewery Public House 1044 NW Bond St Bend OR 97701 United States;X-APPLE-RADIUS=500;X-TITLE=1044 NW Bond St:geo:-121.3113079,44.0593984
END:VEVENT
BEGIN:VEVENT
DTSTART;VALUE=DATE:20201015
DTEND;VALUE=DATE:20201016
DTSTAMP:20260420T160111
CREATED:20160803T235848Z
LAST-MODIFIED:20230503T200442Z
UID:10000795-1602782100-1602792000@envirocenter.org
SUMMARY:Bend COTA Work Events
DESCRIPTION:When:  Thursday Aug 11\, Tuesday Aug 16\, Tuesday Aug 23 and Tuesday Aug 30\, 5:15 to Dusk \nWhere:  Meet at the old Ray’s parking lot\, NE corner of Simpson Ave and Century Drive in Bend \nWorksite:  Varies \nThere’s only one thing better than mountain biking in Bend\, OR and that’s riding in Bend\, knowing that you helped build and maintain the trails you love. \nPlease bring a hydration pack with water and a snack. \nBe sure to bring appropriate layers to accommodate whatever the weather may be. \nQuestions?  contact@cotamtb.com \nAll COTA trail work events require the following safety measures: \nAll participants are required to have the following protective clothing and equipment: \n\nSturdy shoes or boots\nGloves\nEye protection with clear or light colored lens\nLong pants\n\nDue to COTA’s insurance requirements and the inherent dangers of trail work\, we must implement the following policy regarding children at work events: \n\nFor anyone 14 years of age or younger\, we require one parent\, guardian\, or responsible adult for supervision of every four kids attending any COTA trail work events.\nAll minors under the age of 18 must have a parent or guardian available to sign our waiver.\n\nAnyone who arrives for a work event may be turned away if he/she cannot meet the above requirements.
URL:https://envirocenter.org/event/bend-cota-work-events-2016-08-11/
LOCATION:Deschutes Brewery Public House\, 1044 NW Bond St\, Bend\, OR\, 97701\, United States
GEO:44.0593984;-121.3113079
X-APPLE-STRUCTURED-LOCATION;VALUE=URI;X-ADDRESS=Deschutes Brewery Public House 1044 NW Bond St Bend OR 97701 United States;X-APPLE-RADIUS=500;X-TITLE=1044 NW Bond St:geo:-121.3113079,44.0593984
END:VEVENT
BEGIN:VEVENT
DTSTART;VALUE=DATE:20201015
DTEND;VALUE=DATE:20201016
DTSTAMP:20260420T160111
CREATED:20201013T025740Z
LAST-MODIFIED:20230503T201110Z
UID:10001603-1602786600-1602792000@envirocenter.org
SUMMARY:Defending Democracy: Interrupting Voter Intimidation and Misinformation
DESCRIPTION:As rumors fly about who can and can’t vote by mail\, and threats to a safe and fair election escalate\, rural Oregonians are taking action to defend democracy\, build community\, and ensure that everyone who can vote does indeed vote! \nJoin us to strategize about:\n-How we can counter disinformation with accurate details on who can vote and how.\n-What we can do to make sure ballot drop boxes and post offices remain accessible and safe for our neighbors to drop off their ballots.\n-How we can effectively de-escalate and respond to threats and intimidation tactics.
URL:https://envirocenter.org/event/defending-democracy-interrupting-voter-intimidation-and-misinformation/
LOCATION:Deschutes Brewery Public House\, 1044 NW Bond St\, Bend\, OR\, 97701\, United States
CATEGORIES:Advocacy|Online event
GEO:44.0593984;-121.3113079
X-APPLE-STRUCTURED-LOCATION;VALUE=URI;X-ADDRESS=Deschutes Brewery Public House 1044 NW Bond St Bend OR 97701 United States;X-APPLE-RADIUS=500;X-TITLE=1044 NW Bond St:geo:-121.3113079,44.0593984
END:VEVENT
END:VCALENDAR