BEGIN:VCALENDAR
VERSION:2.0
PRODID:-//The Environmental Center - ECPv6.15.20//NONSGML v1.0//EN
CALSCALE:GREGORIAN
METHOD:PUBLISH
X-ORIGINAL-URL:https://envirocenter.org
X-WR-CALDESC:Events for The Environmental Center
REFRESH-INTERVAL;VALUE=DURATION:PT1H
X-Robots-Tag:noindex
X-PUBLISHED-TTL:PT1H
BEGIN:VTIMEZONE
TZID:America/Los_Angeles
BEGIN:DAYLIGHT
TZOFFSETFROM:-0800
TZOFFSETTO:-0700
TZNAME:PDT
DTSTART:20190310T100000
END:DAYLIGHT
BEGIN:STANDARD
TZOFFSETFROM:-0700
TZOFFSETTO:-0800
TZNAME:PST
DTSTART:20191103T090000
END:STANDARD
BEGIN:DAYLIGHT
TZOFFSETFROM:-0800
TZOFFSETTO:-0700
TZNAME:PDT
DTSTART:20200308T100000
END:DAYLIGHT
BEGIN:STANDARD
TZOFFSETFROM:-0700
TZOFFSETTO:-0800
TZNAME:PST
DTSTART:20201101T090000
END:STANDARD
BEGIN:DAYLIGHT
TZOFFSETFROM:-0800
TZOFFSETTO:-0700
TZNAME:PDT
DTSTART:20210314T100000
END:DAYLIGHT
BEGIN:STANDARD
TZOFFSETFROM:-0700
TZOFFSETTO:-0800
TZNAME:PST
DTSTART:20211107T090000
END:STANDARD
END:VTIMEZONE
BEGIN:VEVENT
DTSTART;VALUE=DATE:20200826
DTEND;VALUE=DATE:20200827
DTSTAMP:20260421T062402
CREATED:20200716T033726Z
LAST-MODIFIED:20230503T201034Z
UID:10001533-1598428800-1598446800@envirocenter.org
SUMMARY:Circularity 20 Conference: Accelerating the circular economy.
DESCRIPTION:Given the evolving viability of in-person convenings\, Circularity 20 will now be a complimentary online event featuring engaging and informative plenaries\, breakouts\, networking opportunities\, and a solutions-oriented showcase. \nThis time of unprecedented challenges requires systemic solutions and radical new ways of doing business. Circularity 20 will empower participants to employ circular economy principles that navigate disruption\, increase resilience\, respond to shifting consumer demand\, and unlock new business opportunities. Join industry-leading speakers and more than 10\,000 professionals participating from around the world to learn\, connect\, and accelerate the circular economy.
URL:https://envirocenter.org/event/circularity-20-conference-accelerating-the-circular-economy-2020-08-25/
LOCATION:Deschutes Brewery Public House\, 1044 NW Bond St\, Bend\, OR\, 97701\, United States
CATEGORIES:Energy|Equity|Food|Online event|Online Networking|Rethink Waste
GEO:44.0593984;-121.3113079
X-APPLE-STRUCTURED-LOCATION;VALUE=URI;X-ADDRESS=Deschutes Brewery Public House 1044 NW Bond St Bend OR 97701 United States;X-APPLE-RADIUS=500;X-TITLE=1044 NW Bond St:geo:-121.3113079,44.0593984
END:VEVENT
BEGIN:VEVENT
DTSTART;VALUE=DATE:20200826
DTEND;VALUE=DATE:20200827
DTSTAMP:20260421T062402
CREATED:20200826T105942Z
LAST-MODIFIED:20230503T201050Z
UID:10003392-1598464800-1598472000@envirocenter.org
SUMMARY:Help end the use of Chlorpyrifos in Oregon!
DESCRIPTION:Chlorpyrifos is an insecticide that damages the brains of infants and children\, and can cause neurological harm\, cancer and other serious impacts. Unsafe levels of residues are found in drinking water and common foods such as beans\, vegetables and fruit. Research overwhelmingly shows that chlorpyrifos kills and harm bees\, butterflies\, and birds and is a serious threat to our food\, public health\, and wildlife. \nHawaii\, California\, New York and Maryland have taken action to ban or severely restrict chlorpyrifos. Oregon must take action\, but the Oregon Department of Agriculture’s proposed rules on chlorpyrifos need to be stronger! We need your help to pass effective rules. Please send your written comments or speak at one of two remaining virtual public hearings in August. If you can’t make it to one of those hearings\, see below for public comment details\, our policy analysis and suggested talking points. \nThere are two easy ways you can get involved: \n\nAttend one of the scheduled virtual public hearings: \nAug. 26\, 2020\, 6-8 PM\n(Real-time Spanish translation provided.)\nSubmit your written comments to the ODA record by October 1st.\nRead suggested talking points->>
URL:https://envirocenter.org/event/help-end-the-use-of-chlorpyrifos-in-oregon/
LOCATION:Deschutes Brewery Public House\, 1044 NW Bond St\, Bend\, OR\, 97701\, United States
CATEGORIES:Advocacy|Equity|Online event
GEO:44.0593984;-121.3113079
X-APPLE-STRUCTURED-LOCATION;VALUE=URI;X-ADDRESS=Deschutes Brewery Public House 1044 NW Bond St Bend OR 97701 United States;X-APPLE-RADIUS=500;X-TITLE=1044 NW Bond St:geo:-121.3113079,44.0593984
END:VEVENT
END:VCALENDAR