BEGIN:VCALENDAR
VERSION:2.0
PRODID:-//The Environmental Center - ECPv6.15.20//NONSGML v1.0//EN
CALSCALE:GREGORIAN
METHOD:PUBLISH
X-ORIGINAL-URL:https://envirocenter.org
X-WR-CALDESC:Events for The Environmental Center
REFRESH-INTERVAL;VALUE=DURATION:PT1H
X-Robots-Tag:noindex
X-PUBLISHED-TTL:PT1H
BEGIN:VTIMEZONE
TZID:America/Los_Angeles
BEGIN:DAYLIGHT
TZOFFSETFROM:-0800
TZOFFSETTO:-0700
TZNAME:PDT
DTSTART:20190310T100000
END:DAYLIGHT
BEGIN:STANDARD
TZOFFSETFROM:-0700
TZOFFSETTO:-0800
TZNAME:PST
DTSTART:20191103T090000
END:STANDARD
BEGIN:DAYLIGHT
TZOFFSETFROM:-0800
TZOFFSETTO:-0700
TZNAME:PDT
DTSTART:20200308T100000
END:DAYLIGHT
BEGIN:STANDARD
TZOFFSETFROM:-0700
TZOFFSETTO:-0800
TZNAME:PST
DTSTART:20201101T090000
END:STANDARD
BEGIN:DAYLIGHT
TZOFFSETFROM:-0800
TZOFFSETTO:-0700
TZNAME:PDT
DTSTART:20210314T100000
END:DAYLIGHT
BEGIN:STANDARD
TZOFFSETFROM:-0700
TZOFFSETTO:-0800
TZNAME:PST
DTSTART:20211107T090000
END:STANDARD
END:VTIMEZONE
BEGIN:VEVENT
DTSTART;VALUE=DATE:20200725
DTEND;VALUE=DATE:20200726
DTSTAMP:20260420T061508
CREATED:20200707T040028Z
LAST-MODIFIED:20230503T201026Z
UID:10003346-1595660400-1595696400@envirocenter.org
SUMMARY:Caucus to Collectivity: Dismantling Racism from a White-Identified Perspective
DESCRIPTION:How is our practice a resource for moving into the world rather than avoiding it? How can our love of humanity be the ground from which we address racism\, injustice\, and oppression? \nIf you identify as white\, how can we fully see our role in maintaining systems of oppression so that we may let them go? So we may all know our inherent liberation. \nNo one wins in this system. \nIf our practices don’t offer a way to work with this\, then we are maintaining the privilege of ignoring and/or bypassing what marginalized populations can not ignore or bypass. \nThis day of retreat is specifically designed for those who identify as white. The practice of identity-based caucusing is vital in fostering a collective community that honors inclusivity and belonging\, and de-centers a harmful hegemony. There are important conversations for white people to have\, accountable to BIPOC individuals\, aimed at dismantling racism. Only when white people are ready to do the work of confronting the myriad of emotions\, attitudes\, behaviors\, and actions that stem from internalized white supremacy will we be able to forward a just\, equitable society of collective presence. \nJoin these four white-identified teachers for a day of practice\, embodiment\, discussions\, and action-planning about committing or re-committing to a practice rooted in love rather than alienation\, awareness rather than ignorance\, and engagement over apathy or burnout. Led by Caverly Morgan\, Suniti Dernovsek\, David Perrin & Latifa Till
URL:https://envirocenter.org/event/caucus-to-collectivity-dismantling-racism-from-a-white-identified-perspective/
LOCATION:Deschutes Brewery Public House\, 1044 NW Bond St\, Bend\, OR\, 97701\, United States
CATEGORIES:Equity
GEO:44.0593984;-121.3113079
X-APPLE-STRUCTURED-LOCATION;VALUE=URI;X-ADDRESS=Deschutes Brewery Public House 1044 NW Bond St Bend OR 97701 United States;X-APPLE-RADIUS=500;X-TITLE=1044 NW Bond St:geo:-121.3113079,44.0593984
END:VEVENT
BEGIN:VEVENT
DTSTART;VALUE=DATE:20200725
DTEND;VALUE=DATE:20200726
DTSTAMP:20260420T061508
CREATED:20211026T011350Z
LAST-MODIFIED:20230503T201339Z
UID:10003355-1595665800-1595676600@envirocenter.org
SUMMARY:Bird Walk
DESCRIPTION:Walk on the wild side! Join Tom Lawler\, expert local birder and nature photographer\, to discover the rich bird habitats of Sunriver. With Tom’s keen eye and guidance\, you will spot and learn to identify a variety of species found in the wetlands\, meadows\, and forests surrounding the Nature Center. Whether you are new to birding or an experienced birder\, there is always something exciting to see through your binoculars! \nPre-registration is required and capacity is limited. Expect to walk approximately 3 to 4 miles along various trails.
URL:https://envirocenter.org/event/bird-walk-6/
LOCATION:Deschutes Brewery Public House\, 1044 NW Bond St\, Bend\, OR\, 97701\, United States
CATEGORIES:Youth Education
GEO:44.0593984;-121.3113079
X-APPLE-STRUCTURED-LOCATION;VALUE=URI;X-ADDRESS=Deschutes Brewery Public House 1044 NW Bond St Bend OR 97701 United States;X-APPLE-RADIUS=500;X-TITLE=1044 NW Bond St:geo:-121.3113079,44.0593984
END:VEVENT
BEGIN:VEVENT
DTSTART;TZID=America/Los_Angeles:20200725T100000
DTEND;TZID=America/Los_Angeles:20200725T130000
DTSTAMP:20260420T061508
CREATED:20200706T153930Z
LAST-MODIFIED:20200727T142247Z
UID:10001506-1595671200-1595682000@envirocenter.org
SUMMARY:Deschutes River Cleanup
DESCRIPTION:The Upper Deschutes Watershed Council is hosting the 24th annual Deschutes River Cleanup! Cleanup activities will take place at five different sites on the Deschutes river where volunteers will help pull invasive weeds and remove litter from the stream banks. The cleanup sites are: Meadow Camp\, Riverbend Park\, Miller’s Landing\, First Street Rapids Park\, and Sawyer Park. \nYou will register for a specific site when you sign up. This year we are limiting each site to 20 volunteers in an effort to enforce social distancing. On the morning of the cleanup\, you will meet your volunteer host at 10:00 a.m. at the site you selected. We encourage all volunteers to come prepared with sturdy shoes\, a hat and sun protection\, gloves\, a water bottle\, and snacks. \nThe Deschutes River Cleanup is an opportunity for us to come together to steward the Deschutes River and its riparian areas. Recreation in and around the Deschutes River has led to significant impacts to river health. In order to keep our river beautiful and protect water quality for fish and wildlife\, the Watershed Council coordinates the Deschutes River Cleanup every year.
URL:https://envirocenter.org/event/deschutes-river-cleanup-4/
CATEGORIES:Water
ATTACH;FMTTYPE=image/jpeg:https://envirocenter.org/wp-content/uploads/2020/07/106170349_3653468171335958_2337141812866693334_n.jpg
ORGANIZER;CN="Upper Deschutes Watershed Council":MAILTO:lmork@restorethedeschutes.org
END:VEVENT
BEGIN:VEVENT
DTSTART;TZID=America/Los_Angeles:20200725T100000
DTEND;TZID=America/Los_Angeles:20200725T130000
DTSTAMP:20260420T061508
CREATED:20200706T211034Z
LAST-MODIFIED:20200706T211034Z
UID:10003347-1595671200-1595682000@envirocenter.org
SUMMARY:Deschutes River Cleanup
DESCRIPTION:The Upper Deschutes Watershed Council is hosting the 24th annual Deschutes River Cleanup! Cleanup activities will take place at five different sites on the Deschutes river where volunteers will help pull invasive weeds and remove litter from the stream banks. The cleanup sites are: Meadow Camp\, Riverbend Park\, Miller’s Landing\, First Street Rapids Park\, and Sawyer Park. \n  \n 
URL:https://envirocenter.org/event/deschutes-river-cleanup-5/
ATTACH;FMTTYPE=image/jpeg:https://envirocenter.org/wp-content/uploads/2020/07/River-Clean-up.jpg
ORGANIZER;CN="Upper Deschutes Watershed Council":MAILTO:lmork@restorethedeschutes.org
END:VEVENT
BEGIN:VEVENT
DTSTART;VALUE=DATE:20200725
DTEND;VALUE=DATE:20200727
DTSTAMP:20260420T061508
CREATED:20200220T041215Z
LAST-MODIFIED:20230503T200948Z
UID:10001427-1595696400-1595721600@envirocenter.org
SUMMARY:20th Annual Gala de Oro
DESCRIPTION:An unforgettable evening of elegance and cultural discovery as they celebrate the 20th anniversary of the Latino Community Association. Enjoy a delicious Latin American-inspired dinner\, cocktails & margaritas\, tequila tasting bar and an exciting live auction. Dinner will be followed by live music and dancing.
URL:https://envirocenter.org/event/20th-annual-gala-de-oro/
LOCATION:Deschutes Brewery Public House\, 1044 NW Bond St\, Bend\, OR\, 97701\, United States
CATEGORIES:Diversity
GEO:44.0593984;-121.3113079
X-APPLE-STRUCTURED-LOCATION;VALUE=URI;X-ADDRESS=Deschutes Brewery Public House 1044 NW Bond St Bend OR 97701 United States;X-APPLE-RADIUS=500;X-TITLE=1044 NW Bond St:geo:-121.3113079,44.0593984
END:VEVENT
BEGIN:VEVENT
DTSTART;VALUE=DATE:20200725
DTEND;VALUE=DATE:20200726
DTSTAMP:20260420T061508
CREATED:20200722T052450Z
LAST-MODIFIED:20230503T201038Z
UID:10003371-1595703600-1595709000@envirocenter.org
SUMMARY:Vigil in honor of Black lives lost
DESCRIPTION:Gather for a peaceful\, solemn vigil marking the second month since the death of George Floyd. Join Indivisible Sisters for an evening of solidarity and contemplation honoring George Floyd and the many Black lives lost to violence.\n\nOHD Covid-19 policies will be enforced. Masks must be worn and physical distancing must be observed. If you are unable to stand for an hour\, please bring a chair. \n\nWhere: Village Green City Park\, Sisters\nHosts: Indivisible Sisters
URL:https://envirocenter.org/event/vigil-in-honor-of-black-lives-lost/
LOCATION:Deschutes Brewery Public House\, 1044 NW Bond St\, Bend\, OR\, 97701\, United States
CATEGORIES:Diversity|Equity
GEO:44.0593984;-121.3113079
X-APPLE-STRUCTURED-LOCATION;VALUE=URI;X-ADDRESS=Deschutes Brewery Public House 1044 NW Bond St Bend OR 97701 United States;X-APPLE-RADIUS=500;X-TITLE=1044 NW Bond St:geo:-121.3113079,44.0593984
END:VEVENT
END:VCALENDAR