BEGIN:VCALENDAR
VERSION:2.0
PRODID:-//The Environmental Center - ECPv6.15.20//NONSGML v1.0//EN
CALSCALE:GREGORIAN
METHOD:PUBLISH
X-ORIGINAL-URL:https://envirocenter.org
X-WR-CALDESC:Events for The Environmental Center
REFRESH-INTERVAL;VALUE=DURATION:PT1H
X-Robots-Tag:noindex
X-PUBLISHED-TTL:PT1H
BEGIN:VTIMEZONE
TZID:America/Los_Angeles
BEGIN:DAYLIGHT
TZOFFSETFROM:-0800
TZOFFSETTO:-0700
TZNAME:PDT
DTSTART:20190310T100000
END:DAYLIGHT
BEGIN:STANDARD
TZOFFSETFROM:-0700
TZOFFSETTO:-0800
TZNAME:PST
DTSTART:20191103T090000
END:STANDARD
BEGIN:DAYLIGHT
TZOFFSETFROM:-0800
TZOFFSETTO:-0700
TZNAME:PDT
DTSTART:20200308T100000
END:DAYLIGHT
BEGIN:STANDARD
TZOFFSETFROM:-0700
TZOFFSETTO:-0800
TZNAME:PST
DTSTART:20201101T090000
END:STANDARD
BEGIN:DAYLIGHT
TZOFFSETFROM:-0800
TZOFFSETTO:-0700
TZNAME:PDT
DTSTART:20210314T100000
END:DAYLIGHT
BEGIN:STANDARD
TZOFFSETFROM:-0700
TZOFFSETTO:-0800
TZNAME:PST
DTSTART:20211107T090000
END:STANDARD
END:VTIMEZONE
BEGIN:VEVENT
DTSTART;VALUE=DATE:20200709
DTEND;VALUE=DATE:20200710
DTSTAMP:20260420T063501
CREATED:20200707T035707Z
LAST-MODIFIED:20230503T201025Z
UID:10003345-1594303200-1594306800@envirocenter.org
SUMMARY:How to Talk About Race in Rural Communities - with LaNicia Duke
DESCRIPTION:Join Presence Collective for a webinar with LaNicia Duke on “How to Talk About Race in Rural Communities.” Many states are thought of as “progressive” when they have big cities with diverse populations. Outside of those big cities are rural communities struggling with how to define social justice reform or have conversations about race because of the lack of representation of underrepresented communities. LaNicia will share insight from her experience as one of the few Black people living in Tillamook county and how she has helped her communities have courageous conversations about race.
URL:https://envirocenter.org/event/how-to-talk-about-race-in-rural-communities-with-lanicia-duke/
LOCATION:Deschutes Brewery Public House\, 1044 NW Bond St\, Bend\, OR\, 97701\, United States
GEO:44.0593984;-121.3113079
X-APPLE-STRUCTURED-LOCATION;VALUE=URI;X-ADDRESS=Deschutes Brewery Public House 1044 NW Bond St Bend OR 97701 United States;X-APPLE-RADIUS=500;X-TITLE=1044 NW Bond St:geo:-121.3113079,44.0593984
END:VEVENT
BEGIN:VEVENT
DTSTART;VALUE=DATE:20200709
DTEND;VALUE=DATE:20200710
DTSTAMP:20260420T063501
CREATED:20200709T000032Z
LAST-MODIFIED:20230503T201028Z
UID:10001511-1594308600-1594315800@envirocenter.org
SUMMARY:C.O.D.P Black Lives Matter Rally
DESCRIPTION:Central Oregon Diversity Project will be standing in protest and representing BLM\, Breonna Taylor\, Pride\, Police Corruption\, and all that C.O.D.P represents. Please wear masks and practice physical distancing. \nMeet at: Peace Corner (Wall & Greenwood)
URL:https://envirocenter.org/event/c-o-d-p-black-lives-matter-rally/
LOCATION:Deschutes Brewery Public House\, 1044 NW Bond St\, Bend\, OR\, 97701\, United States
GEO:44.0593984;-121.3113079
X-APPLE-STRUCTURED-LOCATION;VALUE=URI;X-ADDRESS=Deschutes Brewery Public House 1044 NW Bond St Bend OR 97701 United States;X-APPLE-RADIUS=500;X-TITLE=1044 NW Bond St:geo:-121.3113079,44.0593984
END:VEVENT
BEGIN:VEVENT
DTSTART;VALUE=DATE:20200709
DTEND;VALUE=DATE:20200710
DTSTAMP:20260420T063501
CREATED:20200709T002545Z
LAST-MODIFIED:20230503T201028Z
UID:10001512-1594314000-1594319400@envirocenter.org
SUMMARY:¡Nuestra Gente Presente!
DESCRIPTION:Qué significan el poder y representación para mí. Regístrese en #ContemosOregon el jueves 9 de julio de 5 a 6:30 p.m. ¡PST para celebrar la vitalidad de nuestra comunidad Latinx! Exploraremos lo que el poder y la representación significan para nuestra diversa y esencial comunidad Latine. La increíble Dolores Huerta es nuestra invitada de honor! \nJoin #WeCountOregon Thursday\, July 9th\, 5-6:30 pm PST to celebrate the vibrancy of our LatinX community! We Count Oregon will explore What Power and Representation Mean to our diverse and essential LatinX community. The amazing Dolores Huerta will be the headliner!
URL:https://envirocenter.org/event/nuestra-gente-presente/
LOCATION:Deschutes Brewery Public House\, 1044 NW Bond St\, Bend\, OR\, 97701\, United States
GEO:44.0593984;-121.3113079
X-APPLE-STRUCTURED-LOCATION;VALUE=URI;X-ADDRESS=Deschutes Brewery Public House 1044 NW Bond St Bend OR 97701 United States;X-APPLE-RADIUS=500;X-TITLE=1044 NW Bond St:geo:-121.3113079,44.0593984
END:VEVENT
BEGIN:VEVENT
DTSTART;VALUE=DATE:20200709
DTEND;VALUE=DATE:20200710
DTSTAMP:20260420T063501
CREATED:20160803T235848Z
LAST-MODIFIED:20230503T200442Z
UID:10000781-1594314900-1594324800@envirocenter.org
SUMMARY:Bend COTA Work Events
DESCRIPTION:When:  Thursday Aug 11\, Tuesday Aug 16\, Tuesday Aug 23 and Tuesday Aug 30\, 5:15 to Dusk \nWhere:  Meet at the old Ray’s parking lot\, NE corner of Simpson Ave and Century Drive in Bend \nWorksite:  Varies \nThere’s only one thing better than mountain biking in Bend\, OR and that’s riding in Bend\, knowing that you helped build and maintain the trails you love. \nPlease bring a hydration pack with water and a snack. \nBe sure to bring appropriate layers to accommodate whatever the weather may be. \nQuestions?  contact@cotamtb.com \nAll COTA trail work events require the following safety measures: \nAll participants are required to have the following protective clothing and equipment: \n\nSturdy shoes or boots\nGloves\nEye protection with clear or light colored lens\nLong pants\n\nDue to COTA’s insurance requirements and the inherent dangers of trail work\, we must implement the following policy regarding children at work events: \n\nFor anyone 14 years of age or younger\, we require one parent\, guardian\, or responsible adult for supervision of every four kids attending any COTA trail work events.\nAll minors under the age of 18 must have a parent or guardian available to sign our waiver.\n\nAnyone who arrives for a work event may be turned away if he/she cannot meet the above requirements.
URL:https://envirocenter.org/event/bend-cota-work-events-2016-08-11/
LOCATION:Deschutes Brewery Public House\, 1044 NW Bond St\, Bend\, OR\, 97701\, United States
GEO:44.0593984;-121.3113079
X-APPLE-STRUCTURED-LOCATION;VALUE=URI;X-ADDRESS=Deschutes Brewery Public House 1044 NW Bond St Bend OR 97701 United States;X-APPLE-RADIUS=500;X-TITLE=1044 NW Bond St:geo:-121.3113079,44.0593984
END:VEVENT
END:VCALENDAR