BEGIN:VCALENDAR
VERSION:2.0
PRODID:-//The Environmental Center - ECPv6.15.20//NONSGML v1.0//EN
CALSCALE:GREGORIAN
METHOD:PUBLISH
X-ORIGINAL-URL:https://envirocenter.org
X-WR-CALDESC:Events for The Environmental Center
REFRESH-INTERVAL;VALUE=DURATION:PT1H
X-Robots-Tag:noindex
X-PUBLISHED-TTL:PT1H
BEGIN:VTIMEZONE
TZID:America/Los_Angeles
BEGIN:DAYLIGHT
TZOFFSETFROM:-0800
TZOFFSETTO:-0700
TZNAME:PDT
DTSTART:20190310T100000
END:DAYLIGHT
BEGIN:STANDARD
TZOFFSETFROM:-0700
TZOFFSETTO:-0800
TZNAME:PST
DTSTART:20191103T090000
END:STANDARD
BEGIN:DAYLIGHT
TZOFFSETFROM:-0800
TZOFFSETTO:-0700
TZNAME:PDT
DTSTART:20200308T100000
END:DAYLIGHT
BEGIN:STANDARD
TZOFFSETFROM:-0700
TZOFFSETTO:-0800
TZNAME:PST
DTSTART:20201101T090000
END:STANDARD
BEGIN:DAYLIGHT
TZOFFSETFROM:-0800
TZOFFSETTO:-0700
TZNAME:PDT
DTSTART:20210314T100000
END:DAYLIGHT
BEGIN:STANDARD
TZOFFSETFROM:-0700
TZOFFSETTO:-0800
TZNAME:PST
DTSTART:20211107T090000
END:STANDARD
END:VTIMEZONE
BEGIN:VEVENT
DTSTART;VALUE=DATE:20200629
DTEND;VALUE=DATE:20200703
DTSTAMP:20260419T060914
CREATED:20200521T075606Z
LAST-MODIFIED:20230503T201004Z
UID:10003295-1593417600-1593709200@envirocenter.org
SUMMARY:Forest Explorers Summer Camp
DESCRIPTION:We’re excited for some summer fun in the forest! We will learn about natural history\, explore the forest\, create shelters\, and splash in Tumalo Creek. The health & safety of our participants and staff is our top priority. We hope the fresh air\, exercise\, learning\, and interacting will help students feel refreshed and joyful! Sign up today before we’re full. \nCurrently\, we have space for:\nJune 29-July 2 *Space for 3 more campers in older group\nAges: 6-10 years\nCost: $180/child or $125/child for 2+siblings\nWhere: Skyliner Lodge – 16125 Skyliners Road\, Bend\, OR
URL:https://envirocenter.org/event/join-us-for-small-outdoor-summer-camps-2020-06-29/
LOCATION:Deschutes Brewery Public House\, 1044 NW Bond St\, Bend\, OR\, 97701\, United States
GEO:44.0593984;-121.3113079
X-APPLE-STRUCTURED-LOCATION;VALUE=URI;X-ADDRESS=Deschutes Brewery Public House 1044 NW Bond St Bend OR 97701 United States;X-APPLE-RADIUS=500;X-TITLE=1044 NW Bond St:geo:-121.3113079,44.0593984
END:VEVENT
BEGIN:VEVENT
DTSTART;VALUE=DATE:20200630
DTEND;VALUE=DATE:20200704
DTSTAMP:20260419T060914
CREATED:20200521T075606Z
LAST-MODIFIED:20230503T201004Z
UID:10003296-1593504000-1593795600@envirocenter.org
SUMMARY:Forest Explorers Summer Camp
DESCRIPTION:We’re excited for some summer fun in the forest! We will learn about natural history\, explore the forest\, create shelters\, and splash in Tumalo Creek. The health & safety of our participants and staff is our top priority. We hope the fresh air\, exercise\, learning\, and interacting will help students feel refreshed and joyful! Sign up today before we’re full. \nCurrently\, we have space for:\nJune 29-July 2 *Space for 3 more campers in older group\nAges: 6-10 years\nCost: $180/child or $125/child for 2+siblings\nWhere: Skyliner Lodge – 16125 Skyliners Road\, Bend\, OR
URL:https://envirocenter.org/event/join-us-for-small-outdoor-summer-camps-2020-06-29/
LOCATION:Deschutes Brewery Public House\, 1044 NW Bond St\, Bend\, OR\, 97701\, United States
GEO:44.0593984;-121.3113079
X-APPLE-STRUCTURED-LOCATION;VALUE=URI;X-ADDRESS=Deschutes Brewery Public House 1044 NW Bond St Bend OR 97701 United States;X-APPLE-RADIUS=500;X-TITLE=1044 NW Bond St:geo:-121.3113079,44.0593984
END:VEVENT
BEGIN:VEVENT
DTSTART;VALUE=DATE:20200701
DTEND;VALUE=DATE:20200705
DTSTAMP:20260419T060914
CREATED:20200521T075606Z
LAST-MODIFIED:20230503T201004Z
UID:10003297-1593590400-1593882000@envirocenter.org
SUMMARY:Forest Explorers Summer Camp
DESCRIPTION:We’re excited for some summer fun in the forest! We will learn about natural history\, explore the forest\, create shelters\, and splash in Tumalo Creek. The health & safety of our participants and staff is our top priority. We hope the fresh air\, exercise\, learning\, and interacting will help students feel refreshed and joyful! Sign up today before we’re full. \nCurrently\, we have space for:\nJune 29-July 2 *Space for 3 more campers in older group\nAges: 6-10 years\nCost: $180/child or $125/child for 2+siblings\nWhere: Skyliner Lodge – 16125 Skyliners Road\, Bend\, OR
URL:https://envirocenter.org/event/join-us-for-small-outdoor-summer-camps-2020-06-29/
LOCATION:Deschutes Brewery Public House\, 1044 NW Bond St\, Bend\, OR\, 97701\, United States
GEO:44.0593984;-121.3113079
X-APPLE-STRUCTURED-LOCATION;VALUE=URI;X-ADDRESS=Deschutes Brewery Public House 1044 NW Bond St Bend OR 97701 United States;X-APPLE-RADIUS=500;X-TITLE=1044 NW Bond St:geo:-121.3113079,44.0593984
END:VEVENT
BEGIN:VEVENT
DTSTART;VALUE=DATE:20200702
DTEND;VALUE=DATE:20200706
DTSTAMP:20260419T060914
CREATED:20200521T075606Z
LAST-MODIFIED:20230503T201004Z
UID:10003298-1593676800-1593968400@envirocenter.org
SUMMARY:Forest Explorers Summer Camp
DESCRIPTION:We’re excited for some summer fun in the forest! We will learn about natural history\, explore the forest\, create shelters\, and splash in Tumalo Creek. The health & safety of our participants and staff is our top priority. We hope the fresh air\, exercise\, learning\, and interacting will help students feel refreshed and joyful! Sign up today before we’re full. \nCurrently\, we have space for:\nJune 29-July 2 *Space for 3 more campers in older group\nAges: 6-10 years\nCost: $180/child or $125/child for 2+siblings\nWhere: Skyliner Lodge – 16125 Skyliners Road\, Bend\, OR
URL:https://envirocenter.org/event/join-us-for-small-outdoor-summer-camps-2020-06-29/
LOCATION:Deschutes Brewery Public House\, 1044 NW Bond St\, Bend\, OR\, 97701\, United States
GEO:44.0593984;-121.3113079
X-APPLE-STRUCTURED-LOCATION;VALUE=URI;X-ADDRESS=Deschutes Brewery Public House 1044 NW Bond St Bend OR 97701 United States;X-APPLE-RADIUS=500;X-TITLE=1044 NW Bond St:geo:-121.3113079,44.0593984
END:VEVENT
BEGIN:VEVENT
DTSTART;VALUE=DATE:20200702
DTEND;VALUE=DATE:20200703
DTSTAMP:20260419T060914
CREATED:20200702T033042Z
LAST-MODIFIED:20230503T201021Z
UID:10001502-1593691200-1593694800@envirocenter.org
SUMMARY:Racial Injustice and the Tools of Civility: A Central Oregon Perspective
DESCRIPTION:During this livestream\, Erika McCalpine and Zak Boone\, co-Chairs of City Club’s Civility Project\, will facilitate a conversation with two Black men\, Marcus LeGrand and Rob Garrott\, about their personal experiences living in Central Oregon; especially during these times of racial unrest. \nIn addition\, panelists will speak to Police Chief Jim Porter to learn what the Bend Police Department is doing to ensure the departments’ encounters with Black and Indigenous People of Color (BIPOCs) in Central Oregon are safe. \n 
URL:https://envirocenter.org/event/racial-injustice-and-the-tools-of-civility-a-central-oregon-perspective/
LOCATION:Deschutes Brewery Public House\, 1044 NW Bond St\, Bend\, OR\, 97701\, United States
CATEGORIES:Diversity|Equity
GEO:44.0593984;-121.3113079
X-APPLE-STRUCTURED-LOCATION;VALUE=URI;X-ADDRESS=Deschutes Brewery Public House 1044 NW Bond St Bend OR 97701 United States;X-APPLE-RADIUS=500;X-TITLE=1044 NW Bond St:geo:-121.3113079,44.0593984
END:VEVENT
BEGIN:VEVENT
DTSTART;VALUE=DATE:20200702
DTEND;VALUE=DATE:20200703
DTSTAMP:20260419T060914
CREATED:20160803T235848Z
LAST-MODIFIED:20230503T200442Z
UID:10000780-1593710100-1593720000@envirocenter.org
SUMMARY:Bend COTA Work Events
DESCRIPTION:When:  Thursday Aug 11\, Tuesday Aug 16\, Tuesday Aug 23 and Tuesday Aug 30\, 5:15 to Dusk \nWhere:  Meet at the old Ray’s parking lot\, NE corner of Simpson Ave and Century Drive in Bend \nWorksite:  Varies \nThere’s only one thing better than mountain biking in Bend\, OR and that’s riding in Bend\, knowing that you helped build and maintain the trails you love. \nPlease bring a hydration pack with water and a snack. \nBe sure to bring appropriate layers to accommodate whatever the weather may be. \nQuestions?  contact@cotamtb.com \nAll COTA trail work events require the following safety measures: \nAll participants are required to have the following protective clothing and equipment: \n\nSturdy shoes or boots\nGloves\nEye protection with clear or light colored lens\nLong pants\n\nDue to COTA’s insurance requirements and the inherent dangers of trail work\, we must implement the following policy regarding children at work events: \n\nFor anyone 14 years of age or younger\, we require one parent\, guardian\, or responsible adult for supervision of every four kids attending any COTA trail work events.\nAll minors under the age of 18 must have a parent or guardian available to sign our waiver.\n\nAnyone who arrives for a work event may be turned away if he/she cannot meet the above requirements.
URL:https://envirocenter.org/event/bend-cota-work-events-2016-08-11/
LOCATION:Deschutes Brewery Public House\, 1044 NW Bond St\, Bend\, OR\, 97701\, United States
GEO:44.0593984;-121.3113079
X-APPLE-STRUCTURED-LOCATION;VALUE=URI;X-ADDRESS=Deschutes Brewery Public House 1044 NW Bond St Bend OR 97701 United States;X-APPLE-RADIUS=500;X-TITLE=1044 NW Bond St:geo:-121.3113079,44.0593984
END:VEVENT
END:VCALENDAR