BEGIN:VCALENDAR
VERSION:2.0
PRODID:-//The Environmental Center - ECPv6.15.20//NONSGML v1.0//EN
CALSCALE:GREGORIAN
METHOD:PUBLISH
X-WR-CALNAME:The Environmental Center
X-ORIGINAL-URL:https://envirocenter.org
X-WR-CALDESC:Events for The Environmental Center
REFRESH-INTERVAL;VALUE=DURATION:PT1H
X-Robots-Tag:noindex
X-PUBLISHED-TTL:PT1H
BEGIN:VTIMEZONE
TZID:America/Los_Angeles
BEGIN:DAYLIGHT
TZOFFSETFROM:-0800
TZOFFSETTO:-0700
TZNAME:PDT
DTSTART:20190310T100000
END:DAYLIGHT
BEGIN:STANDARD
TZOFFSETFROM:-0700
TZOFFSETTO:-0800
TZNAME:PST
DTSTART:20191103T090000
END:STANDARD
BEGIN:DAYLIGHT
TZOFFSETFROM:-0800
TZOFFSETTO:-0700
TZNAME:PDT
DTSTART:20200308T100000
END:DAYLIGHT
BEGIN:STANDARD
TZOFFSETFROM:-0700
TZOFFSETTO:-0800
TZNAME:PST
DTSTART:20201101T090000
END:STANDARD
BEGIN:DAYLIGHT
TZOFFSETFROM:-0800
TZOFFSETTO:-0700
TZNAME:PDT
DTSTART:20210314T100000
END:DAYLIGHT
BEGIN:STANDARD
TZOFFSETFROM:-0700
TZOFFSETTO:-0800
TZNAME:PST
DTSTART:20211107T090000
END:STANDARD
END:VTIMEZONE
BEGIN:VEVENT
DTSTART;VALUE=DATE:20200629
DTEND;VALUE=DATE:20200703
DTSTAMP:20260419T085540
CREATED:20200521T075606Z
LAST-MODIFIED:20230503T201004Z
UID:10003295-1593417600-1593709200@envirocenter.org
SUMMARY:Forest Explorers Summer Camp
DESCRIPTION:We’re excited for some summer fun in the forest! We will learn about natural history\, explore the forest\, create shelters\, and splash in Tumalo Creek. The health & safety of our participants and staff is our top priority. We hope the fresh air\, exercise\, learning\, and interacting will help students feel refreshed and joyful! Sign up today before we’re full. \nCurrently\, we have space for:\nJune 29-July 2 *Space for 3 more campers in older group\nAges: 6-10 years\nCost: $180/child or $125/child for 2+siblings\nWhere: Skyliner Lodge – 16125 Skyliners Road\, Bend\, OR
URL:https://envirocenter.org/event/join-us-for-small-outdoor-summer-camps-2020-06-29/
LOCATION:Deschutes Brewery Public House\, 1044 NW Bond St\, Bend\, OR\, 97701\, United States
GEO:44.0593984;-121.3113079
X-APPLE-STRUCTURED-LOCATION;VALUE=URI;X-ADDRESS=Deschutes Brewery Public House 1044 NW Bond St Bend OR 97701 United States;X-APPLE-RADIUS=500;X-TITLE=1044 NW Bond St:geo:-121.3113079,44.0593984
END:VEVENT
BEGIN:VEVENT
DTSTART;VALUE=DATE:20200629
DTEND;VALUE=DATE:20200630
DTSTAMP:20260419T085540
CREATED:20200626T011407Z
LAST-MODIFIED:20230503T201020Z
UID:10003329-1593453600-1593460800@envirocenter.org
SUMMARY:Love Your Neighbor Virtual Forum
DESCRIPTION:Explore the racial unrest underway across the U.S. with a panel of Central Oregonians of color at this Love Your Neighbor forum. \nMembers of the panel will share their perspectives on race relations\, and include audience participation to look at ways to advance racial justice locally and nationally.
URL:https://envirocenter.org/event/love-your-neighbor-virtual-forum/
LOCATION:Deschutes Brewery Public House\, 1044 NW Bond St\, Bend\, OR\, 97701\, United States
GEO:44.0593984;-121.3113079
X-APPLE-STRUCTURED-LOCATION;VALUE=URI;X-ADDRESS=Deschutes Brewery Public House 1044 NW Bond St Bend OR 97701 United States;X-APPLE-RADIUS=500;X-TITLE=1044 NW Bond St:geo:-121.3113079,44.0593984
END:VEVENT
BEGIN:VEVENT
DTSTART;VALUE=DATE:20200629
DTEND;VALUE=DATE:20200630
DTSTAMP:20260419T085540
CREATED:20200708T234647Z
LAST-MODIFIED:20230503T201027Z
UID:10001484-1593459000-1593464400@envirocenter.org
SUMMARY:Farmers Connecting with Other Farmers
DESCRIPTION:FoFF’s warmly invites producers to join their Virtual Farmer Chats\, July 13th and 27th from 7:30 to 9:00pm\, where they will continue to discuss Racial and Food Justice. FoFF’s creates a space for farmers to talk with each other about how we can dismantle the mechanisms that oppress our fellow farmers\, neighbors\, and friends. All farmers\, ranchers and farmworkers are welcome.
URL:https://envirocenter.org/event/farmers-connecting-with-other-farmers-2/
LOCATION:Deschutes Brewery Public House\, 1044 NW Bond St\, Bend\, OR\, 97701\, United States
GEO:44.0593984;-121.3113079
X-APPLE-STRUCTURED-LOCATION;VALUE=URI;X-ADDRESS=Deschutes Brewery Public House 1044 NW Bond St Bend OR 97701 United States;X-APPLE-RADIUS=500;X-TITLE=1044 NW Bond St:geo:-121.3113079,44.0593984
END:VEVENT
END:VCALENDAR