BEGIN:VCALENDAR
VERSION:2.0
PRODID:-//The Environmental Center - ECPv6.15.20//NONSGML v1.0//EN
CALSCALE:GREGORIAN
METHOD:PUBLISH
X-ORIGINAL-URL:https://envirocenter.org
X-WR-CALDESC:Events for The Environmental Center
REFRESH-INTERVAL;VALUE=DURATION:PT1H
X-Robots-Tag:noindex
X-PUBLISHED-TTL:PT1H
BEGIN:VTIMEZONE
TZID:America/Los_Angeles
BEGIN:DAYLIGHT
TZOFFSETFROM:-0800
TZOFFSETTO:-0700
TZNAME:PDT
DTSTART:20190310T100000
END:DAYLIGHT
BEGIN:STANDARD
TZOFFSETFROM:-0700
TZOFFSETTO:-0800
TZNAME:PST
DTSTART:20191103T090000
END:STANDARD
BEGIN:DAYLIGHT
TZOFFSETFROM:-0800
TZOFFSETTO:-0700
TZNAME:PDT
DTSTART:20200308T100000
END:DAYLIGHT
BEGIN:STANDARD
TZOFFSETFROM:-0700
TZOFFSETTO:-0800
TZNAME:PST
DTSTART:20201101T090000
END:STANDARD
BEGIN:DAYLIGHT
TZOFFSETFROM:-0800
TZOFFSETTO:-0700
TZNAME:PDT
DTSTART:20210314T100000
END:DAYLIGHT
BEGIN:STANDARD
TZOFFSETFROM:-0700
TZOFFSETTO:-0800
TZNAME:PST
DTSTART:20211107T090000
END:STANDARD
END:VTIMEZONE
BEGIN:VEVENT
DTSTART;VALUE=DATE:20200628
DTEND;VALUE=DATE:20200629
DTSTAMP:20260419T085533
CREATED:20200612T043954Z
LAST-MODIFIED:20230503T201015Z
UID:10003319-1593338400-1593356400@envirocenter.org
SUMMARY:Willing Workers On Local Farms
DESCRIPTION:Willing Workers On Local Farms (WWOLF) WWOLF is a community program of Central Oregon Locavore Non-Profit with the goal of lending a hand to small farmers while educating the community about the true nature of local food.
URL:https://envirocenter.org/event/willing-workers-on-local-farms/
LOCATION:Deschutes Brewery Public House\, 1044 NW Bond St\, Bend\, OR\, 97701\, United States
GEO:44.0593984;-121.3113079
X-APPLE-STRUCTURED-LOCATION;VALUE=URI;X-ADDRESS=Deschutes Brewery Public House 1044 NW Bond St Bend OR 97701 United States;X-APPLE-RADIUS=500;X-TITLE=1044 NW Bond St:geo:-121.3113079,44.0593984
END:VEVENT
BEGIN:VEVENT
DTSTART;VALUE=DATE:20200628
DTEND;VALUE=DATE:20200629
DTSTAMP:20260419T085533
CREATED:20200625T030124Z
LAST-MODIFIED:20230503T201020Z
UID:10003327-1593345600-1593356400@envirocenter.org
SUMMARY:Peaceful Sit-In Black Lives Matter Protest
DESCRIPTION:Join us in Prineville\, Oregon for a peaceful sit in Black Lives Matter protest. This is a gathering for peace\, education\, friendship\, and Justice! There will be no speeches or live music at this event\, this will be a peaceful sit in with chanting. Please bring your signs\, chairs/blankets and voices. We are in this together. \nThere will be water and snacks provided. You are more than welcome to bring extra supplies such as food/water and a first aid kit. If you are coming with the intentions of being violent\, this is not for you. Allies and Allied groups are welcome and invited\, but only on the premise that they come to support the Black Lives Matter Movement! \nPhysical distancing will be practiced. Please bring face masks\, or other face covering if possible.
URL:https://envirocenter.org/event/peaceful-sit-in-black-lives-matter-protest/
LOCATION:Deschutes Brewery Public House\, 1044 NW Bond St\, Bend\, OR\, 97701\, United States
GEO:44.0593984;-121.3113079
X-APPLE-STRUCTURED-LOCATION;VALUE=URI;X-ADDRESS=Deschutes Brewery Public House 1044 NW Bond St Bend OR 97701 United States;X-APPLE-RADIUS=500;X-TITLE=1044 NW Bond St:geo:-121.3113079,44.0593984
END:VEVENT
END:VCALENDAR