BEGIN:VCALENDAR
VERSION:2.0
PRODID:-//The Environmental Center - ECPv6.15.20//NONSGML v1.0//EN
CALSCALE:GREGORIAN
METHOD:PUBLISH
X-ORIGINAL-URL:https://envirocenter.org
X-WR-CALDESC:Events for The Environmental Center
REFRESH-INTERVAL;VALUE=DURATION:PT1H
X-Robots-Tag:noindex
X-PUBLISHED-TTL:PT1H
BEGIN:VTIMEZONE
TZID:America/Los_Angeles
BEGIN:DAYLIGHT
TZOFFSETFROM:-0800
TZOFFSETTO:-0700
TZNAME:PDT
DTSTART:20190310T100000
END:DAYLIGHT
BEGIN:STANDARD
TZOFFSETFROM:-0700
TZOFFSETTO:-0800
TZNAME:PST
DTSTART:20191103T090000
END:STANDARD
BEGIN:DAYLIGHT
TZOFFSETFROM:-0800
TZOFFSETTO:-0700
TZNAME:PDT
DTSTART:20200308T100000
END:DAYLIGHT
BEGIN:STANDARD
TZOFFSETFROM:-0700
TZOFFSETTO:-0800
TZNAME:PST
DTSTART:20201101T090000
END:STANDARD
BEGIN:DAYLIGHT
TZOFFSETFROM:-0800
TZOFFSETTO:-0700
TZNAME:PDT
DTSTART:20210314T100000
END:DAYLIGHT
BEGIN:STANDARD
TZOFFSETFROM:-0700
TZOFFSETTO:-0800
TZNAME:PST
DTSTART:20211107T090000
END:STANDARD
END:VTIMEZONE
BEGIN:VEVENT
DTSTART;VALUE=DATE:20200624
DTEND;VALUE=DATE:20200625
DTSTAMP:20260423T195658
CREATED:20200616T011723Z
LAST-MODIFIED:20230503T201015Z
UID:10003321-1592992800-1592994600@envirocenter.org
SUMMARY:Cooking Matters Family Meal Workshops
DESCRIPTION:Cooking Matters is a nutrition and cooking course delivered virtually by OSU Extension Service Nutrition Educators. Learn how to plan and prepare healthy\, budget-friendly snacks and meals for your family. \nCooking Matters es un curso de nutrición y cocina impartido virtualmente por OSU Extension Service Nutrition Educators. Aprenda a planificar y preparar meriendas y comidas saludables y económicas para su familia.
URL:https://envirocenter.org/event/cooking-matters-family-meal-workshops-2/
LOCATION:Deschutes Brewery Public House\, 1044 NW Bond St\, Bend\, OR\, 97701\, United States
GEO:44.0593984;-121.3113079
X-APPLE-STRUCTURED-LOCATION;VALUE=URI;X-ADDRESS=Deschutes Brewery Public House 1044 NW Bond St Bend OR 97701 United States;X-APPLE-RADIUS=500;X-TITLE=1044 NW Bond St:geo:-121.3113079,44.0593984
END:VEVENT
BEGIN:VEVENT
DTSTART;VALUE=DATE:20200624
DTEND;VALUE=DATE:20200625
DTSTAMP:20260423T195658
CREATED:20200612T015606Z
LAST-MODIFIED:20230503T201011Z
UID:10003316-1593014400-1593018000@envirocenter.org
SUMMARY:Butterflies of Central Oregon
DESCRIPTION:Explore the delicate and beautiful world of butterflies with the Deschutes Land Trust and Amanda Egertson from the comfort of your home. Learn about common butterflies in Central Oregon and a few tips on how to identify butterflies. You’ll also learn more about their unique features and natural history. Then you’ll have a chance to ask our resident expert all your butterfly questions during a question and answer session.
URL:https://envirocenter.org/event/butterflies-of-central-oregon/
LOCATION:Deschutes Brewery Public House\, 1044 NW Bond St\, Bend\, OR\, 97701\, United States
GEO:44.0593984;-121.3113079
X-APPLE-STRUCTURED-LOCATION;VALUE=URI;X-ADDRESS=Deschutes Brewery Public House 1044 NW Bond St Bend OR 97701 United States;X-APPLE-RADIUS=500;X-TITLE=1044 NW Bond St:geo:-121.3113079,44.0593984
END:VEVENT
BEGIN:VEVENT
DTSTART;VALUE=DATE:20200624
DTEND;VALUE=DATE:20200625
DTSTAMP:20260423T195658
CREATED:20200605T001432Z
LAST-MODIFIED:20230503T201009Z
UID:10003310-1593021600-1593025200@envirocenter.org
SUMMARY:Webcast: Knowing Oregon's Bees
DESCRIPTION:Knowing Oregon’s Bees\nFrom wilderness areas to urban backyards\, bees are always underfoot yet often unseen. With over 500 species\, Oregon’s bees play a crucial and often invisible role in the pollination of our  native flora\, and an even less appreciated role in the productivity of our home gardens and industrial farms. Despite their importance\, relatively little is currently known about which species live here\, where they live\, and how they make their living. A lack of baseline data presents challenges for assessing the health of Oregon’s bees\, and a lack of public awareness inhibits successful intervention on behalf of declining species. \nIn this talk\, August Jackson will present a vividly illustrated exploration of the diversity of Oregon’s bee species\, their varied life histories\, and examples of their relationships with our native flora. Getting to know our native bees is the first step to seeing them everywhere you go\, and to appreciate the vital role they play in our ecosystem. \nChandra LeGue\, Oregon Wild’s Western Oregon Field Coordinator\, will also talk about how past and current forest management – from salvage logging to aerial spraying – harms native pollinators\, and how efforts to protect and restore Oregon’s diverse forests and wildland habitat benefits them.
URL:https://envirocenter.org/event/webcast-knowing-oregons-bees/
LOCATION:Deschutes Brewery Public House\, 1044 NW Bond St\, Bend\, OR\, 97701\, United States
GEO:44.0593984;-121.3113079
X-APPLE-STRUCTURED-LOCATION;VALUE=URI;X-ADDRESS=Deschutes Brewery Public House 1044 NW Bond St Bend OR 97701 United States;X-APPLE-RADIUS=500;X-TITLE=1044 NW Bond St:geo:-121.3113079,44.0593984
END:VEVENT
BEGIN:VEVENT
DTSTART;VALUE=DATE:20200624
DTEND;VALUE=DATE:20200625
DTSTAMP:20260423T195658
CREATED:20200625T024714Z
LAST-MODIFIED:20230503T201020Z
UID:10003325-1593023400-1593028800@envirocenter.org
SUMMARY:Black Lives Matter Rural Strategy Session
DESCRIPTION:As we keep showing up to demand that Black lives are given the dignity they deserve\, we are also upholding democracy. We’re taking our demands to our city councils. We are calling our local police departments to hold them accountable for arresting peaceful protesters and not the armed white supremacists trying to threaten people into silence. We are writing letters to the editor in our newspapers and spreading the word on social media to make it clear that these protests are not being called for by outsiders coming to our towns to spread discord–they are coming from those of us who live and work and raise our families in these communities and who believe that every person should be able to do the same without fear.
URL:https://envirocenter.org/event/black-lives-matter-rural-strategy-session/
LOCATION:Deschutes Brewery Public House\, 1044 NW Bond St\, Bend\, OR\, 97701\, United States
GEO:44.0593984;-121.3113079
X-APPLE-STRUCTURED-LOCATION;VALUE=URI;X-ADDRESS=Deschutes Brewery Public House 1044 NW Bond St Bend OR 97701 United States;X-APPLE-RADIUS=500;X-TITLE=1044 NW Bond St:geo:-121.3113079,44.0593984
END:VEVENT
END:VCALENDAR