BEGIN:VCALENDAR
VERSION:2.0
PRODID:-//The Environmental Center - ECPv6.15.20//NONSGML v1.0//EN
CALSCALE:GREGORIAN
METHOD:PUBLISH
X-WR-CALNAME:The Environmental Center
X-ORIGINAL-URL:https://envirocenter.org
X-WR-CALDESC:Events for The Environmental Center
REFRESH-INTERVAL;VALUE=DURATION:PT1H
X-Robots-Tag:noindex
X-PUBLISHED-TTL:PT1H
BEGIN:VTIMEZONE
TZID:America/Los_Angeles
BEGIN:DAYLIGHT
TZOFFSETFROM:-0800
TZOFFSETTO:-0700
TZNAME:PDT
DTSTART:20190310T100000
END:DAYLIGHT
BEGIN:STANDARD
TZOFFSETFROM:-0700
TZOFFSETTO:-0800
TZNAME:PST
DTSTART:20191103T090000
END:STANDARD
BEGIN:DAYLIGHT
TZOFFSETFROM:-0800
TZOFFSETTO:-0700
TZNAME:PDT
DTSTART:20200308T100000
END:DAYLIGHT
BEGIN:STANDARD
TZOFFSETFROM:-0700
TZOFFSETTO:-0800
TZNAME:PST
DTSTART:20201101T090000
END:STANDARD
BEGIN:DAYLIGHT
TZOFFSETFROM:-0800
TZOFFSETTO:-0700
TZNAME:PDT
DTSTART:20210314T100000
END:DAYLIGHT
BEGIN:STANDARD
TZOFFSETFROM:-0700
TZOFFSETTO:-0800
TZNAME:PST
DTSTART:20211107T090000
END:STANDARD
END:VTIMEZONE
BEGIN:VEVENT
DTSTART;VALUE=DATE:20200623
DTEND;VALUE=DATE:20200624
DTSTAMP:20260423T195707
CREATED:20200602T043828Z
LAST-MODIFIED:20230503T201005Z
UID:10003304-1592906400-1592910000@envirocenter.org
SUMMARY:Nature Journaling Workshop Series
DESCRIPTION:Nature Journaling Workshop Series: This series starts on June 2nd and continues on Tuesdays in June. \nNature journaling is the practice of drawing and writing in response to observations of nature. Enjoy a “conversation with nature” by slowing down to notice and record what you see in our natural surroundings. Due to the nature of this virtual class\, the instructor will bring various items from the natural world to a virtual classroom for viewing. With prompts and guidance from the instructor\, students will be able to draw what they see and write “field notes” about their accompanying thoughts and observations. This series is offered by OSU Extension in Washington County and taught by artist Elizabeth Higgins. Register today. Space is limited. \nContact for questions and requests for accessibility-related accomodations: Alice Phillips alice.phillips@oregonstate.edu
URL:https://envirocenter.org/event/nature-journaling-workshop-series-2020-06-02/
LOCATION:Deschutes Brewery Public House\, 1044 NW Bond St\, Bend\, OR\, 97701\, United States
GEO:44.0593984;-121.3113079
X-APPLE-STRUCTURED-LOCATION;VALUE=URI;X-ADDRESS=Deschutes Brewery Public House 1044 NW Bond St Bend OR 97701 United States;X-APPLE-RADIUS=500;X-TITLE=1044 NW Bond St:geo:-121.3113079,44.0593984
END:VEVENT
BEGIN:VEVENT
DTSTART;VALUE=DATE:20200623
DTEND;VALUE=DATE:20200624
DTSTAMP:20260423T195707
CREATED:20200623T123159Z
LAST-MODIFIED:20230503T201017Z
UID:10003324-1592928000-1592931600@envirocenter.org
SUMMARY:Nowheres Wolf: A Stop Motion Film
DESCRIPTION:Oregon’s most famous wolf made history after traveling thousands of miles across Oregon and into California. OR-7\, also known as Journey\, became the first confirmed wolf west of the Cascades since gray wolves had been eradicated in 1947. His welcome return brought inspiration and hope that his species could once again thrive on their ancestral lands.\n\n\nJoin Oregon Wild for a special work-in-progress screening of NOWHERES WOLF and take a deeper dive into the fascinating world of stop-motion animation. Hear from Suzie Moulton on her inspiration for creating the film and how you can help finish it. There will also be a panel discussion on the role of art in activism with Portland EcoFilm Fest and Crag Law Center.
URL:https://envirocenter.org/event/nowheres-wolf-a-stop-motion-film/
LOCATION:Deschutes Brewery Public House\, 1044 NW Bond St\, Bend\, OR\, 97701\, United States
GEO:44.0593984;-121.3113079
X-APPLE-STRUCTURED-LOCATION;VALUE=URI;X-ADDRESS=Deschutes Brewery Public House 1044 NW Bond St Bend OR 97701 United States;X-APPLE-RADIUS=500;X-TITLE=1044 NW Bond St:geo:-121.3113079,44.0593984
END:VEVENT
BEGIN:VEVENT
DTSTART;VALUE=DATE:20200623
DTEND;VALUE=DATE:20200624
DTSTAMP:20260423T195707
CREATED:20200623T053049Z
LAST-MODIFIED:20230503T201017Z
UID:10003322-1592933400-1592938800@envirocenter.org
SUMMARY:How do we dream a new normal?
DESCRIPTION:As we continue to navigate these times of uncertainty\, we find ourselves searching for answers. The questions vary and range from what happens next\, to how do we move forward? \n 
URL:https://envirocenter.org/event/how-do-we-dream-a-new-normal/
LOCATION:Deschutes Brewery Public House\, 1044 NW Bond St\, Bend\, OR\, 97701\, United States
GEO:44.0593984;-121.3113079
X-APPLE-STRUCTURED-LOCATION;VALUE=URI;X-ADDRESS=Deschutes Brewery Public House 1044 NW Bond St Bend OR 97701 United States;X-APPLE-RADIUS=500;X-TITLE=1044 NW Bond St:geo:-121.3113079,44.0593984
END:VEVENT
END:VCALENDAR