BEGIN:VCALENDAR
VERSION:2.0
PRODID:-//The Environmental Center - ECPv6.15.20//NONSGML v1.0//EN
CALSCALE:GREGORIAN
METHOD:PUBLISH
X-ORIGINAL-URL:https://envirocenter.org
X-WR-CALDESC:Events for The Environmental Center
REFRESH-INTERVAL;VALUE=DURATION:PT1H
X-Robots-Tag:noindex
X-PUBLISHED-TTL:PT1H
BEGIN:VTIMEZONE
TZID:America/Los_Angeles
BEGIN:DAYLIGHT
TZOFFSETFROM:-0800
TZOFFSETTO:-0700
TZNAME:PDT
DTSTART:20190310T100000
END:DAYLIGHT
BEGIN:STANDARD
TZOFFSETFROM:-0700
TZOFFSETTO:-0800
TZNAME:PST
DTSTART:20191103T090000
END:STANDARD
BEGIN:DAYLIGHT
TZOFFSETFROM:-0800
TZOFFSETTO:-0700
TZNAME:PDT
DTSTART:20200308T100000
END:DAYLIGHT
BEGIN:STANDARD
TZOFFSETFROM:-0700
TZOFFSETTO:-0800
TZNAME:PST
DTSTART:20201101T090000
END:STANDARD
BEGIN:DAYLIGHT
TZOFFSETFROM:-0800
TZOFFSETTO:-0700
TZNAME:PDT
DTSTART:20210314T100000
END:DAYLIGHT
BEGIN:STANDARD
TZOFFSETFROM:-0700
TZOFFSETTO:-0800
TZNAME:PST
DTSTART:20211107T090000
END:STANDARD
END:VTIMEZONE
BEGIN:VEVENT
DTSTART;VALUE=DATE:20200615
DTEND;VALUE=DATE:20200616
DTSTAMP:20260424T050920
CREATED:20200611T221557Z
LAST-MODIFIED:20230503T201011Z
UID:10003313-1592245800-1592249400@envirocenter.org
SUMMARY:Environmental Justice Youth Art Debut
DESCRIPTION:Environmental Justice Pathways is featuring 4 young local artists who are leading the way in addressing environmental injustices using creative solutions to inspire positive change in their communities. These artists use storytelling\, photography\, and cinematography to imagine relevant and accessible solutions to environmental\, climate\, and racial justice. There will be an “open mic” style poetry slam at the end. All are welcome!
URL:https://envirocenter.org/event/environmental-justice-youth-art-debut/
LOCATION:Deschutes Brewery Public House\, 1044 NW Bond St\, Bend\, OR\, 97701\, United States
GEO:44.0593984;-121.3113079
X-APPLE-STRUCTURED-LOCATION;VALUE=URI;X-ADDRESS=Deschutes Brewery Public House 1044 NW Bond St Bend OR 97701 United States;X-APPLE-RADIUS=500;X-TITLE=1044 NW Bond St:geo:-121.3113079,44.0593984
END:VEVENT
BEGIN:VEVENT
DTSTART;VALUE=DATE:20200615
DTEND;VALUE=DATE:20200616
DTSTAMP:20260424T050920
CREATED:20200708T234647Z
LAST-MODIFIED:20230503T201027Z
UID:10001483-1592249400-1592254800@envirocenter.org
SUMMARY:Farmers Connecting with Other Farmers
DESCRIPTION:FoFF’s warmly invites producers to join their Virtual Farmer Chats\, July 13th and 27th from 7:30 to 9:00pm\, where they will continue to discuss Racial and Food Justice. FoFF’s creates a space for farmers to talk with each other about how we can dismantle the mechanisms that oppress our fellow farmers\, neighbors\, and friends. All farmers\, ranchers and farmworkers are welcome.
URL:https://envirocenter.org/event/farmers-connecting-with-other-farmers-2/
LOCATION:Deschutes Brewery Public House\, 1044 NW Bond St\, Bend\, OR\, 97701\, United States
GEO:44.0593984;-121.3113079
X-APPLE-STRUCTURED-LOCATION;VALUE=URI;X-ADDRESS=Deschutes Brewery Public House 1044 NW Bond St Bend OR 97701 United States;X-APPLE-RADIUS=500;X-TITLE=1044 NW Bond St:geo:-121.3113079,44.0593984
END:VEVENT
END:VCALENDAR