BEGIN:VCALENDAR
VERSION:2.0
PRODID:-//The Environmental Center - ECPv6.15.20//NONSGML v1.0//EN
CALSCALE:GREGORIAN
METHOD:PUBLISH
X-ORIGINAL-URL:https://envirocenter.org
X-WR-CALDESC:Events for The Environmental Center
REFRESH-INTERVAL;VALUE=DURATION:PT1H
X-Robots-Tag:noindex
X-PUBLISHED-TTL:PT1H
BEGIN:VTIMEZONE
TZID:America/Los_Angeles
BEGIN:DAYLIGHT
TZOFFSETFROM:-0800
TZOFFSETTO:-0700
TZNAME:PDT
DTSTART:20190310T100000
END:DAYLIGHT
BEGIN:STANDARD
TZOFFSETFROM:-0700
TZOFFSETTO:-0800
TZNAME:PST
DTSTART:20191103T090000
END:STANDARD
BEGIN:DAYLIGHT
TZOFFSETFROM:-0800
TZOFFSETTO:-0700
TZNAME:PDT
DTSTART:20200308T100000
END:DAYLIGHT
BEGIN:STANDARD
TZOFFSETFROM:-0700
TZOFFSETTO:-0800
TZNAME:PST
DTSTART:20201101T090000
END:STANDARD
BEGIN:DAYLIGHT
TZOFFSETFROM:-0800
TZOFFSETTO:-0700
TZNAME:PDT
DTSTART:20210314T100000
END:DAYLIGHT
BEGIN:STANDARD
TZOFFSETFROM:-0700
TZOFFSETTO:-0800
TZNAME:PST
DTSTART:20211107T090000
END:STANDARD
END:VTIMEZONE
BEGIN:VEVENT
DTSTART;VALUE=DATE:20200521
DTEND;VALUE=DATE:20200522
DTSTAMP:20260419T101311
CREATED:20200416T105549Z
LAST-MODIFIED:20230503T200959Z
UID:10001456-1590044400-1590080400@envirocenter.org
SUMMARY:Spring 2020 Fire Free Week
DESCRIPTION:Save the Dates: Spring 2020 FireFree Week!\nMay 9 – May 24\, 7 am – 5 pm @ Knott Landfill\nGather all of your yard debris and bring it to Knott Landfill for a FREE yard debris drop off event! Cones and needles\, branches and limbs! The material will get mulched and given a new life as compost or fill. Plus\, you will be clearing out burnable material to reduce wildfire fuels near your home! \nAlso\, you can help close the recycling loop by buying back some compost while you’re out there! Deschutes Recycling offers bulk or bagged compost in a variety of types. \nWestside Collection Site – Discovery West/Brooks Resources\nWeekends Only\nMay 9th-10th\, 16th-17th and 23rd-24th\nCrossing Drive at Skyliners Road – west of Miller\nElementary (Crosby Dr.)\, near the Tree Farm subdivision.
URL:https://envirocenter.org/event/spring-2020-fire-free-week-2020-05-09/
LOCATION:Deschutes Brewery Public House\, 1044 NW Bond St\, Bend\, OR\, 97701\, United States
CATEGORIES:Garden|Rethink Waste
GEO:44.0593984;-121.3113079
X-APPLE-STRUCTURED-LOCATION;VALUE=URI;X-ADDRESS=Deschutes Brewery Public House 1044 NW Bond St Bend OR 97701 United States;X-APPLE-RADIUS=500;X-TITLE=1044 NW Bond St:geo:-121.3113079,44.0593984
END:VEVENT
BEGIN:VEVENT
DTSTART;VALUE=DATE:20200521
DTEND;VALUE=DATE:20200522
DTSTAMP:20260419T101311
CREATED:20200429T112001Z
LAST-MODIFIED:20230503T201000Z
UID:10001466-1590051600-1590064200@envirocenter.org
SUMMARY:Circular Economy Cities PNW Virtual Workshop
DESCRIPTION:Learn about circularity. Join people in Circular Economy Clubs from all around the Pacific Northwest for a groundbreaking virtual event. Act to advance circularity in your community.
URL:https://envirocenter.org/event/circular-economy-cities-pnw-virtual-workshop/
LOCATION:Deschutes Brewery Public House\, 1044 NW Bond St\, Bend\, OR\, 97701\, United States
CATEGORIES:Rethink Waste
GEO:44.0593984;-121.3113079
X-APPLE-STRUCTURED-LOCATION;VALUE=URI;X-ADDRESS=Deschutes Brewery Public House 1044 NW Bond St Bend OR 97701 United States;X-APPLE-RADIUS=500;X-TITLE=1044 NW Bond St:geo:-121.3113079,44.0593984
END:VEVENT
BEGIN:VEVENT
DTSTART;VALUE=DATE:20200521
DTEND;VALUE=DATE:20200522
DTSTAMP:20260419T101311
CREATED:20200519T212324Z
LAST-MODIFIED:20230503T201003Z
UID:10003293-1590076800-1590080400@envirocenter.org
SUMMARY:Webcast: Northwest Forests & Carbon: Science and Solutions
DESCRIPTION:Although new studies reveal a previously unexpected\, tremendous capacity of  west coast forests to absorb CO2\,  this new scientific understanding has not yet been transformed into public policy. Panelists will present a synopsis of this research and analyses and discuss proposed policy changes that would elevate carbon-oriented forest management as a climate solution. \nOriginally scheduled as a panel at the Public Interest Environmental Law Conference in early March (canceled due to the COVID-19 pandemic)\, this webinar features Dominick DellaSalla\, Chief Scientist with Geos Institute; Ernie Niemi with Natural Resource Economics; and Chandra LeGue of Oregon Wild. Moderated by Fergus McLean\, Conservation Chair of the Many Rivers Group Sierra Club. \nBrought to you by Oregon Wild\, Many Rivers Group Sierra Club\, Geos Institute\, and Natural Resource Economics. \nRegister here: https://oregonwild.org/events/webcast-northwest-forests-carbon-science-and-solutions
URL:https://envirocenter.org/event/webcast-northwest-forests-carbon-science-and-solutions/
LOCATION:Deschutes Brewery Public House\, 1044 NW Bond St\, Bend\, OR\, 97701\, United States
CATEGORIES:Climate
GEO:44.0593984;-121.3113079
X-APPLE-STRUCTURED-LOCATION;VALUE=URI;X-ADDRESS=Deschutes Brewery Public House 1044 NW Bond St Bend OR 97701 United States;X-APPLE-RADIUS=500;X-TITLE=1044 NW Bond St:geo:-121.3113079,44.0593984
END:VEVENT
BEGIN:VEVENT
DTSTART;VALUE=DATE:20200521
DTEND;VALUE=DATE:20200522
DTSTAMP:20260419T101311
CREATED:20160803T235848Z
LAST-MODIFIED:20230503T200442Z
UID:10000774-1590081300-1590091200@envirocenter.org
SUMMARY:Bend COTA Work Events
DESCRIPTION:When:  Thursday Aug 11\, Tuesday Aug 16\, Tuesday Aug 23 and Tuesday Aug 30\, 5:15 to Dusk \nWhere:  Meet at the old Ray’s parking lot\, NE corner of Simpson Ave and Century Drive in Bend \nWorksite:  Varies \nThere’s only one thing better than mountain biking in Bend\, OR and that’s riding in Bend\, knowing that you helped build and maintain the trails you love. \nPlease bring a hydration pack with water and a snack. \nBe sure to bring appropriate layers to accommodate whatever the weather may be. \nQuestions?  contact@cotamtb.com \nAll COTA trail work events require the following safety measures: \nAll participants are required to have the following protective clothing and equipment: \n\nSturdy shoes or boots\nGloves\nEye protection with clear or light colored lens\nLong pants\n\nDue to COTA’s insurance requirements and the inherent dangers of trail work\, we must implement the following policy regarding children at work events: \n\nFor anyone 14 years of age or younger\, we require one parent\, guardian\, or responsible adult for supervision of every four kids attending any COTA trail work events.\nAll minors under the age of 18 must have a parent or guardian available to sign our waiver.\n\nAnyone who arrives for a work event may be turned away if he/she cannot meet the above requirements.
URL:https://envirocenter.org/event/bend-cota-work-events-2016-08-11/
LOCATION:Deschutes Brewery Public House\, 1044 NW Bond St\, Bend\, OR\, 97701\, United States
GEO:44.0593984;-121.3113079
X-APPLE-STRUCTURED-LOCATION;VALUE=URI;X-ADDRESS=Deschutes Brewery Public House 1044 NW Bond St Bend OR 97701 United States;X-APPLE-RADIUS=500;X-TITLE=1044 NW Bond St:geo:-121.3113079,44.0593984
END:VEVENT
END:VCALENDAR