BEGIN:VCALENDAR
VERSION:2.0
PRODID:-//The Environmental Center - ECPv6.15.20//NONSGML v1.0//EN
CALSCALE:GREGORIAN
METHOD:PUBLISH
X-WR-CALNAME:The Environmental Center
X-ORIGINAL-URL:https://envirocenter.org
X-WR-CALDESC:Events for The Environmental Center
REFRESH-INTERVAL;VALUE=DURATION:PT1H
X-Robots-Tag:noindex
X-PUBLISHED-TTL:PT1H
BEGIN:VTIMEZONE
TZID:America/Los_Angeles
BEGIN:DAYLIGHT
TZOFFSETFROM:-0800
TZOFFSETTO:-0700
TZNAME:PDT
DTSTART:20190310T100000
END:DAYLIGHT
BEGIN:STANDARD
TZOFFSETFROM:-0700
TZOFFSETTO:-0800
TZNAME:PST
DTSTART:20191103T090000
END:STANDARD
BEGIN:DAYLIGHT
TZOFFSETFROM:-0800
TZOFFSETTO:-0700
TZNAME:PDT
DTSTART:20200308T100000
END:DAYLIGHT
BEGIN:STANDARD
TZOFFSETFROM:-0700
TZOFFSETTO:-0800
TZNAME:PST
DTSTART:20201101T090000
END:STANDARD
BEGIN:DAYLIGHT
TZOFFSETFROM:-0800
TZOFFSETTO:-0700
TZNAME:PDT
DTSTART:20210314T100000
END:DAYLIGHT
BEGIN:STANDARD
TZOFFSETFROM:-0700
TZOFFSETTO:-0800
TZNAME:PST
DTSTART:20211107T090000
END:STANDARD
END:VTIMEZONE
BEGIN:VEVENT
DTSTART;VALUE=DATE:20200415
DTEND;VALUE=DATE:20200516
DTSTAMP:20260420T142208
CREATED:20200401T015556Z
LAST-MODIFIED:20230503T200954Z
UID:10003279-1586908800-1589587199@envirocenter.org
SUMMARY:Youth Climate Ecochallenge: A Drawdown Solutions Race!
DESCRIPTION:TEC would like to share an online educational opportunity – the Youth Climate Ecochallenge: A Drawdown Solutions Race. The challenge is presented by PAE and Ecochallenge.org and sponsored by the Oregon Department of Environmental Quality. The challenge focuses on top solutions to reverse climate change. It features online learning and research\, civic engagement\, and community building for youth and their community. The challenge runs April 15th – May 15th. \nThe actions in the challenge connect to solutions highlighted in Drawdown\, a project that maps\, measures\, models\, and describes solutions to global warming that already exist. Participants track and share their progress in the Ecochallenge platform\, earn points for taking action\, and see the real-time impact of their actions. The combination of collective action\, community-building\, and friendly competition makes change a little easier — and a lot more fun.
URL:https://envirocenter.org/event/youth-climate-ecochallenge-a-drawdown-solutions-race-2020-04-15/
LOCATION:Deschutes Brewery Public House\, 1044 NW Bond St\, Bend\, OR\, 97701\, United States
GEO:44.0593984;-121.3113079
X-APPLE-STRUCTURED-LOCATION;VALUE=URI;X-ADDRESS=Deschutes Brewery Public House 1044 NW Bond St Bend OR 97701 United States;X-APPLE-RADIUS=500;X-TITLE=1044 NW Bond St:geo:-121.3113079,44.0593984
END:VEVENT
BEGIN:VEVENT
DTSTART;VALUE=DATE:20200417
DTEND;VALUE=DATE:20200418
DTSTAMP:20260420T142208
CREATED:20200417T021829Z
LAST-MODIFIED:20230503T200959Z
UID:10001461-1587114000-1587117600@envirocenter.org
SUMMARY:Growing Vegetables in Central Oregon - Free live webinar!
DESCRIPTION:The Central Oregon home garden and landscape program is responsible for providing education to the residents and commercial green industry of Crook\, Deschutes\, and Jefferson Counties. They provide this education through seminars\, workshops\, publications and several other ways. \n  \nPlease click the link below to join the webinar: \nhttps://oregonstate.zoom.us/j/94769195339?pwd=U1VVRjF3amlES2Y1b3B6aFBLME9hQT09 \nOr iPhone one-tap : \nUS: +19712471195\,\,94769195339#  or +13017158592\,\,94769195339# \nOr Telephone: \nDial(for higher quality\, dial a number based on your current location): \nUS: +1 971 247 1195  or +1 301 715 8592  or +1 253 215 8782 \nWebinar ID: 947 6919 5339 \nPassword: 864960 \nhttps://www.facebook.com/CentralOregonHorticulture/ \nhttps://extension.oregonstate.edu/deschutes/home-garden-landscape-0
URL:https://envirocenter.org/event/growing-vegetables-in-central-oregon-free-live-webinar/
LOCATION:Deschutes Brewery Public House\, 1044 NW Bond St\, Bend\, OR\, 97701\, United States
GEO:44.0593984;-121.3113079
X-APPLE-STRUCTURED-LOCATION;VALUE=URI;X-ADDRESS=Deschutes Brewery Public House 1044 NW Bond St Bend OR 97701 United States;X-APPLE-RADIUS=500;X-TITLE=1044 NW Bond St:geo:-121.3113079,44.0593984
END:VEVENT
BEGIN:VEVENT
DTSTART;VALUE=DATE:20200417
DTEND;VALUE=DATE:20200418
DTSTAMP:20260420T142208
CREATED:20200225T023555Z
LAST-MODIFIED:20230503T200948Z
UID:10003266-1587114000-1587142800@envirocenter.org
SUMMARY:POSTPONED-How to Cost Effectively Build Zero Energy Home
DESCRIPTION:Join EEBA (Energy & Environmental Building Alliance) and Earth Advantage for this 1-day training and learn how to eliminate common barriers to Zero Energy (ZE) home construction\, benefit from the rapid trend towards ZE\, and earn a ‘Zero Energy Builder’ designation.\nZero Energy (ZE) homes are a big part of the future of home building business. While the materials and equipment to reach zero energy are available\, designers and builders must create a bundle of energy-efficiency features that matches their climate\, customers\, and business constraints. \nThis 7-hour class lays out numerous elements of zero energy design and construction\, so that building professionals can formulate a package appropriate for their situation. There is no one-size-fits-all solution. Participants in this class will learn design principles\, equipment options\, emerging technologies\, material selections\, and construction practices that can be integrated into their building process. Strong emphasis is placed on ways to make the final product affordable for homebuyers. Sales and marketing ideas\, as well as localized resources\, builder spotlights\, programs and next steps will also be presented. \n‘Zero Energy Builder’ Designation \nParticipants will have the opportunity to earn EEBA’s ‘Zero Energy Builder’ designation and be listed on EEBA & EA registries of accredited professionals. To earn the designation\, attendees must pass a designation exam and have completed and passed one of the following prerequisite trainings (or sets of trainings): EA’s Sustainable Homes Professional (SHP); EA’s Sustainable Building Essentials; EEBA’s HERS Associate & Taking the Performance Path + Houses That Work + High Performance Mechanicals. \n12 Steps to Affordable Zero Energy Design & Construction \nIt’s generally accepted that improvements to the thermal envelope are fundamental. These include high levels of insulation\, reduction of thermal bridges and advanced air sealing. However\, significant efficiency improvements in heating and cooling equipment and the rapid drop in the cost of rooftop solar electric systems offer new options for cost-effective efficiency packages. There have never been so many ZE options to choose from. This course gives building professionals the knowledge to build ZE homes that are affordable\, durable\, safe\, healthy\, energy efficient\, and comfortable to live in. \nThe training material is organized into 12 easy steps: \n\nStart with Smart Design\nOrient for Sun Tempering\nOptimize with Energy Modeling\nSuper-seal the Envelope\nSuper-insulate the Envelope\nSelect Optimum Window Efficiency\nEnsure Clean\, Fresh Air\nSpecify High-performance Heating and Cooling\nHeat Water Wisely\nSelect High-Efficiency Lighting\nChoose Efficient Appliances\nUse Renewable Energy\n\nEach step describes the most recent developments with a strong emphasis on affordability. Other topics include: housing market drivers\, ways to assess and communicate economic benefits\, available incentives\, along with marketing and sales concepts for ZE homes. \n\nAttendees will: \n\nIdentify factors that are driving the U.S. housing market toward ZE\nName barriers to the widespread adoption of ZE homes\nDescribe three ways to present the financial benefits of ZE homes\nList six affordable ZE features that you can incorporate into your practice\nBe invited to bring house specs and evaluate possible advancements along the 12 steps to ZE\nCreate a marketing and sales messages that your company can use to promote ZE homes\nLearn about available Energy Trust EPS incentives through their just released Net Zero and Energy Smart Home offerings\n\n\nCredits: 7 CEs for AIA\, NAHB\, NARI\, NATE\, CCB and OREA; 0.7 for ICC; 5 for RESNET\, 3.5 for BPI \nCost: $49 (Regularly $175) \nAudience: Building industry professionals (builders\, raters\, architects\, HVAC\, subcontractors\, utility representatives & code officials) \nInstructor: Bruce Sullivan of BASE zero\, LLC \nQuestions? Contact hkendall@earthadvantage.org or 503-968-7160 x20. \nThis training made possible thanks to EEBA\, Energy Trust of Oregon\, and Earth Advantage. 
URL:https://envirocenter.org/event/how-to-cost-effectively-build-zero-energy-home/
LOCATION:Deschutes Brewery Public House\, 1044 NW Bond St\, Bend\, OR\, 97701\, United States
GEO:44.0593984;-121.3113079
X-APPLE-STRUCTURED-LOCATION;VALUE=URI;X-ADDRESS=Deschutes Brewery Public House 1044 NW Bond St Bend OR 97701 United States;X-APPLE-RADIUS=500;X-TITLE=1044 NW Bond St:geo:-121.3113079,44.0593984
END:VEVENT
END:VCALENDAR