BEGIN:VCALENDAR
VERSION:2.0
PRODID:-//The Environmental Center - ECPv6.15.20//NONSGML v1.0//EN
CALSCALE:GREGORIAN
METHOD:PUBLISH
X-WR-CALNAME:The Environmental Center
X-ORIGINAL-URL:https://envirocenter.org
X-WR-CALDESC:Events for The Environmental Center
REFRESH-INTERVAL;VALUE=DURATION:PT1H
X-Robots-Tag:noindex
X-PUBLISHED-TTL:PT1H
BEGIN:VTIMEZONE
TZID:America/Los_Angeles
BEGIN:DAYLIGHT
TZOFFSETFROM:-0800
TZOFFSETTO:-0700
TZNAME:PDT
DTSTART:20190310T100000
END:DAYLIGHT
BEGIN:STANDARD
TZOFFSETFROM:-0700
TZOFFSETTO:-0800
TZNAME:PST
DTSTART:20191103T090000
END:STANDARD
BEGIN:DAYLIGHT
TZOFFSETFROM:-0800
TZOFFSETTO:-0700
TZNAME:PDT
DTSTART:20200308T100000
END:DAYLIGHT
BEGIN:STANDARD
TZOFFSETFROM:-0700
TZOFFSETTO:-0800
TZNAME:PST
DTSTART:20201101T090000
END:STANDARD
BEGIN:DAYLIGHT
TZOFFSETFROM:-0800
TZOFFSETTO:-0700
TZNAME:PDT
DTSTART:20210314T100000
END:DAYLIGHT
BEGIN:STANDARD
TZOFFSETFROM:-0700
TZOFFSETTO:-0800
TZNAME:PST
DTSTART:20211107T090000
END:STANDARD
END:VTIMEZONE
BEGIN:VEVENT
DTSTART;VALUE=DATE:20200405
DTEND;VALUE=DATE:20200406
DTSTAMP:20260420T025946
CREATED:20200313T002739Z
LAST-MODIFIED:20230503T200953Z
UID:10001440-1586073600-1586095200@envirocenter.org
SUMMARY:GOING VIRTUAL: 32nd annual Salmon Run
DESCRIPTION:ATTENTION SALMON RUN RACERS: \nDue to unforeseen government mandates regarding COVID-19\, Lay It Out Events is switching gears to a virtual race. We want to encourage all athletes to maintain proper health and well-being and going virtual will allow runners an opportunity to still compete. \nTo find out what a virtual race means and how it works\, please click the link below or email race@layitoutevents.com with any questions.https: \n\nhttps://bendraces.com/salmon-run/going-virtual/ \n\nDistances include the half marathon\, 10k\, and 5k races as well as the “Little Fry” run for kids of all ages. Traversing beautiful dirt and paved trails\, the race course winds through some of the most scenic areas in Bend. Celebrate the beauty and strength of the salmon while running along the iconic Deschutes River Trail! The Salmon Run has raised close to $10\,000 for The Environmental Center over the past five years and continues to support our mission.
URL:https://envirocenter.org/event/32nd-annual-salmon-run/
LOCATION:Deschutes Brewery Public House\, 1044 NW Bond St\, Bend\, OR\, 97701\, United States
GEO:44.0593984;-121.3113079
X-APPLE-STRUCTURED-LOCATION;VALUE=URI;X-ADDRESS=Deschutes Brewery Public House 1044 NW Bond St Bend OR 97701 United States;X-APPLE-RADIUS=500;X-TITLE=1044 NW Bond St:geo:-121.3113079,44.0593984
END:VEVENT
END:VCALENDAR