BEGIN:VCALENDAR
VERSION:2.0
PRODID:-//The Environmental Center - ECPv6.15.20//NONSGML v1.0//EN
CALSCALE:GREGORIAN
METHOD:PUBLISH
X-ORIGINAL-URL:https://envirocenter.org
X-WR-CALDESC:Events for The Environmental Center
REFRESH-INTERVAL;VALUE=DURATION:PT1H
X-Robots-Tag:noindex
X-PUBLISHED-TTL:PT1H
BEGIN:VTIMEZONE
TZID:America/Los_Angeles
BEGIN:DAYLIGHT
TZOFFSETFROM:-0800
TZOFFSETTO:-0700
TZNAME:PDT
DTSTART:20190310T100000
END:DAYLIGHT
BEGIN:STANDARD
TZOFFSETFROM:-0700
TZOFFSETTO:-0800
TZNAME:PST
DTSTART:20191103T090000
END:STANDARD
BEGIN:DAYLIGHT
TZOFFSETFROM:-0800
TZOFFSETTO:-0700
TZNAME:PDT
DTSTART:20200308T100000
END:DAYLIGHT
BEGIN:STANDARD
TZOFFSETFROM:-0700
TZOFFSETTO:-0800
TZNAME:PST
DTSTART:20201101T090000
END:STANDARD
BEGIN:DAYLIGHT
TZOFFSETFROM:-0800
TZOFFSETTO:-0700
TZNAME:PDT
DTSTART:20210314T100000
END:DAYLIGHT
BEGIN:STANDARD
TZOFFSETFROM:-0700
TZOFFSETTO:-0800
TZNAME:PST
DTSTART:20211107T090000
END:STANDARD
END:VTIMEZONE
BEGIN:VEVENT
DTSTART;VALUE=DATE:20200317
DTEND;VALUE=DATE:20200318
DTSTAMP:20260420T021414
CREATED:20200311T012334Z
LAST-MODIFIED:20230503T200953Z
UID:10001438-1584442800-1584451800@envirocenter.org
SUMMARY:Habitat Conservation Plan for the Deschutes
DESCRIPTION:Local irrigation districts have released their  Habitat Conservation Plan (HCP) for how they will meet the needs of protected species that depend on the Deschutes River – Oregon spotted frog\, bull trout\, and steelhead. The HCP is hailed by some as an appropriate\, and realistic\, plan for meeting the needs of these species\, and by others as “not enough\, not fast enough” in terms of putting water back in stream. And others question whether or not there is room for our growing communities to meet their water needs. \nThis forum will provide information on the HCP and engage the audience to ask the tough questions on this controversial topic. \nSpeakers: \n\nBridget Moran: Field Supervisor\, Bend Field Office\, US Fish & Wildlife Service\n\n\nTod Heisler: Rivers Conservation Director\, Central Oregon LandWatch\n\nAudience Participation:  Audience members will be invited to weigh in and ask questions during the conversation that follows the prepared remarks. \n*Registration closes at noon on THURSDAY\, MARCH 12.
URL:https://envirocenter.org/event/habitat-conservation-plan-for-the-deschutes/
LOCATION:Deschutes Brewery Public House\, 1044 NW Bond St\, Bend\, OR\, 97701\, United States
GEO:44.0593984;-121.3113079
X-APPLE-STRUCTURED-LOCATION;VALUE=URI;X-ADDRESS=Deschutes Brewery Public House 1044 NW Bond St Bend OR 97701 United States;X-APPLE-RADIUS=500;X-TITLE=1044 NW Bond St:geo:-121.3113079,44.0593984
END:VEVENT
BEGIN:VEVENT
DTSTART;VALUE=DATE:20200317
DTEND;VALUE=DATE:20200318
DTSTAMP:20260420T021414
CREATED:20200313T004825Z
LAST-MODIFIED:20230503T200953Z
UID:10001441-1584469800-1584475200@envirocenter.org
SUMMARY:Cancelled-Absolutely Incredible Kid Day®-FREE ice skating at The Pavilion!
DESCRIPTION:*In light of Governor Brown’s announcement placing an immediate ban on all events\, Camp Fire has cancelled their Absolutely Incredible Kid Day® celebration at The Pavilion this year. \nWe hope you will still take the opportunity to celebrate with your families at home! Please scroll down for ideas on how to do so. \n  \n \nFREE ice skating for all kids up to 18 years old (all youth must be accompanied by an adult and arrive by 7:30pm\, limit first 200 kids in the door). Fun for the whole family\, including raffles\, contests\, and tasty treats…wear your Camp Fire t-shirt for a free raffle ticket!
URL:https://envirocenter.org/event/absolutely-incredible-kid-day-free-ice-skating-at-the-pavilion/
LOCATION:Deschutes Brewery Public House\, 1044 NW Bond St\, Bend\, OR\, 97701\, United States
GEO:44.0593984;-121.3113079
X-APPLE-STRUCTURED-LOCATION;VALUE=URI;X-ADDRESS=Deschutes Brewery Public House 1044 NW Bond St Bend OR 97701 United States;X-APPLE-RADIUS=500;X-TITLE=1044 NW Bond St:geo:-121.3113079,44.0593984
END:VEVENT
END:VCALENDAR