BEGIN:VCALENDAR
VERSION:2.0
PRODID:-//The Environmental Center - ECPv6.15.20//NONSGML v1.0//EN
CALSCALE:GREGORIAN
METHOD:PUBLISH
X-WR-CALNAME:The Environmental Center
X-ORIGINAL-URL:https://envirocenter.org
X-WR-CALDESC:Events for The Environmental Center
REFRESH-INTERVAL;VALUE=DURATION:PT1H
X-Robots-Tag:noindex
X-PUBLISHED-TTL:PT1H
BEGIN:VTIMEZONE
TZID:America/Los_Angeles
BEGIN:DAYLIGHT
TZOFFSETFROM:-0800
TZOFFSETTO:-0700
TZNAME:PDT
DTSTART:20190310T100000
END:DAYLIGHT
BEGIN:STANDARD
TZOFFSETFROM:-0700
TZOFFSETTO:-0800
TZNAME:PST
DTSTART:20191103T090000
END:STANDARD
BEGIN:DAYLIGHT
TZOFFSETFROM:-0800
TZOFFSETTO:-0700
TZNAME:PDT
DTSTART:20200308T100000
END:DAYLIGHT
BEGIN:STANDARD
TZOFFSETFROM:-0700
TZOFFSETTO:-0800
TZNAME:PST
DTSTART:20201101T090000
END:STANDARD
BEGIN:DAYLIGHT
TZOFFSETFROM:-0800
TZOFFSETTO:-0700
TZNAME:PDT
DTSTART:20210314T100000
END:DAYLIGHT
BEGIN:STANDARD
TZOFFSETFROM:-0700
TZOFFSETTO:-0800
TZNAME:PST
DTSTART:20211107T090000
END:STANDARD
END:VTIMEZONE
BEGIN:VEVENT
DTSTART;VALUE=DATE:20200311
DTEND;VALUE=DATE:20200312
DTSTAMP:20260420T010339
CREATED:20200221T131229Z
LAST-MODIFIED:20230503T200948Z
UID:10001428-1583928000-1583931600@envirocenter.org
SUMMARY:The Electric Future of Cars\, Bikes\, and Transit
DESCRIPTION:Over the last 10 years\, rapid advances in electric vehicles have changed the way we get around. The Environmental Center’s Electric Mobility expert\, Neil Baunsgard\, discusses what is available now and what is yet to come in the future of electric cars\, bikes and public transit.
URL:https://envirocenter.org/event/the-electric-future-of-cars-bikes-and-transit/
LOCATION:Deschutes Brewery Public House\, 1044 NW Bond St\, Bend\, OR\, 97701\, United States
CATEGORIES:Climate|Energy|Transportation
GEO:44.0593984;-121.3113079
X-APPLE-STRUCTURED-LOCATION;VALUE=URI;X-ADDRESS=Deschutes Brewery Public House 1044 NW Bond St Bend OR 97701 United States;X-APPLE-RADIUS=500;X-TITLE=1044 NW Bond St:geo:-121.3113079,44.0593984
END:VEVENT
BEGIN:VEVENT
DTSTART;VALUE=DATE:20200311
DTEND;VALUE=DATE:20200312
DTSTAMP:20260420T010339
CREATED:20200305T061923Z
LAST-MODIFIED:20230503T200952Z
UID:10001429-1583947800-1583955000@envirocenter.org
SUMMARY:Noche de Cuentos
DESCRIPTION:‘Noche de Cuentos’ was created to connect Latinos and Spanish-speakers to the traditions of oral storytelling prominent in Latin America. The program will consist of food\, a workshop to help participants build the skills to tell their own stories and explore the art of storytelling\, and will conclude with a presentation by a local Storyteller/Librarian from Redmond name Pia Alliende. The program is open to all ages\, although the workshop is geared toward school-age children\, teens\, and adults. Deschutes Public Library will provide child care and crafting happening during this section for the smallest kiddos.
URL:https://envirocenter.org/event/noche-de-cuentos/
LOCATION:Deschutes Brewery Public House\, 1044 NW Bond St\, Bend\, OR\, 97701\, United States
GEO:44.0593984;-121.3113079
X-APPLE-STRUCTURED-LOCATION;VALUE=URI;X-ADDRESS=Deschutes Brewery Public House 1044 NW Bond St Bend OR 97701 United States;X-APPLE-RADIUS=500;X-TITLE=1044 NW Bond St:geo:-121.3113079,44.0593984
END:VEVENT
BEGIN:VEVENT
DTSTART;VALUE=DATE:20200311
DTEND;VALUE=DATE:20200312
DTSTAMP:20260420T010339
CREATED:20200304T123442Z
LAST-MODIFIED:20230503T200949Z
UID:10003272-1583949600-1583953200@envirocenter.org
SUMMARY:LOGE Speaker Series: Rethink Waste
DESCRIPTION:To kick off the LOGE Speaker Series\, Ani Kasch of the Rethink Waste Project and the The Environmental Center will be joining us to discuss the topic of waste and how we can be better stewards to the environment. If you’ve ever felt the desire to be more responsible with your waste but don’t know where to start or maybe it seems like too much work\, this presentation is for you! \nTopics to be covered are:\nWasted food issues and prevention\nGeneral waste reduction ideas\nRecycling\, its importance and how to do it right\nCurrent events around waste and what you can do about them? \nJoin us in the LOGE Bend cafe for an hour of trash talk and community.
URL:https://envirocenter.org/event/loge-speaker-series-rethink-waste/
LOCATION:Deschutes Brewery Public House\, 1044 NW Bond St\, Bend\, OR\, 97701\, United States
CATEGORIES:Rethink Waste
GEO:44.0593984;-121.3113079
X-APPLE-STRUCTURED-LOCATION;VALUE=URI;X-ADDRESS=Deschutes Brewery Public House 1044 NW Bond St Bend OR 97701 United States;X-APPLE-RADIUS=500;X-TITLE=1044 NW Bond St:geo:-121.3113079,44.0593984
END:VEVENT
END:VCALENDAR