BEGIN:VCALENDAR
VERSION:2.0
PRODID:-//The Environmental Center - ECPv6.15.20//NONSGML v1.0//EN
CALSCALE:GREGORIAN
METHOD:PUBLISH
X-WR-CALNAME:The Environmental Center
X-ORIGINAL-URL:https://envirocenter.org
X-WR-CALDESC:Events for The Environmental Center
REFRESH-INTERVAL;VALUE=DURATION:PT1H
X-Robots-Tag:noindex
X-PUBLISHED-TTL:PT1H
BEGIN:VTIMEZONE
TZID:America/Los_Angeles
BEGIN:DAYLIGHT
TZOFFSETFROM:-0800
TZOFFSETTO:-0700
TZNAME:PDT
DTSTART:20190310T100000
END:DAYLIGHT
BEGIN:STANDARD
TZOFFSETFROM:-0700
TZOFFSETTO:-0800
TZNAME:PST
DTSTART:20191103T090000
END:STANDARD
BEGIN:DAYLIGHT
TZOFFSETFROM:-0800
TZOFFSETTO:-0700
TZNAME:PDT
DTSTART:20200308T100000
END:DAYLIGHT
BEGIN:STANDARD
TZOFFSETFROM:-0700
TZOFFSETTO:-0800
TZNAME:PST
DTSTART:20201101T090000
END:STANDARD
BEGIN:DAYLIGHT
TZOFFSETFROM:-0800
TZOFFSETTO:-0700
TZNAME:PDT
DTSTART:20210314T100000
END:DAYLIGHT
BEGIN:STANDARD
TZOFFSETFROM:-0700
TZOFFSETTO:-0800
TZNAME:PST
DTSTART:20211107T090000
END:STANDARD
END:VTIMEZONE
BEGIN:VEVENT
DTSTART;VALUE=DATE:20200310
DTEND;VALUE=DATE:20200311
DTSTAMP:20260420T010340
CREATED:20200124T025049Z
LAST-MODIFIED:20230503T200942Z
UID:10001416-1583843400-1583847000@envirocenter.org
SUMMARY:The Future of Waste in Deschutes County - Sunriver
DESCRIPTION:As more and more people move to Deschutes County\, more and more trash is being created for drop off at our nearly full Knott Landfill. Recycling\, while an important part of the process\, is not the solution to addressing the massive volume of waste in our community. Come learn about what to do to help make an impact to reduce waste in our community. We will address the current state of recycling and how to do it right\, but talk more in-depth about other forms of waste diversion and prevention. What can you do to help rather than hinder? \nAni Kasch is the Rethink Waste Program Manager at The Environmental Center\, a local non-profit organization working to embed sustainability into daily life in Central Oregon where she has been educating the community for 2.5 years. She is passionate about waste reduction\, especially around wasted food. She is an avid bike commuter and enjoys cooking and eating local food.
URL:https://envirocenter.org/event/the-future-of-waste-in-deschutes-county-sunriver/
LOCATION:Deschutes Brewery Public House\, 1044 NW Bond St\, Bend\, OR\, 97701\, United States
CATEGORIES:Rethink Waste
GEO:44.0593984;-121.3113079
X-APPLE-STRUCTURED-LOCATION;VALUE=URI;X-ADDRESS=Deschutes Brewery Public House 1044 NW Bond St Bend OR 97701 United States;X-APPLE-RADIUS=500;X-TITLE=1044 NW Bond St:geo:-121.3113079,44.0593984
END:VEVENT
BEGIN:VEVENT
DTSTART;VALUE=DATE:20200310
DTEND;VALUE=DATE:20200311
DTSTAMP:20260420T010340
CREATED:20200114T074405Z
LAST-MODIFIED:20230503T200941Z
UID:10001410-1583861400-1583866800@envirocenter.org
SUMMARY:Examining Our Personal Experiences of Connection and Community
DESCRIPTION:In 1992\, in the midst of riots sparked by the acquittal of police officers who brutally beat him\, Rodney King asked\, “Can we get along?” This iconic American question still resonates today. What is it that drives this question\, and why can it be so difficult to answer? What holds us back from connecting with each other? How do our personal experiences contribute to—and have the potential to break down—these barriers? Join facilitator Chisao Hata as she holds space to examine our individual and collective questions on race\, perspectives\, and cultural values around what brings us together and what separates us. This conversation may include some hands-on activities. \nMonday\, March 9\nCOCC Redmond Campus\, 6 p.m.\nRSVP here \nTuesday\, March 10\nCOCC Prineville Campus\, 5:30 p.m.\nRSVP here \nAbout Chisao Hata: Chisao Hata is an artist educator\, dance director\, arts integration specialist\, community activist\, and performing artist. For over two decades through her work in education\, she has been a protector of imagination and personal discovery\, and a champion for individual expression. Creating engaged learning for our youth\, our citizen artists\, is her life’s work. She has had the honor of serving hundreds of Portland’s children\, youth\, and adults across many communities. Chisao believes that we are all inextricably linked and the arts are our conduit to build bridges between our communities. \nCo-organized by Nancy R. Chandler Visiting Scholar Program\, COCC’s Diversity and Inclusion Office and COCC Redmond Campus. With support from: Oregon Community Foundation\, Cascades Academy of Central Oregon\, Maybelle Clark Macdonald Fund and Associated Students of COCC.
URL:https://envirocenter.org/event/examining-our-personal-experiences-of-connection-and-community-2020-03-10/
LOCATION:Deschutes Brewery Public House\, 1044 NW Bond St\, Bend\, OR\, 97701\, United States
CATEGORIES:Equity
GEO:44.0593984;-121.3113079
X-APPLE-STRUCTURED-LOCATION;VALUE=URI;X-ADDRESS=Deschutes Brewery Public House 1044 NW Bond St Bend OR 97701 United States;X-APPLE-RADIUS=500;X-TITLE=1044 NW Bond St:geo:-121.3113079,44.0593984
END:VEVENT
END:VCALENDAR