BEGIN:VCALENDAR
VERSION:2.0
PRODID:-//The Environmental Center - ECPv6.15.20//NONSGML v1.0//EN
CALSCALE:GREGORIAN
METHOD:PUBLISH
X-WR-CALNAME:The Environmental Center
X-ORIGINAL-URL:https://envirocenter.org
X-WR-CALDESC:Events for The Environmental Center
REFRESH-INTERVAL;VALUE=DURATION:PT1H
X-Robots-Tag:noindex
X-PUBLISHED-TTL:PT1H
BEGIN:VTIMEZONE
TZID:America/Los_Angeles
BEGIN:DAYLIGHT
TZOFFSETFROM:-0800
TZOFFSETTO:-0700
TZNAME:PDT
DTSTART:20180311T100000
END:DAYLIGHT
BEGIN:STANDARD
TZOFFSETFROM:-0700
TZOFFSETTO:-0800
TZNAME:PST
DTSTART:20181104T090000
END:STANDARD
BEGIN:DAYLIGHT
TZOFFSETFROM:-0800
TZOFFSETTO:-0700
TZNAME:PDT
DTSTART:20190310T100000
END:DAYLIGHT
BEGIN:STANDARD
TZOFFSETFROM:-0700
TZOFFSETTO:-0800
TZNAME:PST
DTSTART:20191103T090000
END:STANDARD
BEGIN:DAYLIGHT
TZOFFSETFROM:-0800
TZOFFSETTO:-0700
TZNAME:PDT
DTSTART:20200308T100000
END:DAYLIGHT
BEGIN:STANDARD
TZOFFSETFROM:-0700
TZOFFSETTO:-0800
TZNAME:PST
DTSTART:20201101T090000
END:STANDARD
END:VTIMEZONE
BEGIN:VEVENT
DTSTART;VALUE=DATE:20190329
DTEND;VALUE=DATE:20190330
DTSTAMP:20260422T161938
CREATED:20190307T001900Z
LAST-MODIFIED:20230503T200826Z
UID:10001301-1553850000-1553860800@envirocenter.org
SUMMARY:KPOV Spring Break Youth Radio Camp
DESCRIPTION:Do you know an aspiring DJ between the ages of 10-14? Are you or your children looking for a fun and creative way to spend spring break. If so\, KPOV’s Spring Break Youth Radio Camp is just for them. \nThis camp teaches our community’s youth how to DJ\, interview friends\, talk live on the air as well as tell stories with sound effects\, music\, and humor. What’s more\, KPOV will help this group produce a one-hour radio show that will be broadcast on KPOV\, 88.9 FM. Students will even be able to take home a copy to share with friends and family. \nThe Camp takes place March 25 – 29\, from 9 a.m. to noon at the KPOV studios in downtown Bend\, and is for youth ages 10-14. \nBend Parks and Recreation partners with KPOV to produce Youth Radio Camp. Registration is available on the Bend Parks and Recreation website. (Do a word search for KPOV.)
URL:https://envirocenter.org/event/kpov-spring-break-youth-radio-camp-2019-03-25/
LOCATION:Deschutes Brewery Public House\, 1044 NW Bond St\, Bend\, OR\, 97701\, United States
GEO:44.0593984;-121.3113079
X-APPLE-STRUCTURED-LOCATION;VALUE=URI;X-ADDRESS=Deschutes Brewery Public House 1044 NW Bond St Bend OR 97701 United States;X-APPLE-RADIUS=500;X-TITLE=1044 NW Bond St:geo:-121.3113079,44.0593984
END:VEVENT
BEGIN:VEVENT
DTSTART;VALUE=DATE:20190329
DTEND;VALUE=DATE:20190330
DTSTAMP:20260422T161938
CREATED:20190227T010215Z
LAST-MODIFIED:20230503T200822Z
UID:10003118-1553853600-1553859000@envirocenter.org
SUMMARY:Spring Break Family Field Day
DESCRIPTION:Fridays are for family time! Grab the kids and join a naturalist as we become nature detectives! Every animal that moves through the world leaves clues behind. Together we’ll explore the outdoors as we learn to identify and investigate signs of wildlife\, including the owls\, porcupines and other hidden animals that call Sunriver home. Children ages 3 and up accompanied by an adult. \nRegistration: $20 for the first child\, $10 for each additional child. Accompanying adults are included in price. \nAnd be sure to check out SNCO’s daily spring break camps!\nMarch 25 – March 28 | 10am – 12pm
URL:https://envirocenter.org/event/spring-break-family-field-day/
LOCATION:Deschutes Brewery Public House\, 1044 NW Bond St\, Bend\, OR\, 97701\, United States
GEO:44.0593984;-121.3113079
X-APPLE-STRUCTURED-LOCATION;VALUE=URI;X-ADDRESS=Deschutes Brewery Public House 1044 NW Bond St Bend OR 97701 United States;X-APPLE-RADIUS=500;X-TITLE=1044 NW Bond St:geo:-121.3113079,44.0593984
END:VEVENT
END:VCALENDAR