BEGIN:VCALENDAR
VERSION:2.0
PRODID:-//The Environmental Center - ECPv6.15.20//NONSGML v1.0//EN
CALSCALE:GREGORIAN
METHOD:PUBLISH
X-ORIGINAL-URL:https://envirocenter.org
X-WR-CALDESC:Events for The Environmental Center
REFRESH-INTERVAL;VALUE=DURATION:PT1H
X-Robots-Tag:noindex
X-PUBLISHED-TTL:PT1H
BEGIN:VTIMEZONE
TZID:America/Los_Angeles
BEGIN:DAYLIGHT
TZOFFSETFROM:-0800
TZOFFSETTO:-0700
TZNAME:PDT
DTSTART:20180311T100000
END:DAYLIGHT
BEGIN:STANDARD
TZOFFSETFROM:-0700
TZOFFSETTO:-0800
TZNAME:PST
DTSTART:20181104T090000
END:STANDARD
BEGIN:DAYLIGHT
TZOFFSETFROM:-0800
TZOFFSETTO:-0700
TZNAME:PDT
DTSTART:20190310T100000
END:DAYLIGHT
BEGIN:STANDARD
TZOFFSETFROM:-0700
TZOFFSETTO:-0800
TZNAME:PST
DTSTART:20191103T090000
END:STANDARD
BEGIN:DAYLIGHT
TZOFFSETFROM:-0800
TZOFFSETTO:-0700
TZNAME:PDT
DTSTART:20200308T100000
END:DAYLIGHT
BEGIN:STANDARD
TZOFFSETFROM:-0700
TZOFFSETTO:-0800
TZNAME:PST
DTSTART:20201101T090000
END:STANDARD
END:VTIMEZONE
BEGIN:VEVENT
DTSTART;TZID=America/Los_Angeles:20190227T183000
DTEND;TZID=America/Los_Angeles:20190227T203000
DTSTAMP:20260422T191108
CREATED:20190218T170625Z
LAST-MODIFIED:20190218T170625Z
UID:10003110-1551292200-1551299400@envirocenter.org
SUMMARY:InFARMation (and Beer!)
DESCRIPTION:Land\, Soil\, Water\, and Farmers: The Future of Sustainable Agriculture in Central Oregon\nWhat does it mean to be farming in the midst of climate change? Can agriculture be a part of the solution? What is the community’s role in building a sustainable food system in Oregon? InFARMation (& Beer!) tackles these questions and more! Join Friends of Family Farmers (FoFF) and Jackson’s Corner for a fun and informative night of panelists and experts in sustainable agriculture as they address land access\, soil health\, agritourism\, and more. FoFF will also be presenting on ways that you can be involved in our work on behalf of family farmers and how you can help shape your local food systems. \nPanelists for the first series event “Land\, Soil\, Water\, and Farmers inFARMation” includes: \n\nLinda Anspach\, owner and rancher at DD Ranch in Terrebonne\nCarys Wilkins\, owner and farmer at Mahonia Gardens in Sisters\nClare Sullivan\, agronomist and Small Farms and Community Food Systems at OSU Extension\n\nInFARMation is an educational and community building event series created by FoFF that has taken place in locations throughout Oregon since 2009. These events connect eaters and farmers around the most important issues impacting healthy local food systems and socially responsible agriculture in Oregon. The events are always free to attend.
URL:https://envirocenter.org/event/infarmation-and-beer/
LOCATION:Jackson’s Corner – East\, 1500 NE Cushings Dr. #100\, Bend\, OR\, 97701\, United States
ATTACH;FMTTYPE=image/png:https://envirocenter.org/wp-content/uploads/2019/02/InFARM2019_CentralOregon_FBbanner-e1550509574200.png
ORGANIZER;CN="Friends of Family Farmers":MAILTO:beth@friendsoffamilyfarmers.org
GEO:44.0648667;-121.2653143
X-APPLE-STRUCTURED-LOCATION;VALUE=URI;X-ADDRESS=Jackson’s Corner – East 1500 NE Cushings Dr. #100 Bend OR 97701 United States;X-APPLE-RADIUS=500;X-TITLE=1500 NE Cushings Dr. #100:geo:-121.2653143,44.0648667
END:VEVENT
BEGIN:VEVENT
DTSTART;VALUE=DATE:20190227
DTEND;VALUE=DATE:20190228
DTSTAMP:20260422T191108
CREATED:20190130T062327Z
LAST-MODIFIED:20230503T200816Z
UID:10001283-1551294000-1551299400@envirocenter.org
SUMMARY:[CANCELLED] Nature Night: Recreation for Everyone
DESCRIPTION:This event has been canceled due to snow and will be rescheduled.  \nPhoto: Tyler Roemer \nAs the second in its winter Nature Nights series\, the Land Trust is offering a free presentation on the impacts of outdoor recreation. \nRecent surveys show that over half of all Americans participate in some form of outdoor recreation. However\, despite public lands being for everyone\, the demographics of outdoor recreationists do not often reflect the diversity that we see in our country. Join Dr. Ashley D’Antonio as we discuss who is recreating on our public lands\, who is missing from these outdoor spaces\, and what science can\, and can’t\, tell us about issues of diversity\, equity\, and inclusion in outdoor recreation. The talk will highlight some of the great work being done in the Pacific Northwest\, and around the United States\, to promote inclusivity and diversity in the outdoors and suggest ways that you can get involved. \nThis presentation is free\, but you must get your ticket online.
URL:https://envirocenter.org/event/nature-night-recreation-for-everyone/
LOCATION:Deschutes Brewery Public House\, 1044 NW Bond St\, Bend\, OR\, 97701\, United States
GEO:44.0593984;-121.3113079
X-APPLE-STRUCTURED-LOCATION;VALUE=URI;X-ADDRESS=Deschutes Brewery Public House 1044 NW Bond St Bend OR 97701 United States;X-APPLE-RADIUS=500;X-TITLE=1044 NW Bond St:geo:-121.3113079,44.0593984
END:VEVENT
END:VCALENDAR